Workbook

Sheet Quantidade de Cargo
A1: QUANTIDADE DE POSTO POR DEPARTAMENTO/SETOR
A2: CARGO | B2: QUANTIDADE DE EMPREGADOS | R2: Total por Cargo
B3: Controladoria Geral - CONTROL | C3: Corregedoria de Processos Éticos | D3: Departamento de Administração e Gestão de Pessoal - DAGEPE | E3: Departamento Contábil - DECON | F3: Departamento de Fiscalização - DEFIS | G3: Departamento de Registro e Cadastro - DRC | H3: Departamento Financeiro - DEFIN | I3: Procuradoria Geral - PROGER | J3: Secretaria Executiva - SECEX | K3: Setor de Arquivo e Protocolo | L3: Setor de Comunicação - SECOM | M3: Setor de Divida Ativa | N3: Setor de Licitações e Contratos - SELIC | O3: Setor de Negociação | P3: Setor de Ouvidoria | Q3: Setor de Tecnologia de Informação - STI
A4: Analista de Departamento Pessoal | B4: - | C4: - | D4: 1 | E4: - | F4: - | G4: - | H4: - | I4: - | J4: - | K4: - | L4: - | M4: - | N4: - | O4: - | P4: - | Q4: - | R4: =ROUND(SUM(B4:Q4),2) -> 1
A5: Analista Jurídico | B5: - | C5: - | D5: - | E5: - | F5: - | G5: - | H5: - | I5: 2 | J5: - | K5: - | L5: - | M5: - | N5: - | O5: - | P5: - | Q5: - | R5: =ROUND(SUM(B5:Q5),2) -> 2
A6: Arquivista | B6: - | C6: - | D6: - | E6: - | F6: - | G6: - | H6: - | I6: - | J6: - | K6: 1 | L6: - | M6: - | N6: - | O6: - | P6: - | Q6: - | R6: =ROUND(SUM(B6:Q6),2) -> 1
A7: Assistente Administrativo I | B7: - | C7: 1 | D7: - | E7: - | F7: - | G7: 6 | H7: - | I7: - | J7: 2 | K7: 2 | L7: - | M7: 1 | N7: 1 | O7: 2 | P7: 1 | Q7: - | R7: =ROUND(SUM(B7:Q7),2) -> 16
A8: Assistente Administrativo II | B8: 3 | C8: - | D8: 2 | E8: - | F8: 1 | G8: 1 | H8: 1 | I8: - | J8: 1 | K8: - | L8: - | M8: 1 | N8: 1 | O8: - | P8: - | Q8: - | R8: =ROUND(SUM(B8:Q8),2) -> 11
A9: Assistente Contábil II | B9: - | C9: - | D9: - | E9: 1 | F9: - | G9: - | H9: - | I9: - | J9: - | K9: - | L9: - | M9: - | N9: - | O9: - | P9: - | Q9: - | R9: =ROUND(SUM(B9:Q9),2) -> 1
A10: Assistente de Comunicação | B10: - | C10: - | D10: - | E10: - | F10: - | G10: - | H10: - | I10: - | J10: - | K10: - | L10: 1 | M10: - | N10: - | O10: - | P10: - | Q10: - | R10: =ROUND(SUM(B10:Q10),2) -> 1
A11: Assistente Financeiro I | B11: - | C11: - | D11: - | E11: - | F11: - | G11: - | H11: 1 | I11: - | J11: - | K11: - | L11: - | M11: - | N11: - | O11: - | P11: - | Q11: - | R11: =ROUND(SUM(B11:Q11),2) -> 1
A12: Copeiro II | B12: - | C12: - | D12: 1 | E12: - | F12: - | G12: - | H12: - | I12: - | J12: - | K12: - | L12: - | M12: - | N12: - | O12: - | P12: - | Q12: - | R12: =ROUND(SUM(B12:Q12),2) -> 1
A13: Designer Gráfico | B13: - | C13: - | D13: - | E13: - | F13: - | G13: - | H13: - | I13: - | J13: - | K13: - | L13: 1 | M13: - | N13: - | O13: - | P13: - | Q13: - | R13: =ROUND(SUM(B13:Q13),2) -> 1
A14: Motorista | B14: - | C14: - | D14: - | E14: - | F14: - | G14: - | H14: - | I14: - | J14: 2 | K14: - | L14: - | M14: - | N14: - | O14: - | P14: - | Q14: - | R14: =ROUND(SUM(B14:Q14),2) -> 2
A15: Oficial de Manutenção | B15: - | C15: - | D15: 1 | E15: - | F15: - | G15: - | H15: - | I15: - | J15: - | K15: - | L15: - | M15: - | N15: - | O15: - | P15: - | Q15: - | R15: =ROUND(SUM(B15:Q15),2) -> 1
A16: Técnico de Suporte I | B16: - | C16: - | D16: - | E16: - | F16: - | G16: - | H16: - | I16: - | J16: - | K16: - | L16: - | M16: - | N16: - | O16: - | P16: - | Q16: 1 | R16: =ROUND(SUM(B16:Q16),2) -> 1
A17: Técnico de Suporte II | B17: - | C17: - | D17: - | E17: - | F17: - | G17: - | H17: - | I17: - | J17: - | K17: - | L17: - | M17: - | N17: - | O17: - | P17: - | Q17: 1 | R17: =ROUND(SUM(B17:Q17),2) -> 1
A18: Total por Setor/Departamento | B18: =ROUND(SUM(B4:B15),2) -> 3 | C18: =ROUND(SUM(C4:C15),2) -> 1 | D18: =ROUND(SUM(D4:D15),2) -> 5 | E18: =ROUND(SUM(E4:E15),2) -> 1 | F18: =ROUND(SUM(F4:F15),2) -> 1 | G18: =ROUND(SUM(G4:G15),2) -> 7 | H18: =ROUND(SUM(H4:H15),2) -> 2 | I18: =ROUND(SUM(I4:I15),2) -> 2 | ... Q18: =ROUND(SUM(Q4:Q15),2) -> 0 | R18: =ROUND(SUM(R4:R17),2) -> 41
A21: QUANTIDADE DE CARGOS POR ESCOLARIDADE
A22: CARGO | B22: QUANTIDADE DE EMPREGADOS | E22: Total por Cargo
B23: Nível Fundamental | C23: Nível Médio | D23: Nível Superior
A24: Analista de Departamento Pessoal | B24: - | C24: - | D24: 1 | E24: =ROUND(SUM(B24:D24),2) -> 1
A25: Analista Jurídico | B25: - | C25: - | D25: 2 | E25: =ROUND(SUM(B25:D25),2) -> 2
A26: Arquivista | B26: - | C26: - | D26: 1 | E26: =ROUND(SUM(B26:D26),2) -> 1
A27: Assistente Administrativo I | B27: - | C27: 16 | D27: - | E27: =ROUND(SUM(B27:D27),2) -> 16
A28: Assistente Administrativo II | C28: - | D28: 11 | E28: =ROUND(SUM(B28:D28),2) -> 11
A29: Assistente Contábil II | B29: - | C29: - | D29: 1 | E29: =ROUND(SUM(B29:D29),2) -> 1
A30: Assistente de Comunicação | B30: - | C30: - | D30: 1 | E30: =ROUND(SUM(B30:D30),2) -> 1
A31: Assistente Financeiro I | B31: - | C31: 1 | D31: - | E31: =ROUND(SUM(B31:D31),2) -> 1
A32: Copeiro II | B32: 1 | C32: - | E32: =ROUND(SUM(B32:D32),2) -> 1
A33: Designer Gráfico | B33: - | C33: - | D33: 1 | E33: =ROUND(SUM(B33:D33),2) -> 1
A34: Motorista | B34: - | C34: 2 | D34: - | E34: =ROUND(SUM(B34:D34),2) -> 2
A35: Oficial de Manutenção | B35: 1 | C35: - | D35: - | E35: =ROUND(SUM(B35:D35),2) -> 1
A36: Técnico de Suporte I | B36: - | C36: 1 | D36: - | E36: =ROUND(SUM(B36:D36),2) -> 1
A37: Técnico de Suporte II | B37: - | C37: - | D37: 1 | E37: =ROUND(SUM(B37:D37),2) -> 1
A38: Total por Escolaridade | B38: =ROUND(SUM(B24:B35),2) -> 2 | C38: =ROUND(SUM(C24:C35),2) -> 19 | D38: =ROUND(SUM(D24:D35),2) -> 18 | E38: =ROUND(SUM(E24:E37),2) -> 41

Sheet Modelo de Proposta
A1: Licitação: | C1: Pregão Eletrônico - COREN/AM nº XXX/20XX
A2: Nome de Fantasia:
A3: Razão Social:
A4: CNPJ: | F4: Optante pelo Simples:
A5: Endereço:
A6: Bairro: | F6: Cidade:
A7: CEP: | F7: E-mail:
A8: Telefone: | F8: Fax:
A9: Banco: | E9: Nome do Favorecido:
A10: Nº da agência bancária: | E10: Conta Bancária: | H10: Tipo de Conta:
A12: 1. OBJETO
A13: 1.1. Contratação de pessoa jurídica especializada para prestação, de forma contínua, de serviços terceirizados acessórios e complementares de suporte e apoio nas áreas administrativas, jurídicas, comunicação, tecnologia da informação e complementar, com dedicação exclusiva de mão de obra, na sede do Conselho Regional de Enfermagem do Amazonas, localizados na cidade de Manaus, estado do Amazonas, conforme condições, quantidades e exigências estabelecidas no Pregão Eletrônico nº __/20__.
A15: 2. PLANILHA DE PREÇOS
A16: 2.1. Apresentar planilha descritiva com marca, valores unitários, total, junto com total geral do grupo, conforme descrito no Termo de Referência - Anexo I do Edital.
A18: Item Único
A19: Item | B19: Descrição | F19: Valor Mensal (R$) | H19: Valor Anual (R$)
A20: 1 | B20: Mão de obra | F20: ='Quadro de Resumo dos Custos'!F27:H27 -> 231223.67 | H20: ='Quadro de Resumo dos Custos'!F28:F28 -> 2774684
A21: Vlr. Global (R$) | H21: =ROUND(SUM(H20:I20),2) -> 2774684
A23: • Validade da Proposta: ___ (_______) dias, observado o prazo mínimo de 60 (sessenta) dias.
A24: • Nos preços apresentados deverão incluir todos os custos com salários, horas extras, encargos sociais, transportes, uniformes, lucros, encargos fiscais e para-fiscais, despesas diretas e indiretas, bem como aquelas indispensáveis para execução do objeto.
A25: • Declaramos que os serviços aqui ofertados estão de acordo com as especificações do Termo de Referência da presente licitação.
A26: • Declaramos conhecer e nos submetemos integralmente a todas as cláusulas e condições do presente Edital e seus anexos.
A28: VALOR GLOBAL DA PROPOSTA: | D28: =H21 -> 2774684 | F28: (___________________________________________)
E31: (Local)/(UF) | G31: =TODAY() -> 44823
A33: ASSINATURA:
C34: (Nome de Responsavel Legal)
C35: Responsavel Legal

Sheet Salario Base
A1: SALARIO MÉDIO
A2: LEGISLAÇÃO | B2: DA INSTRUÇÃO NORMATIVA Nº 5, DE 26 DE MAIO DE 2017 Art. 5º É vedado à Administração ou aos seus servidores praticar atos de ingerência na administração da contratada, a exemplo de: (...) VI - definir o valor da remuneração dos trabalhadores da empresa contratada para prestar os serviços, salvo nos casos específicos em que se necessitam de profissionais com habilitação/experiência superior a daqueles que, no mercado, são remunerados pelo piso salarial da categoria, desde que justificadamente; ANEXO I - DEFINIÇÕES XXII - SALÁRIO: valor a ser efetivamente pago ao profissional envolvido diretamente na execução contratual, não podendo ser inferior ao estabelecido em Acordo ou Convenção Coletiva, Sentença Normativa ou lei. Quando da inexistência destes, o valor poderá ser aquele praticado no mercado ou apurado em publicações ou pesquisas setoriais para a categoria profissional correspondente.
A3: JURISPRUDENCIA DO TRIBUNAL DE CONTAS DA UNIÃO (TCU) | B3: Acórdão 5279/2020 Primeira Câmara (Representação, Relator Ministro Walton Alencar Rodrigues) É possível exigir piso salarial mínimo acima daquele estabelecido em convenção coletiva de trabalho, desde que o gestor comprove que os patamares fixados no edital da licitação são compatíveis com os preços pagos pelo mercado para serviços com tarefas de complexidade similar.
B4: Acórdão 2101/2020 Plenário (Pedido de Reexame, Relator Ministro Augusto Nardes) Admite-se, na contratação por postos de serviço, a fixação de salários em valores superiores aos pisos estabelecidos em convenções coletivas de trabalho, desde que observados os seguintes requisitos: i) justificativa técnica de que os serviços demandam, por suas características e particularidades, a execução por profissional com nível de qualificação acima da média; e ii) realização de pesquisa de preços demonstrando a compatibilidade com os valores de mercado para contratações similares, ou seja, comprovação de que no mercado existe tal distinção salarial em função da qualificação do trabalhador.
B5: Acórdão 1097/2019 Plenário (Representação, Relator Ministro Bruno Dantas) Admite-se, na contratação por postos de serviço, a fixação de salários em valores superiores aos pisos estabelecidos em convenções coletivas de trabalho, desde que observados os seguintes requisitos: i) justificativa técnica de que os serviços demandam, por suas características e particularidades, a execução por profissional com nível de qualificação acima da média; e ii) realização de pesquisa de preços demonstrando a compatibilidade com os valores de mercado para contratações similares, ou seja, comprovação de que no mercado existe tal distinção salarial em função da qualificação do trabalhador.
A6: Categoria Profissional | B6: CBO | C6: SALARIO.COM.BR | D6: CCT AM000546/2021 | E6: CCT - AM000038/2022 | F6: CCT - AM000248/2022
A7: ='Quantidade de Cargo'!A4 -> Analista de Departamento Pessoal | B7: 4131-05 | C7: - | D7: 3053.88 | E7: - | F7: -
A8: ='Quantidade de Cargo'!A5 -> Analista Jurídico | B8: 2410-05 | C8: 3268.45 | D8: - | E8: - | F8: -
A9: ='Quantidade de Cargo'!A6 -> Arquivista | B9: 2613-05 | C9: 2418.58 | D9: - | E9: - | F9: -
A10: ='Quantidade de Cargo'!A7 -> Assistente Administrativo I | B10: 4110-10 | C10: - | D10: 1560.18 | E10: - | F10: -
A11: ='Quantidade de Cargo'!A8 -> Assistente Administrativo II | B11: 4110-10 | C11: - | D11: 2700.5 | E11: - | F11: -
A12: ='Quantidade de Cargo'!A9 -> Assistente Contábil II | B12: 4131-10 | C12: - | D12: 2700.5 | E12: - | F12: -
A13: ='Quantidade de Cargo'!A10 -> Assistente de Comunicação | B13: 1423-35 | C13: 2489.83 | D13: - | E13: - | F13: -
A14: ='Quantidade de Cargo'!A11 -> Assistente Financeiro I | B14: 4110-10 | C14: - | D14: 1560.18 | E14: - | F14: -
A15: ='Quantidade de Cargo'!A12 -> Copeiro II | B15: 5134-25 | C15: 1415.83 | D15: - | E15: - | F15: -
A16: ='Quantidade de Cargo'!A13 -> Designer Gráfico | B16: 2624-10 | C16: 2274.1 | D16: - | E16: - | F16: -
A17: ='Quantidade de Cargo'!A14 -> Motorista | B17: 7823-05 | C17: - | D17: - | E17: - | F17: 1669.04
A18: ='Quantidade de Cargo'!A15 -> Oficial de Manutenção | B18: 5143-25 | C18: - | D18: - | E18: 2498.52 | F18: -
A19: ='Quantidade de Cargo'!A16 -> Técnico de Suporte I | B19: 3172-10 | C19: - | D19: 2832.23 | E19: - | F19: -
A20: ='Quantidade de Cargo'!A17 -> Técnico de Suporte II | B20: 3172-10 | C20: - | D20: 3525.62 | E20: - | F20: -

Sheet Quantidade de Hora-Extra
A1: HORA-EXTRA ESTIMADA POR ANO
A2: LEGISLAÇÃO | B2: DECRETO-LEI Nº 5.452, DE 1º DE MAIO DE 1943 Art. 59. A duração diária do trabalho poderá ser acrescida de horas extras, em número não excedente de duas, por acordo individual, convenção coletiva ou acordo coletivo de trabalho.
A3: Cargo | B3: Quantidade de Posto | C3: Quantidade de Hora Extra Anual de 50% Por Posto | D3: Quantidade de Hora Extra Anual de 100% Por Posto | E3: Quantidade Total de Hora Extra Anual Por Posto | F3: Quantidade Total de Hora Extra Anual Por Cargo
A4: ='Salario Base'!A15 -> Copeiro II | B4: 1 | C4: 84 | D4: 36 | E4: =ROUND(SUM(C4:D4),2) -> 120 | F4: =ROUND(B4*E4,2) -> 120
A5: ='Salario Base'!A17 -> Motorista | B5: 2 | C5: 21 | D5: 9 | E5: =ROUND(SUM(C5:D5),2) -> 30 | F5: =ROUND(B5*E5,2) -> 60
A6: ='Salario Base'!A18 -> Oficial de Manutenção | B6: 1 | C6: 21 | D6: 9 | E6: =ROUND(SUM(C6:D6),2) -> 30 | F6: =ROUND(B6*E6,2) -> 30
A7: ='Salario Base'!A19 -> Técnico de Suporte I | B7: 1 | C7: 40 | D7: 4 | E7: =ROUND(SUM(C7:D7),2) -> 44 | F7: =ROUND(B7*E7,2) -> 44
A8: ='Salario Base'!A20 -> Técnico de Suporte II | B8: 2 | C8: 40 | D8: 4 | E8: =ROUND(SUM(C8:D8),2) -> 44 | F8: =ROUND(B8*E8,2) -> 88
A9: Total | B9: =ROUND(SUM(B3:B8),2) -> 7 | C9: =ROUND(SUM(C3:C8),2) -> 206 | D9: =ROUND(SUM(D3:D8),2) -> 62 | E9: =ROUND(SUM(E3:E8),2) -> 268 | F9: =ROUND(SUM(F3:F8),2) -> 342

Sheet Dados de Passagens e Diarias
A1: PASSAGENS ESTIMADAS | D1: DIARIAS ESTIMADAS
A2: Departamento/Setor | B2: QUANTIDADE ANUAL | D2: Departamento/Setor | E2: QUANTIDADE ANUAL
A3: SECOM | B3: 6 | D3: SECEX | E3: 50
A4: Total | B4: =ROUND(SUM(B3:B3),2) -> 6 | D4: SECOM | E4: 15
D5: Total | E5: =ROUND(SUM(E3:E4),2) -> 65

Sheet Quadro de Resumo dos Custos
A1: QUADRO DE RESUMO DOS CUSTOS
A2: 1.0 | B2: Mão de Obra
A3: Subitem | B3: Cargo | D3: Nº de Posto (a) | E3: Vlr. Unitário por Empregado R$ (b) | F3: Vlr. Mensal R$ (c = a x b) | G3: Vlr. Anual R$ (d = c x 12 meses) | H3: Vlr. Bienal R$ (e = d x 2 anos)
A4: 1.1. | B4: ='Quantidade de Cargo'!A4 -> Analista de Departamento Pessoal | D4: ='Quantidade de Cargo'!E24 -> 1 | E4: ='A. Departamento Pessoal'!D92 -> 7557.04 | F4: =ROUND(D4*E4,2) -> 7557.04 | G4: =ROUND(F4*12,2) -> 90684.48 | H4: =ROUND(G4*2,2) -> 181368.96
A5: 1.2. | B5: ='Quantidade de Cargo'!A5 -> Analista Jurídico | D5: ='Quantidade de Cargo'!E25 -> 2 | E5: ='A. Jurídico'!D92 -> 8056.33 | F5: =ROUND(D5*E5,2) -> 16112.66 | G5: =ROUND(F5*12,2) -> 193351.92 | H5: =ROUND(G5*2,2) -> 386703.84
A6: 1.3. | B6: ='Quantidade de Cargo'!A6 -> Arquivista | D6: ='Quantidade de Cargo'!E26 -> 1 | E6: =Arquivista!D92 -> 5980.74 | F6: =ROUND(D6*E6,2) -> 5980.74 | G6: =ROUND(F6*12,2) -> 71768.88 | H6: =ROUND(G6*2,2) -> 143537.76
A7: 1.4. | B7: ='Quantidade de Cargo'!A7 -> Assistente Administrativo I | D7: ='Quantidade de Cargo'!E27 -> 16 | E7: ='Assist. Administrativo I'!D92 -> 4162.58 | F7: =ROUND(D7*E7,2) -> 66601.28 | G7: =ROUND(F7*12,2) -> 799215.36 | H7: =ROUND(G7*2,2) -> 1598430.7
A8: 1.5. | B8: ='Quantidade de Cargo'!A8 -> Assistente Administrativo II | D8: ='Quantidade de Cargo'!E28 -> 11 | E8: ='Assist. Administrativo II'!D92 -> 6577.87 | F8: =ROUND(D8*E8,2) -> 72356.57 | G8: =ROUND(F8*12,2) -> 868278.84 | H8: =ROUND(G8*2,2) -> 1736557.7
A9: 1.6. | B9: ='Quantidade de Cargo'!A9 -> Assistente Contábil II | D9: ='Quantidade de Cargo'!E29 -> 1 | E9: ='Assist. Contábil II'!D92 -> 6577.87 | F9: =ROUND(D9*E9,2) -> 6577.87 | G9: =ROUND(F9*12,2) -> 78934.44 | H9: =ROUND(G9*2,2) -> 157868.88
A10: 1.7. | B10: ='Quantidade de Cargo'!A10 -> Assistente de Comunicação | D10: ='Quantidade de Cargo'!E30 -> 1 | E10: ='Assist. Comunicação'!D92 -> 6131.65 | F10: =ROUND(D10*E10,2) -> 6131.65 | G10: =ROUND(F10*12,2) -> 73579.8 | H10: =ROUND(G10*2,2) -> 147159.6
A11: 1.8. | B11: ='Quantidade de Cargo'!A11 -> Assistente Financeiro I | D11: ='Quantidade de Cargo'!E31 -> 1 | E11: ='Assist. Financeiro I'!D92 -> 4162.58 | F11: =ROUND(D11*E11,2) -> 4162.58 | G11: =ROUND(F11*12,2) -> 49950.96 | H11: =ROUND(G11*2,2) -> 99901.92
A12: 1.9. | B12: ='Quantidade de Cargo'!A12 -> Copeiro II | D12: ='Quantidade de Cargo'!E32 -> 1 | E12: ='Copeiro II'!D92 -> 3901.07 | F12: =ROUND(D12*E12,2) -> 3901.07 | G12: =ROUND(F12*12,2) -> 46812.84 | H12: =ROUND(G12*2,2) -> 93625.68
A13: 1.10. | B13: ='Quantidade de Cargo'!A13 -> Designer Gráfico | D13: ='Quantidade de Cargo'!E33 -> 1 | E13: ='Designer Gráfico'!D92 -> 5674.68 | F13: =ROUND(D13*E13,2) -> 5674.68 | G13: =ROUND(F13*12,2) -> 68096.16 | H13: =ROUND(G13*2,2) -> 136192.32
A14: 1.11. | B14: ='Quantidade de Cargo'!A14 -> Motorista | D14: ='Quantidade de Cargo'!E34 -> 2 | E14: =Motorista!D92 -> 5201.93 | F14: =ROUND(D14*E14,2) -> 10403.86 | G14: =ROUND(F14*12,2) -> 124846.32 | H14: =ROUND(G14*2,2) -> 249692.64
A15: 1.12. | B15: ='Quantidade de Cargo'!A15 -> Oficial de Manutenção | D15: ='Quantidade de Cargo'!E35 -> 1 | E15: ='Oficial de Manutenção'!D92 -> 6828.12 | F15: =ROUND(D15*E15,2) -> 6828.12 | G15: =ROUND(F15*12,2) -> 81937.44 | H15: =ROUND(G15*2,2) -> 163874.88
A16: 1.13. | B16: ='Quantidade de Cargo'!A16 -> Técnico de Suporte I | D16: ='Quantidade de Cargo'!E36 -> 1 | E16: ='Técnico de Suporte I'!D92 -> 7070.79 | F16: =ROUND(D16*E16,2) -> 7070.79 | G16: =ROUND(F16*12,2) -> 84849.48 | H16: =ROUND(G16*2,2) -> 169698.96
A17: 1.14. | B17: ='Quantidade de Cargo'!A17 -> Técnico de Suporte II | D17: ='Quantidade de Cargo'!E37 -> 1 | E17: ='Técnico de Suporte II'!D92 -> 8591.81 | F17: =ROUND(D17*E17,2) -> 8591.81 | G17: =ROUND(F17*12,2) -> 103101.72 | H17: =ROUND(G17*2,2) -> 206203.44
A18: Subtotal Item 1.0 (∑ dos subitens do item 1) R$ → | D18: =ROUND(SUM(D4:D17),2) -> 41 | E18: =ROUND(SUM(E4:E17),2) -> 86475.06 | F18: =ROUND(SUM(F4:F17),2) -> 227950.72 | G18: =ROUND(SUM(G4:G17),2) -> 2735408.6 | H18: =ROUND(SUM(H4:H17),2) -> 5470817.3
A20: 2.0 | B20: Custo por Demanda | F20: Vlr. Mensal R$ (f) | G20: Vlr. Anual R$ (g = f x 12 meses) | H20: Vlr. Bienal R$ (h = g x 2 anos)
A21: 2.1. | B21: Horas Extras | F21: ='Previsão de Hora-Extra'!F21 -> 747.98 | G21: =ROUND(F21*12,2) -> 8975.76 | H21: =ROUND(G21*2,2) -> 17951.52
A22: 2.2. | B22: Passagens | F22: =Passagens!F29 -> 730.16 | G22: =ROUND(F22*12,2) -> 8761.92 | H22: =ROUND(G22*2,2) -> 17523.84
A23: 2.3. | B23: Diárias | F23: =Diarias!F29 -> 1794.81 | G23: =ROUND(F23*12,2) -> 21537.72 | H23: =ROUND(G23*2,2) -> 43075.44
A24: Subtotal Item 2.0 R$ → | F24: =ROUND(SUM(F21:F23),2) -> 3272.95 | G24: =ROUND(SUM(G21:G23),2) -> 39275.4 | H24: =ROUND(SUM(H21:H23),2) -> 78550.8
A26: TOTAIS DO CONTRATO - MÃO DE OBRA + CUSTO POR DEMANDA
A27: TOTAL MENSAL (Item 1 + Item 2) R$ → | F27: =ROUND(F18+F24,2) -> 231223.67
A28: TOTAL ANUAL (Total Mensal X 12 Meses) R$ → | F28: =ROUND(F27*12,2) -> 2774684
A29: TOTAL BIANUAL (Total Mensal X 24 Meses) R$ → | F29: =ROUND(F27*24,2) -> 5549368.1
F32: =TODAY() -> 44823
A35: Elaborado por:
D36: RESPONSAVEL LEGAL

Sheet A. Departamento Pessoal
A1: PLANILHA ORÇAMENTÁRIA DE REFERÊNCIA DE FORMAÇÃO DE CUSTO DE MÃO DE OBRA
A2: Tipo de serviço: | B2: ='Quantidade de Cargo'!A4 -> Analista de Departamento Pessoal
A3: CBO: | B3: ='Salario Base'!B7 -> 4131-05
A4: Unidade de medida: | B4: Posto
A5: Quantidade total a contratar (em função da unidade de medida): | B5: 1
A6: Convenção Coletiva de Trabalho/Acordo/ Dissídio Coletivo de Trabalho: | B6: Convenção Coletiva de Trabalho (CCT) - Nº Registro no MTE: AM000546/2021 - Nº Processo: 13621.120880/2021-15 - Nº Solicitação: MR069260/2020
A8: MÃO DE OBRA VINCULADA À EXECUÇÃO CONTRATUAL
A9: SEÇÃO I - COMPOSIÇÃO DA REMUNERAÇÃO (R$)
A10: Composição da Remuneração | C10: % | D10: Valor (R$)
A11: Salário Base | C11: - | D11: ='Salario Base'!D7 -> 3053.88
A12: Outros | D12: =C12*D11/100 -> 0
A13: TOTAL DA REMUNERAÇÃO (R$) | D13: =ROUND(SUM(D11:D12),2) -> 3053.88
A15: SEÇÃO II - ENCARGOS SOCIAIS INCIDENTES SOBRE A REMUNERAÇÃO (R$)
A16: GRUPO A - ENCARGOS | C16: % | D16: Valor (R$)
A17: A.01 SEGURIDADE SOCIAL | C17: 0.2 | D17: =ROUND($D$13*C17,2) -> 610.78
A18: A.02 FGTS | C18: 0.08 | D18: =ROUND($D$13*C18,2) -> 244.31
A19: A.03 SESI/SESC | C19: 0.015 | D19: =ROUND($D$13*C19,2) -> 45.81
A20: A.04 SENAI/SENAC | C20: 0.01 | D20: =ROUND($D$13*C20,2) -> 30.54
A21: A.05 INCRA | C21: 0.002 | D21: =ROUND($D$13*C21,2) -> 6.11
A22: A.06 SEBRAE | C22: 0.006 | D22: =ROUND($D$13*C22,2) -> 18.32
A23: A.07 Salário Educação | C23: 0.025 | D23: =ROUND($D$13*C23,2) -> 76.35
A24: A.08 Riscos Ambientais do Trabalho – RAT x FAP | C24: 0.04 | D24: =ROUND($D$13*C24,2) -> 122.16
A25: TOTAL - GRUPO A - ENCARGOS | C25: =ROUND(SUM(C17:C24),5) -> 0.378 | D25: =ROUND(SUM(D17:D24),2) -> 1154.38
A27: GRUPO B | C27: % | D27: Valor (R$)
A28: B.01 13º Salário | C28: =ROUND(1/12,5) -> 0.08333 | D28: =ROUND($D$13*C28,2) -> 254.48
A29: B.02 Férias (incluindo 1/3 constitucional) | C29: =ROUND((1/3)/12,5) -> 0.02778 | D29: =ROUND($D$13*C29,2) -> 84.84
A30: B.03 Aviso Prévio Trabalhado | C30: =ROUND((((100% / 30) * 7) / 12),5) -> 0.01944 | D30: =ROUND($D$13*C30,2) -> 59.37
A31: B.04 Auxílio Doença | C31: =ROUND((5/30)/12,5) -> 0.01389 | D31: =ROUND($D$13*C31,2) -> 42.42
A32: B.05 Acidente de Trabalho | C32: =ROUND(((15/30/12)*0.08),5) -> 0.00333 | D32: =ROUND($D$13*C32,2) -> 10.17
A33: B.06 Faltas Legais | C33: =ROUND((1/30)/12,5) -> 0.00278 | D33: =ROUND($D$13*C33,2) -> 8.49
A34: B.07 Férias sobre Licença Maternidade | C34: =ROUND(0.1111*0.02*0.333,5) -> 0.00074 | D34: =ROUND($D$13*C34,2) -> 2.26
A35: B.08 Licença Paternidade | C35: =ROUND(((5/30)/12)*0.015,5) -> 0.00021 | D35: =ROUND($D$13*C35,2) -> 0.64
A36: B.09 Férias adquiridas (não usufruídas) | C36: =ROUND(1/12,5) -> 0.08333 | D36: =ROUND($D$13*C36,2) -> 254.48
A37: TOTAL - GRUPO B | C37: =ROUND(SUM(C28:C36),5) -> 0.23483 | D37: =ROUND(SUM(D28:D36),2) -> 717.15
A39: GRUPO C | C39: % | D39: Valor (R$)
A40: C.01 Aviso Prévio Indenizado | C40: =ROUND(1/12*5%,5) -> 0.00417 | D40: =ROUND($D$13*C40,2) -> 12.73
A41: C.02 Indenização Adicional | C41: =ROUND(0.02*(1/12),5) -> 0.00167 | D41: =ROUND($D$13*C41,2) -> 5.1
A42: C.03 Indenização (rescisão sem justa causa – multa de 40% do FGTS) | C42: =ROUND(40%*8%,5) -> 0.032 | D42: =ROUND($D$13*C42,2) -> 97.72
A43: TOTAL - GRUPO C | C43: =ROUND(SUM(C40:C42),5) -> 0.03784 | D43: =ROUND(SUM(D40:D42),2) -> 115.55
A45: GRUPO D | C45: % | D45: Valor (R$)
...

Sheet A. Jurídico
A1: PLANILHA ORÇAMENTÁRIA DE REFERÊNCIA DE FORMAÇÃO DE CUSTO DE MÃO DE OBRA
A2: Tipo de serviço: | B2: ='Quantidade de Cargo'!A5 -> Analista Jurídico
A3: CBO: | B3: ='Salario Base'!B8 -> 2410-05
A4: Unidade de medida: | B4: Posto
A5: Quantidade total a contratar (em função da unidade de medida): | B5: 1
A6: Convenção Coletiva de Trabalho/Acordo/ Dissídio Coletivo de Trabalho: | B6: Salario.com.br c/c Convenção Coletiva de Trabalho (CCT) - Nº Registro no MTE: AM000546/2021 - Nº Processo: 13621.120880/2021-15 - Nº Solicitação: MR069260/2020
A8: MÃO DE OBRA VINCULADA À EXECUÇÃO CONTRATUAL
A9: SEÇÃO I - COMPOSIÇÃO DA REMUNERAÇÃO (R$)
A10: Composição da Remuneração | C10: % | D10: Valor (R$)
A11: Salário Base | C11: - | D11: ='Salario Base'!C8 -> 3268.45
A12: Outros | D12: =C12*D11/100 -> 0
A13: TOTAL DA REMUNERAÇÃO (R$) | D13: =ROUND(SUM(D11:D12),2) -> 3268.45
A15: SEÇÃO II - ENCARGOS SOCIAIS INCIDENTES SOBRE A REMUNERAÇÃO (R$)
A16: GRUPO A - ENCARGOS | C16: % | D16: Valor (R$)
A17: A.01 SEGURIDADE SOCIAL | C17: 0.2 | D17: =ROUND($D$13*C17,2) -> 653.69
A18: A.02 FGTS | C18: 0.08 | D18: =ROUND($D$13*C18,2) -> 261.48
A19: A.03 SESI/SESC | C19: 0.015 | D19: =ROUND($D$13*C19,2) -> 49.03
A20: A.04 SENAI/SENAC | C20: 0.01 | D20: =ROUND($D$13*C20,2) -> 32.68
A21: A.05 INCRA | C21: 0.002 | D21: =ROUND($D$13*C21,2) -> 6.54
A22: A.06 SEBRAE | C22: 0.006 | D22: =ROUND($D$13*C22,2) -> 19.61
A23: A.07 Salário Educação | C23: 0.025 | D23: =ROUND($D$13*C23,2) -> 81.71
A24: A.08 Riscos Ambientais do Trabalho – RAT x FAP | C24: 0.02 | D24: =ROUND($D$13*C24,2) -> 65.37
A25: TOTAL - GRUPO A - ENCARGOS | C25: =ROUND(SUM(C17:C24),5) -> 0.358 | D25: =ROUND(SUM(D17:D24),2) -> 1170.11
A27: GRUPO B | C27: % | D27: Valor (R$)
A28: B.01 13º Salário | C28: =ROUND(1/12,5) -> 0.08333 | D28: =ROUND($D$13*C28,2) -> 272.36
A29: B.02 Férias (incluindo 1/3 constitucional) | C29: =ROUND((1/3)/12,5) -> 0.02778 | D29: =ROUND($D$13*C29,2) -> 90.8
A30: B.03 Aviso Prévio Trabalhado | C30: =ROUND((((100% / 30) * 7) / 12),5) -> 0.01944 | D30: =ROUND($D$13*C30,2) -> 63.54
A31: B.04 Auxílio Doença | C31: =ROUND((5/30)/12,5) -> 0.01389 | D31: =ROUND($D$13*C31,2) -> 45.4
A32: B.05 Acidente de Trabalho | C32: =ROUND(((15/30/12)*0.08),5) -> 0.00333 | D32: =ROUND($D$13*C32,2) -> 10.88
A33: B.06 Faltas Legais | C33: =ROUND((1/30)/12,5) -> 0.00278 | D33: =ROUND($D$13*C33,2) -> 9.09
A34: B.07 Férias sobre Licença Maternidade | C34: =ROUND(0.1111*0.02*0.333,5) -> 0.00074 | D34: =ROUND($D$13*C34,2) -> 2.42
A35: B.08 Licença Paternidade | C35: =ROUND(((5/30)/12)*0.015,5) -> 0.00021 | D35: =ROUND($D$13*C35,2) -> 0.69
A36: B.09 Férias adquiridas (não usufruídas) | C36: =ROUND(1/12,5) -> 0.08333 | D36: =ROUND($D$13*C36,2) -> 272.36
A37: TOTAL - GRUPO B | C37: =ROUND(SUM(C28:C36),5) -> 0.23483 | D37: =ROUND(SUM(D28:D36),2) -> 767.54
A39: GRUPO C | C39: % | D39: Valor (R$)
A40: C.01 Aviso Prévio Indenizado | C40: =ROUND(1/12*5%,5) -> 0.00417 | D40: =ROUND($D$13*C40,2) -> 13.63
A41: C.02 Indenização Adicional | C41: =ROUND(0.02*(1/12),5) -> 0.00167 | D41: =ROUND($D$13*C41,2) -> 5.46
A42: C.03 Indenização (rescisão sem justa causa – multa de 40% do FGTS) | C42: =ROUND(40%*8%,5) -> 0.032 | D42: =ROUND($D$13*C42,2) -> 104.59
A43: TOTAL - GRUPO C | C43: =ROUND(SUM(C40:C42),5) -> 0.03784 | D43: =ROUND(SUM(D40:D42),2) -> 123.68
A45: GRUPO D | C45: % | D45: Valor (R$)
...

Sheet Arquivista
A1: PLANILHA ORÇAMENTÁRIA DE REFERÊNCIA DE FORMAÇÃO DE CUSTO DE MÃO DE OBRA
A2: Tipo de serviço: | B2: ='Quantidade de Cargo'!A6 -> Arquivista
A3: CBO: | B3: ='Salario Base'!B9 -> 2613-05
A4: Unidade de medida: | B4: Posto
A5: Quantidade total a contratar (em função da unidade de medida): | B5: 1
A6: Convenção Coletiva de Trabalho/Acordo/ Dissídio Coletivo de Trabalho: | B6: Salario.com.br c/c Convenção Coletiva de Trabalho (CCT) - Nº Registro no MTE: AM000546/2021 - Nº Processo: 13621.120880/2021-15 - Nº Solicitação: MR069260/2020
A8: MÃO DE OBRA VINCULADA À EXECUÇÃO CONTRATUAL
A9: SEÇÃO I - COMPOSIÇÃO DA REMUNERAÇÃO (R$)
A10: Composição da Remuneração | C10: % | D10: Valor (R$)
A11: Salário Base | C11: - | D11: ='Salario Base'!C9 -> 2418.58
A12: Outros | D12: =C12*D11/100 -> 0
A13: TOTAL DA REMUNERAÇÃO (R$) | D13: =ROUND(SUM(D11:D12),2) -> 2418.58
A15: SEÇÃO II - ENCARGOS SOCIAIS INCIDENTES SOBRE A REMUNERAÇÃO (R$)
A16: GRUPO A - ENCARGOS | C16: % | D16: Valor (R$)
A17: A.01 SEGURIDADE SOCIAL | C17: 0.2 | D17: =ROUND($D$13*C17,2) -> 483.72
A18: A.02 FGTS | C18: 0.08 | D18: =ROUND($D$13*C18,2) -> 193.49
A19: A.03 SESI/SESC | C19: 0.015 | D19: =ROUND($D$13*C19,2) -> 36.28
A20: A.04 SENAI/SENAC | C20: 0.01 | D20: =ROUND($D$13*C20,2) -> 24.19
A21: A.05 INCRA | C21: 0.002 | D21: =ROUND($D$13*C21,2) -> 4.84
A22: A.06 SEBRAE | C22: 0.006 | D22: =ROUND($D$13*C22,2) -> 14.51
A23: A.07 Salário Educação | C23: 0.025 | D23: =ROUND($D$13*C23,2) -> 60.46
A24: A.08 Riscos Ambientais do Trabalho – RAT x FAP | C24: 0.04 | D24: =ROUND($D$13*C24,2) -> 96.74
A25: TOTAL - GRUPO A - ENCARGOS | C25: =ROUND(SUM(C17:C24),5) -> 0.378 | D25: =ROUND(SUM(D17:D24),2) -> 914.23
A27: GRUPO B | C27: % | D27: Valor (R$)
A28: B.01 13º Salário | C28: =ROUND(1/12,5) -> 0.08333 | D28: =ROUND($D$13*C28,2) -> 201.54
A29: B.02 Férias (incluindo 1/3 constitucional) | C29: =ROUND((1/3)/12,5) -> 0.02778 | D29: =ROUND($D$13*C29,2) -> 67.19
A30: B.03 Aviso Prévio Trabalhado | C30: =ROUND((((100% / 30) * 7) / 12),5) -> 0.01944 | D30: =ROUND($D$13*C30,2) -> 47.02
A31: B.04 Auxílio Doença | C31: =ROUND((5/30)/12,5) -> 0.01389 | D31: =ROUND($D$13*C31,2) -> 33.59
A32: B.05 Acidente de Trabalho | C32: =ROUND(((15/30/12)*0.08),5) -> 0.00333 | D32: =ROUND($D$13*C32,2) -> 8.05
A33: B.06 Faltas Legais | C33: =ROUND((1/30)/12,5) -> 0.00278 | D33: =ROUND($D$13*C33,2) -> 6.72
A34: B.07 Férias sobre Licença Maternidade | C34: =ROUND(0.1111*0.02*0.333,5) -> 0.00074 | D34: =ROUND($D$13*C34,2) -> 1.79
A35: B.08 Licença Paternidade | C35: =ROUND(((5/30)/12)*0.015,5) -> 0.00021 | D35: =ROUND($D$13*C35,2) -> 0.51
A36: B.09 Férias adquiridas (não usufruídas) | C36: =ROUND(1/12,5) -> 0.08333 | D36: =ROUND($D$13*C36,2) -> 201.54
A37: TOTAL - GRUPO B | C37: =ROUND(SUM(C28:C36),5) -> 0.23483 | D37: =ROUND(SUM(D28:D36),2) -> 567.95
A39: GRUPO C | C39: % | D39: Valor (R$)
A40: C.01 Aviso Prévio Indenizado | C40: =ROUND(1/12*5%,5) -> 0.00417 | D40: =ROUND($D$13*C40,2) -> 10.09
A41: C.02 Indenização Adicional | C41: =ROUND(0.02*(1/12),5) -> 0.00167 | D41: =ROUND($D$13*C41,2) -> 4.04
A42: C.03 Indenização (rescisão sem justa causa – multa de 40% do FGTS) | C42: =ROUND(40%*8%,5) -> 0.032 | D42: =ROUND($D$13*C42,2) -> 77.39
A43: TOTAL - GRUPO C | C43: =ROUND(SUM(C40:C42),5) -> 0.03784 | D43: =ROUND(SUM(D40:D42),2) -> 91.52
A45: GRUPO D | C45: % | D45: Valor (R$)
...

Sheet Assist. Administrativo I
A1: PLANILHA ORÇAMENTÁRIA DE REFERÊNCIA DE FORMAÇÃO DE CUSTO DE MÃO DE OBRA
A2: Tipo de serviço: | B2: ='Quantidade de Cargo'!A7 -> Assistente Administrativo I
A3: CBO: | B3: ='Salario Base'!B10 -> 4110-10
A4: Unidade de medida: | B4: Posto
A5: Quantidade total a contratar (em função da unidade de medida): | B5: 1
A6: Convenção Coletiva de Trabalho/Acordo/ Dissídio Coletivo de Trabalho: | B6: Convenção Coletiva de Trabalho (CCT) - Nº Registro no MTE: AM000546/2021 - Nº Processo: 13621.120880/2021-15 - Nº Solicitação: MR069260/2020
A8: MÃO DE OBRA VINCULADA À EXECUÇÃO CONTRATUAL
A9: SEÇÃO I - COMPOSIÇÃO DA REMUNERAÇÃO (R$)
A10: Composição da Remuneração | C10: % | D10: Valor (R$)
A11: Salário Base | C11: - | D11: ='Salario Base'!D10 -> 1560.18
A12: Outros | D12: =C12*D11/100 -> 0
A13: TOTAL DA REMUNERAÇÃO (R$) | D13: =ROUND(SUM(D11:D12),2) -> 1560.18
A15: SEÇÃO II - ENCARGOS SOCIAIS INCIDENTES SOBRE A REMUNERAÇÃO (R$)
A16: GRUPO A - ENCARGOS | C16: % | D16: Valor (R$)
A17: A.01 SEGURIDADE SOCIAL | C17: 0.2 | D17: =ROUND($D$13*C17,2) -> 312.04
A18: A.02 FGTS | C18: 0.08 | D18: =ROUND($D$13*C18,2) -> 124.81
A19: A.03 SESI/SESC | C19: 0.015 | D19: =ROUND($D$13*C19,2) -> 23.4
A20: A.04 SENAI/SENAC | C20: 0.01 | D20: =ROUND($D$13*C20,2) -> 15.6
A21: A.05 INCRA | C21: 0.002 | D21: =ROUND($D$13*C21,2) -> 3.12
A22: A.06 SEBRAE | C22: 0.006 | D22: =ROUND($D$13*C22,2) -> 9.36
A23: A.07 Salário Educação | C23: 0.025 | D23: =ROUND($D$13*C23,2) -> 39
A24: A.08 Riscos Ambientais do Trabalho – RAT x FAP | C24: 0.04 | D24: =ROUND($D$13*C24,2) -> 62.41
A25: TOTAL - GRUPO A - ENCARGOS | C25: =ROUND(SUM(C17:C24),5) -> 0.378 | D25: =ROUND(SUM(D17:D24),2) -> 589.74
A27: GRUPO B | C27: % | D27: Valor (R$)
A28: B.01 13º Salário | C28: =ROUND(1/12,5) -> 0.08333 | D28: =ROUND($D$13*C28,2) -> 130.01
A29: B.02 Férias (incluindo 1/3 constitucional) | C29: =ROUND((1/3)/12,5) -> 0.02778 | D29: =ROUND($D$13*C29,2) -> 43.34
A30: B.03 Aviso Prévio Trabalhado | C30: =ROUND((((100% / 30) * 7) / 12),5) -> 0.01944 | D30: =ROUND($D$13*C30,2) -> 30.33
A31: B.04 Auxílio Doença | C31: =ROUND((5/30)/12,5) -> 0.01389 | D31: =ROUND($D$13*C31,2) -> 21.67
A32: B.05 Acidente de Trabalho | C32: =ROUND(((15/30/12)*0.08),5) -> 0.00333 | D32: =ROUND($D$13*C32,2) -> 5.2
A33: B.06 Faltas Legais | C33: =ROUND((1/30)/12,5) -> 0.00278 | D33: =ROUND($D$13*C33,2) -> 4.34
A34: B.07 Férias sobre Licença Maternidade | C34: =ROUND(0.1111*0.02*0.333,5) -> 0.00074 | D34: =ROUND($D$13*C34,2) -> 1.15
A35: B.08 Licença Paternidade | C35: =ROUND(((5/30)/12)*0.015,5) -> 0.00021 | D35: =ROUND($D$13*C35,2) -> 0.33
A36: B.09 Férias adquiridas (não usufruídas) | C36: =ROUND(1/12,5) -> 0.08333 | D36: =ROUND($D$13*C36,2) -> 130.01
A37: TOTAL - GRUPO B | C37: =ROUND(SUM(C28:C36),5) -> 0.23483 | D37: =ROUND(SUM(D28:D36),2) -> 366.38
A39: GRUPO C | C39: % | D39: Valor (R$)
A40: C.01 Aviso Prévio Indenizado | C40: =ROUND(1/12*5%,5) -> 0.00417 | D40: =ROUND($D$13*C40,2) -> 6.51
A41: C.02 Indenização Adicional | C41: =ROUND(0.02*(1/12),5) -> 0.00167 | D41: =ROUND($D$13*C41,2) -> 2.61
A42: C.03 Indenização (rescisão sem justa causa – multa de 40% do FGTS) | C42: =ROUND(40%*8%,5) -> 0.032 | D42: =ROUND($D$13*C42,2) -> 49.93
A43: TOTAL - GRUPO C | C43: =ROUND(SUM(C40:C42),5) -> 0.03784 | D43: =ROUND(SUM(D40:D42),2) -> 59.05
A45: GRUPO D | C45: % | D45: Valor (R$)
...

Sheet Assist. Administrativo II
A1: PLANILHA ORÇAMENTÁRIA DE REFERÊNCIA DE FORMAÇÃO DE CUSTO DE MÃO DE OBRA
A2: Tipo de serviço: | B2: ='Quantidade de Cargo'!A8 -> Assistente Administrativo II
A3: CBO: | B3: ='Salario Base'!B11 -> 4110-10
A4: Unidade de medida: | B4: Posto
A5: Quantidade total a contratar (em função da unidade de medida): | B5: 1
A6: Convenção Coletiva de Trabalho/Acordo/ Dissídio Coletivo de Trabalho: | B6: Convenção Coletiva de Trabalho (CCT) - Nº Registro no MTE: AM000546/2021 - Nº Processo: 13621.120880/2021-15 - Nº Solicitação: MR069260/2020
A8: MÃO DE OBRA VINCULADA À EXECUÇÃO CONTRATUAL
A9: SEÇÃO I - COMPOSIÇÃO DA REMUNERAÇÃO (R$)
A10: Composição da Remuneração | C10: % | D10: Valor (R$)
A11: Salário Base | C11: - | D11: ='Salario Base'!D11 -> 2700.5
A12: Outros | D12: =C12*D11/100 -> 0
A13: TOTAL DA REMUNERAÇÃO (R$) | D13: =ROUND(SUM(D11:D12),2) -> 2700.5
A15: SEÇÃO II - ENCARGOS SOCIAIS INCIDENTES SOBRE A REMUNERAÇÃO (R$)
A16: GRUPO A - ENCARGOS | C16: % | D16: Valor (R$)
A17: A.01 SEGURIDADE SOCIAL | C17: 0.2 | D17: =ROUND($D$13*C17,2) -> 540.1
A18: A.02 FGTS | C18: 0.08 | D18: =ROUND($D$13*C18,2) -> 216.04
A19: A.03 SESI/SESC | C19: 0.015 | D19: =ROUND($D$13*C19,2) -> 40.51
A20: A.04 SENAI/SENAC | C20: 0.01 | D20: =ROUND($D$13*C20,2) -> 27.01
A21: A.05 INCRA | C21: 0.002 | D21: =ROUND($D$13*C21,2) -> 5.4
A22: A.06 SEBRAE | C22: 0.006 | D22: =ROUND($D$13*C22,2) -> 16.2
A23: A.07 Salário Educação | C23: 0.025 | D23: =ROUND($D$13*C23,2) -> 67.51
A24: A.08 Riscos Ambientais do Trabalho – RAT x FAP | C24: 0.04 | D24: =ROUND($D$13*C24,2) -> 108.02
A25: TOTAL - GRUPO A - ENCARGOS | C25: =ROUND(SUM(C17:C24),5) -> 0.378 | D25: =ROUND(SUM(D17:D24),2) -> 1020.79
A27: GRUPO B | C27: % | D27: Valor (R$)
A28: B.01 13º Salário | C28: =ROUND(1/12,5) -> 0.08333 | D28: =ROUND($D$13*C28,2) -> 225.03
A29: B.02 Férias (incluindo 1/3 constitucional) | C29: =ROUND((1/3)/12,5) -> 0.02778 | D29: =ROUND($D$13*C29,2) -> 75.02
A30: B.03 Aviso Prévio Trabalhado | C30: =ROUND((((100% / 30) * 7) / 12),5) -> 0.01944 | D30: =ROUND($D$13*C30,2) -> 52.5
A31: B.04 Auxílio Doença | C31: =ROUND((5/30)/12,5) -> 0.01389 | D31: =ROUND($D$13*C31,2) -> 37.51
A32: B.05 Acidente de Trabalho | C32: =ROUND(((15/30/12)*0.08),5) -> 0.00333 | D32: =ROUND($D$13*C32,2) -> 8.99
A33: B.06 Faltas Legais | C33: =ROUND((1/30)/12,5) -> 0.00278 | D33: =ROUND($D$13*C33,2) -> 7.51
A34: B.07 Férias sobre Licença Maternidade | C34: =ROUND(0.1111*0.02*0.333,5) -> 0.00074 | D34: =ROUND($D$13*C34,2) -> 2
A35: B.08 Licença Paternidade | C35: =ROUND(((5/30)/12)*0.015,5) -> 0.00021 | D35: =ROUND($D$13*C35,2) -> 0.57
A36: B.09 Férias adquiridas (não usufruídas) | C36: =ROUND(1/12,5) -> 0.08333 | D36: =ROUND($D$13*C36,2) -> 225.03
A37: TOTAL - GRUPO B | C37: =ROUND(SUM(C28:C36),5) -> 0.23483 | D37: =ROUND(SUM(D28:D36),2) -> 634.16
A39: GRUPO C | C39: % | D39: Valor (R$)
A40: C.01 Aviso Prévio Indenizado | C40: =ROUND(1/12*5%,5) -> 0.00417 | D40: =ROUND($D$13*C40,2) -> 11.26
A41: C.02 Indenização Adicional | C41: =ROUND(0.02*(1/12),5) -> 0.00167 | D41: =ROUND($D$13*C41,2) -> 4.51
A42: C.03 Indenização (rescisão sem justa causa – multa de 40% do FGTS) | C42: =ROUND(40%*8%,5) -> 0.032 | D42: =ROUND($D$13*C42,2) -> 86.42
A43: TOTAL - GRUPO C | C43: =ROUND(SUM(C40:C42),5) -> 0.03784 | D43: =ROUND(SUM(D40:D42),2) -> 102.19
A45: GRUPO D | C45: % | D45: Valor (R$)
...

Sheet Assist. Contábil II
A1: PLANILHA ORÇAMENTÁRIA DE REFERÊNCIA DE FORMAÇÃO DE CUSTO DE MÃO DE OBRA
A2: Tipo de serviço: | B2: ='Quantidade de Cargo'!A9 -> Assistente Contábil II
A3: CBO: | B3: ='Salario Base'!B12 -> 4131-10
A4: Unidade de medida: | B4: Posto
A5: Quantidade total a contratar (em função da unidade de medida): | B5: 1
A6: Convenção Coletiva de Trabalho/Acordo/ Dissídio Coletivo de Trabalho: | B6: Convenção Coletiva de Trabalho (CCT) - Nº Registro no MTE: AM000546/2021 - Nº Processo: 13621.120880/2021-15 - Nº Solicitação: MR069260/2020
A8: MÃO DE OBRA VINCULADA À EXECUÇÃO CONTRATUAL
A9: SEÇÃO I - COMPOSIÇÃO DA REMUNERAÇÃO (R$)
A10: Composição da Remuneração | C10: % | D10: Valor (R$)
A11: Salário Base | C11: - | D11: ='Salario Base'!D12 -> 2700.5
A12: Outros | D12: =C12*D11/100 -> 0
A13: TOTAL DA REMUNERAÇÃO (R$) | D13: =ROUND(SUM(D11:D12),2) -> 2700.5
A15: SEÇÃO II - ENCARGOS SOCIAIS INCIDENTES SOBRE A REMUNERAÇÃO (R$)
A16: GRUPO A - ENCARGOS | C16: % | D16: Valor (R$)
A17: A.01 SEGURIDADE SOCIAL | C17: 0.2 | D17: =ROUND($D$13*C17,2) -> 540.1
A18: A.02 FGTS | C18: 0.08 | D18: =ROUND($D$13*C18,2) -> 216.04
A19: A.03 SESI/SESC | C19: 0.015 | D19: =ROUND($D$13*C19,2) -> 40.51
A20: A.04 SENAI/SENAC | C20: 0.01 | D20: =ROUND($D$13*C20,2) -> 27.01
A21: A.05 INCRA | C21: 0.002 | D21: =ROUND($D$13*C21,2) -> 5.4
A22: A.06 SEBRAE | C22: 0.006 | D22: =ROUND($D$13*C22,2) -> 16.2
A23: A.07 Salário Educação | C23: 0.025 | D23: =ROUND($D$13*C23,2) -> 67.51
A24: A.08 Riscos Ambientais do Trabalho – RAT x FAP | C24: 0.04 | D24: =ROUND($D$13*C24,2) -> 108.02
A25: TOTAL - GRUPO A - ENCARGOS | C25: =ROUND(SUM(C17:C24),5) -> 0.378 | D25: =ROUND(SUM(D17:D24),2) -> 1020.79
A27: GRUPO B | C27: % | D27: Valor (R$)
A28: B.01 13º Salário | C28: =ROUND(1/12,5) -> 0.08333 | D28: =ROUND($D$13*C28,2) -> 225.03
A29: B.02 Férias (incluindo 1/3 constitucional) | C29: =ROUND((1/3)/12,5) -> 0.02778 | D29: =ROUND($D$13*C29,2) -> 75.02
A30: B.03 Aviso Prévio Trabalhado | C30: =ROUND((((100% / 30) * 7) / 12),5) -> 0.01944 | D30: =ROUND($D$13*C30,2) -> 52.5
A31: B.04 Auxílio Doença | C31: =ROUND((5/30)/12,5) -> 0.01389 | D31: =ROUND($D$13*C31,2) -> 37.51
A32: B.05 Acidente de Trabalho | C32: =ROUND(((15/30/12)*0.08),5) -> 0.00333 | D32: =ROUND($D$13*C32,2) -> 8.99
A33: B.06 Faltas Legais | C33: =ROUND((1/30)/12,5) -> 0.00278 | D33: =ROUND($D$13*C33,2) -> 7.51
A34: B.07 Férias sobre Licença Maternidade | C34: =ROUND(0.1111*0.02*0.333,5) -> 0.00074 | D34: =ROUND($D$13*C34,2) -> 2
A35: B.08 Licença Paternidade | C35: =ROUND(((5/30)/12)*0.015,5) -> 0.00021 | D35: =ROUND($D$13*C35,2) -> 0.57
A36: B.09 Férias adquiridas (não usufruídas) | C36: =ROUND(1/12,5) -> 0.08333 | D36: =ROUND($D$13*C36,2) -> 225.03
A37: TOTAL - GRUPO B | C37: =ROUND(SUM(C28:C36),5) -> 0.23483 | D37: =ROUND(SUM(D28:D36),2) -> 634.16
A39: GRUPO C | C39: % | D39: Valor (R$)
A40: C.01 Aviso Prévio Indenizado | C40: =ROUND(1/12*5%,5) -> 0.00417 | D40: =ROUND($D$13*C40,2) -> 11.26
A41: C.02 Indenização Adicional | C41: =ROUND(0.02*(1/12),5) -> 0.00167 | D41: =ROUND($D$13*C41,2) -> 4.51
A42: C.03 Indenização (rescisão sem justa causa – multa de 40% do FGTS) | C42: =ROUND(40%*8%,5) -> 0.032 | D42: =ROUND($D$13*C42,2) -> 86.42
A43: TOTAL - GRUPO C | C43: =ROUND(SUM(C40:C42),5) -> 0.03784 | D43: =ROUND(SUM(D40:D42),2) -> 102.19
A45: GRUPO D | C45: % | D45: Valor (R$)
...

Sheet Assist. Comunicação
A1: PLANILHA ORÇAMENTÁRIA DE REFERÊNCIA DE FORMAÇÃO DE CUSTO DE MÃO DE OBRA
A2: Tipo de serviço: | B2: ='Quantidade de Cargo'!A10 -> Assistente de Comunicação
A3: CBO: | B3: ='Salario Base'!B13 -> 1423-35
A4: Unidade de medida: | B4: Posto
A5: Quantidade total a contratar (em função da unidade de medida): | B5: 1
A6: Convenção Coletiva de Trabalho/Acordo/ Dissídio Coletivo de Trabalho: | B6: Salario.com.br c/c Convenção Coletiva de Trabalho (CCT) - Nº Registro no MTE: AM000546/2021 - Nº Processo: 13621.120880/2021-15 - Nº Solicitação: MR069260/2020
A8: MÃO DE OBRA VINCULADA À EXECUÇÃO CONTRATUAL
A9: SEÇÃO I - COMPOSIÇÃO DA REMUNERAÇÃO (R$)
A10: Composição da Remuneração | C10: % | D10: Valor (R$)
A11: Salário Base | C11: - | D11: ='Salario Base'!C13 -> 2489.83
A12: Outros | D12: =C12*D11/100 -> 0
A13: TOTAL DA REMUNERAÇÃO (R$) | D13: =ROUND(SUM(D11:D12),2) -> 2489.83
A15: SEÇÃO II - ENCARGOS SOCIAIS INCIDENTES SOBRE A REMUNERAÇÃO (R$)
A16: GRUPO A - ENCARGOS | C16: % | D16: Valor (R$)
A17: A.01 SEGURIDADE SOCIAL | C17: 0.2 | D17: =ROUND($D$13*C17,2) -> 497.97
A18: A.02 FGTS | C18: 0.08 | D18: =ROUND($D$13*C18,2) -> 199.19
A19: A.03 SESI/SESC | C19: 0.015 | D19: =ROUND($D$13*C19,2) -> 37.35
A20: A.04 SENAI/SENAC | C20: 0.01 | D20: =ROUND($D$13*C20,2) -> 24.9
A21: A.05 INCRA | C21: 0.002 | D21: =ROUND($D$13*C21,2) -> 4.98
A22: A.06 SEBRAE | C22: 0.006 | D22: =ROUND($D$13*C22,2) -> 14.94
A23: A.07 Salário Educação | C23: 0.025 | D23: =ROUND($D$13*C23,2) -> 62.25
A24: A.08 Riscos Ambientais do Trabalho – RAT x FAP | C24: 0.04 | D24: =ROUND($D$13*C24,2) -> 99.59
A25: TOTAL - GRUPO A - ENCARGOS | C25: =ROUND(SUM(C17:C24),5) -> 0.378 | D25: =ROUND(SUM(D17:D24),2) -> 941.17
A27: GRUPO B | C27: % | D27: Valor (R$)
A28: B.01 13º Salário | C28: =ROUND(1/12,5) -> 0.08333 | D28: =ROUND($D$13*C28,2) -> 207.48
A29: B.02 Férias (incluindo 1/3 constitucional) | C29: =ROUND((1/3)/12,5) -> 0.02778 | D29: =ROUND($D$13*C29,2) -> 69.17
A30: B.03 Aviso Prévio Trabalhado | C30: =ROUND((((100% / 30) * 7) / 12),5) -> 0.01944 | D30: =ROUND($D$13*C30,2) -> 48.4
A31: B.04 Auxílio Doença | C31: =ROUND((5/30)/12,5) -> 0.01389 | D31: =ROUND($D$13*C31,2) -> 34.58
A32: B.05 Acidente de Trabalho | C32: =ROUND(((15/30/12)*0.08),5) -> 0.00333 | D32: =ROUND($D$13*C32,2) -> 8.29
A33: B.06 Faltas Legais | C33: =ROUND((1/30)/12,5) -> 0.00278 | D33: =ROUND($D$13*C33,2) -> 6.92
A34: B.07 Férias sobre Licença Maternidade | C34: =ROUND(0.1111*0.02*0.333,5) -> 0.00074 | D34: =ROUND($D$13*C34,2) -> 1.84
A35: B.08 Licença Paternidade | C35: =ROUND(((5/30)/12)*0.015,5) -> 0.00021 | D35: =ROUND($D$13*C35,2) -> 0.52
A36: B.09 Férias adquiridas (não usufruídas) | C36: =ROUND(1/12,5) -> 0.08333 | D36: =ROUND($D$13*C36,2) -> 207.48
A37: TOTAL - GRUPO B | C37: =ROUND(SUM(C28:C36),5) -> 0.23483 | D37: =ROUND(SUM(D28:D36),2) -> 584.68
A39: GRUPO C | C39: % | D39: Valor (R$)
A40: C.01 Aviso Prévio Indenizado | C40: =ROUND(1/12*5%,5) -> 0.00417 | D40: =ROUND($D$13*C40,2) -> 10.38
A41: C.02 Indenização Adicional | C41: =ROUND(0.02*(1/12),5) -> 0.00167 | D41: =ROUND($D$13*C41,2) -> 4.16
A42: C.03 Indenização (rescisão sem justa causa – multa de 40% do FGTS) | C42: =ROUND(40%*8%,5) -> 0.032 | D42: =ROUND($D$13*C42,2) -> 79.67
A43: TOTAL - GRUPO C | C43: =ROUND(SUM(C40:C42),5) -> 0.03784 | D43: =ROUND(SUM(D40:D42),2) -> 94.21
A45: GRUPO D | C45: % | D45: Valor (R$)
...

Sheet Assist. Financeiro I
A1: PLANILHA ORÇAMENTÁRIA DE REFERÊNCIA DE FORMAÇÃO DE CUSTO DE MÃO DE OBRA
A2: Tipo de serviço: | B2: ='Quantidade de Cargo'!A11 -> Assistente Financeiro I
A3: CBO: | B3: ='Salario Base'!B14 -> 4110-10
A4: Unidade de medida: | B4: Posto
A5: Quantidade total a contratar (em função da unidade de medida): | B5: 1
A6: Convenção Coletiva de Trabalho/Acordo/ Dissídio Coletivo de Trabalho: | B6: Convenção Coletiva de Trabalho (CCT) - Nº Registro no MTE: AM000546/2021 - Nº Processo: 13621.120880/2021-15 - Nº Solicitação: MR069260/2020
A8: MÃO DE OBRA VINCULADA À EXECUÇÃO CONTRATUAL
A9: SEÇÃO I - COMPOSIÇÃO DA REMUNERAÇÃO (R$)
A10: Composição da Remuneração | C10: % | D10: Valor (R$)
A11: Salário Base | C11: - | D11: ='Salario Base'!D14 -> 1560.18
A12: Outros | D12: =C12*D11/100 -> 0
A13: TOTAL DA REMUNERAÇÃO (R$) | D13: =ROUND(SUM(D11:D12),2) -> 1560.18
A15: SEÇÃO II - ENCARGOS SOCIAIS INCIDENTES SOBRE A REMUNERAÇÃO (R$)
A16: GRUPO A - ENCARGOS | C16: % | D16: Valor (R$)
A17: A.01 SEGURIDADE SOCIAL | C17: 0.2 | D17: =ROUND($D$13*C17,2) -> 312.04
A18: A.02 FGTS | C18: 0.08 | D18: =ROUND($D$13*C18,2) -> 124.81
A19: A.03 SESI/SESC | C19: 0.015 | D19: =ROUND($D$13*C19,2) -> 23.4
A20: A.04 SENAI/SENAC | C20: 0.01 | D20: =ROUND($D$13*C20,2) -> 15.6
A21: A.05 INCRA | C21: 0.002 | D21: =ROUND($D$13*C21,2) -> 3.12
A22: A.06 SEBRAE | C22: 0.006 | D22: =ROUND($D$13*C22,2) -> 9.36
A23: A.07 Salário Educação | C23: 0.025 | D23: =ROUND($D$13*C23,2) -> 39
A24: A.08 Riscos Ambientais do Trabalho – RAT x FAP | C24: 0.04 | D24: =ROUND($D$13*C24,2) -> 62.41
A25: TOTAL - GRUPO A - ENCARGOS | C25: =ROUND(SUM(C17:C24),5) -> 0.378 | D25: =ROUND(SUM(D17:D24),2) -> 589.74
A27: GRUPO B | C27: % | D27: Valor (R$)
A28: B.01 13º Salário | C28: =ROUND(1/12,5) -> 0.08333 | D28: =ROUND($D$13*C28,2) -> 130.01
A29: B.02 Férias (incluindo 1/3 constitucional) | C29: =ROUND((1/3)/12,5) -> 0.02778 | D29: =ROUND($D$13*C29,2) -> 43.34
A30: B.03 Aviso Prévio Trabalhado | C30: =ROUND((((100% / 30) * 7) / 12),5) -> 0.01944 | D30: =ROUND($D$13*C30,2) -> 30.33
A31: B.04 Auxílio Doença | C31: =ROUND((5/30)/12,5) -> 0.01389 | D31: =ROUND($D$13*C31,2) -> 21.67
A32: B.05 Acidente de Trabalho | C32: =ROUND(((15/30/12)*0.08),5) -> 0.00333 | D32: =ROUND($D$13*C32,2) -> 5.2
A33: B.06 Faltas Legais | C33: =ROUND((1/30)/12,5) -> 0.00278 | D33: =ROUND($D$13*C33,2) -> 4.34
A34: B.07 Férias sobre Licença Maternidade | C34: =ROUND(0.1111*0.02*0.333,5) -> 0.00074 | D34: =ROUND($D$13*C34,2) -> 1.15
A35: B.08 Licença Paternidade | C35: =ROUND(((5/30)/12)*0.015,5) -> 0.00021 | D35: =ROUND($D$13*C35,2) -> 0.33
A36: B.09 Férias adquiridas (não usufruídas) | C36: =ROUND(1/12,5) -> 0.08333 | D36: =ROUND($D$13*C36,2) -> 130.01
A37: TOTAL - GRUPO B | C37: =ROUND(SUM(C28:C36),5) -> 0.23483 | D37: =ROUND(SUM(D28:D36),2) -> 366.38
A39: GRUPO C | C39: % | D39: Valor (R$)
A40: C.01 Aviso Prévio Indenizado | C40: =ROUND(1/12*5%,5) -> 0.00417 | D40: =ROUND($D$13*C40,2) -> 6.51
A41: C.02 Indenização Adicional | C41: =ROUND(0.02*(1/12),5) -> 0.00167 | D41: =ROUND($D$13*C41,2) -> 2.61
A42: C.03 Indenização (rescisão sem justa causa – multa de 40% do FGTS) | C42: =ROUND(40%*8%,5) -> 0.032 | D42: =ROUND($D$13*C42,2) -> 49.93
A43: TOTAL - GRUPO C | C43: =ROUND(SUM(C40:C42),5) -> 0.03784 | D43: =ROUND(SUM(D40:D42),2) -> 59.05
A45: GRUPO D | C45: % | D45: Valor (R$)
...

Sheet Copeiro II
A1: PLANILHA ORÇAMENTÁRIA DE REFERÊNCIA DE FORMAÇÃO DE CUSTO DE MÃO DE OBRA
A2: Tipo de serviço: | B2: ='Quantidade de Cargo'!A12 -> Copeiro II
A3: CBO: | B3: ='Salario Base'!B15 -> 5134-25
A4: Unidade de medida: | B4: Posto
A5: Quantidade total a contratar (em função da unidade de medida): | B5: 1
A6: Convenção Coletiva de Trabalho/Acordo/ Dissídio Coletivo de Trabalho: | B6: Salario.com.br c/c Convenção Coletiva de Trabalho (CCT) - Nº Registro no MTE: AM000546/2021 - Nº Processo: 13621.120880/2021-15 - Nº Solicitação: MR069260/2020
A8: MÃO DE OBRA VINCULADA À EXECUÇÃO CONTRATUAL
A9: SEÇÃO I - COMPOSIÇÃO DA REMUNERAÇÃO (R$)
A10: Composição da Remuneração | C10: % | D10: Valor (R$)
A11: Salário Base | C11: - | D11: ='Salario Base'!C15 -> 1415.83
A12: Outros | D12: =C12*D11/100 -> 0
A13: TOTAL DA REMUNERAÇÃO (R$) | D13: =ROUND(SUM(D11:D12),2) -> 1415.83
A15: SEÇÃO II - ENCARGOS SOCIAIS INCIDENTES SOBRE A REMUNERAÇÃO (R$)
A16: GRUPO A - ENCARGOS | C16: % | D16: Valor (R$)
A17: A.01 SEGURIDADE SOCIAL | C17: 0.2 | D17: =ROUND($D$13*C17,2) -> 283.17
A18: A.02 FGTS | C18: 0.08 | D18: =ROUND($D$13*C18,2) -> 113.27
A19: A.03 SESI/SESC | C19: 0.015 | D19: =ROUND($D$13*C19,2) -> 21.24
A20: A.04 SENAI/SENAC | C20: 0.01 | D20: =ROUND($D$13*C20,2) -> 14.16
A21: A.05 INCRA | C21: 0.002 | D21: =ROUND($D$13*C21,2) -> 2.83
A22: A.06 SEBRAE | C22: 0.006 | D22: =ROUND($D$13*C22,2) -> 8.49
A23: A.07 Salário Educação | C23: 0.025 | D23: =ROUND($D$13*C23,2) -> 35.4
A24: A.08 Riscos Ambientais do Trabalho – RAT x FAP | C24: 0.06 | D24: =ROUND($D$13*C24,2) -> 84.95
A25: TOTAL - GRUPO A - ENCARGOS | C25: =ROUND(SUM(C17:C24),5) -> 0.398 | D25: =ROUND(SUM(D17:D24),2) -> 563.51
A27: GRUPO B | C27: % | D27: Valor (R$)
A28: B.01 13º Salário | C28: =ROUND(1/12,5) -> 0.08333 | D28: =ROUND($D$13*C28,2) -> 117.98
A29: B.02 Férias (incluindo 1/3 constitucional) | C29: =ROUND((1/3)/12,5) -> 0.02778 | D29: =ROUND($D$13*C29,2) -> 39.33
A30: B.03 Aviso Prévio Trabalhado | C30: =ROUND((((100% / 30) * 7) / 12),5) -> 0.01944 | D30: =ROUND($D$13*C30,2) -> 27.52
A31: B.04 Auxílio Doença | C31: =ROUND((5/30)/12,5) -> 0.01389 | D31: =ROUND($D$13*C31,2) -> 19.67
A32: B.05 Acidente de Trabalho | C32: =ROUND(((15/30/12)*0.08),5) -> 0.00333 | D32: =ROUND($D$13*C32,2) -> 4.71
A33: B.06 Faltas Legais | C33: =ROUND((1/30)/12,5) -> 0.00278 | D33: =ROUND($D$13*C33,2) -> 3.94
A34: B.07 Férias sobre Licença Maternidade | C34: =ROUND(0.1111*0.02*0.333,5) -> 0.00074 | D34: =ROUND($D$13*C34,2) -> 1.05
A35: B.08 Licença Paternidade | C35: =ROUND(((5/30)/12)*0.015,5) -> 0.00021 | D35: =ROUND($D$13*C35,2) -> 0.3
A36: B.09 Férias adquiridas (não usufruídas) | C36: =ROUND(1/12,5) -> 0.08333 | D36: =ROUND($D$13*C36,2) -> 117.98
A37: TOTAL - GRUPO B | C37: =ROUND(SUM(C28:C36),5) -> 0.23483 | D37: =ROUND(SUM(D28:D36),2) -> 332.48
A39: GRUPO C | C39: % | D39: Valor (R$)
A40: C.01 Aviso Prévio Indenizado | C40: =ROUND(1/12*5%,5) -> 0.00417 | D40: =ROUND($D$13*C40,2) -> 5.9
A41: C.02 Indenização Adicional | C41: =ROUND(0.02*(1/12),5) -> 0.00167 | D41: =ROUND($D$13*C41,2) -> 2.36
A42: C.03 Indenização (rescisão sem justa causa – multa de 40% do FGTS) | C42: =ROUND(40%*8%,5) -> 0.032 | D42: =ROUND($D$13*C42,2) -> 45.31
A43: TOTAL - GRUPO C | C43: =ROUND(SUM(C40:C42),5) -> 0.03784 | D43: =ROUND(SUM(D40:D42),2) -> 53.57
A45: GRUPO D | C45: % | D45: Valor (R$)
...

Sheet Designer Gráfico
A1: PLANILHA ORÇAMENTÁRIA DE REFERÊNCIA DE FORMAÇÃO DE CUSTO DE MÃO DE OBRA
A2: Tipo de serviço: | B2: ='Quantidade de Cargo'!A13 -> Designer Gráfico
A3: CBO: | B3: ='Salario Base'!B16 -> 2624-10
A4: Unidade de medida: | B4: Posto
A5: Quantidade total a contratar (em função da unidade de medida): | B5: 1
A6: Convenção Coletiva de Trabalho/Acordo/ Dissídio Coletivo de Trabalho: | B6: Salario.com.br c/c Convenção Coletiva de Trabalho (CCT) - Nº Registro no MTE: AM000546/2021 - Nº Processo: 13621.120880/2021-15 - Nº Solicitação: MR069260/2020
A8: MÃO DE OBRA VINCULADA À EXECUÇÃO CONTRATUAL
A9: SEÇÃO I - COMPOSIÇÃO DA REMUNERAÇÃO (R$)
A10: Composição da Remuneração | C10: % | D10: Valor (R$)
A11: Salário Base | C11: - | D11: ='Salario Base'!C16 -> 2274.1
A12: Outros | D12: =C12*D11/100 -> 0
A13: TOTAL DA REMUNERAÇÃO (R$) | D13: =ROUND(SUM(D11:D12),2) -> 2274.1
A15: SEÇÃO II - ENCARGOS SOCIAIS INCIDENTES SOBRE A REMUNERAÇÃO (R$)
A16: GRUPO A - ENCARGOS | C16: % | D16: Valor (R$)
A17: A.01 SEGURIDADE SOCIAL | C17: 0.2 | D17: =ROUND($D$13*C17,2) -> 454.82
A18: A.02 FGTS | C18: 0.08 | D18: =ROUND($D$13*C18,2) -> 181.93
A19: A.03 SESI/SESC | C19: 0.015 | D19: =ROUND($D$13*C19,2) -> 34.11
A20: A.04 SENAI/SENAC | C20: 0.01 | D20: =ROUND($D$13*C20,2) -> 22.74
A21: A.05 INCRA | C21: 0.002 | D21: =ROUND($D$13*C21,2) -> 4.55
A22: A.06 SEBRAE | C22: 0.006 | D22: =ROUND($D$13*C22,2) -> 13.64
A23: A.07 Salário Educação | C23: 0.025 | D23: =ROUND($D$13*C23,2) -> 56.85
A24: A.08 Riscos Ambientais do Trabalho – RAT x FAP | C24: 0.04 | D24: =ROUND($D$13*C24,2) -> 90.96
A25: TOTAL - GRUPO A - ENCARGOS | C25: =ROUND(SUM(C17:C24),5) -> 0.378 | D25: =ROUND(SUM(D17:D24),2) -> 859.6
A27: GRUPO B | C27: % | D27: Valor (R$)
A28: B.01 13º Salário | C28: =ROUND(1/12,5) -> 0.08333 | D28: =ROUND($D$13*C28,2) -> 189.5
A29: B.02 Férias (incluindo 1/3 constitucional) | C29: =ROUND((1/3)/12,5) -> 0.02778 | D29: =ROUND($D$13*C29,2) -> 63.17
A30: B.03 Aviso Prévio Trabalhado | C30: =ROUND((((100% / 30) * 7) / 12),5) -> 0.01944 | D30: =ROUND($D$13*C30,2) -> 44.21
A31: B.04 Auxílio Doença | C31: =ROUND((5/30)/12,5) -> 0.01389 | D31: =ROUND($D$13*C31,2) -> 31.59
A32: B.05 Acidente de Trabalho | C32: =ROUND(((15/30/12)*0.08),5) -> 0.00333 | D32: =ROUND($D$13*C32,2) -> 7.57
A33: B.06 Faltas Legais | C33: =ROUND((1/30)/12,5) -> 0.00278 | D33: =ROUND($D$13*C33,2) -> 6.32
A34: B.07 Férias sobre Licença Maternidade | C34: =ROUND(0.1111*0.02*0.333,5) -> 0.00074 | D34: =ROUND($D$13*C34,2) -> 1.68
A35: B.08 Licença Paternidade | C35: =ROUND(((5/30)/12)*0.015,5) -> 0.00021 | D35: =ROUND($D$13*C35,2) -> 0.48
A36: B.09 Férias adquiridas (não usufruídas) | C36: =ROUND(1/12,5) -> 0.08333 | D36: =ROUND($D$13*C36,2) -> 189.5
A37: TOTAL - GRUPO B | C37: =ROUND(SUM(C28:C36),5) -> 0.23483 | D37: =ROUND(SUM(D28:D36),2) -> 534.02
A39: GRUPO C | C39: % | D39: Valor (R$)
A40: C.01 Aviso Prévio Indenizado | C40: =ROUND(1/12*5%,5) -> 0.00417 | D40: =ROUND($D$13*C40,2) -> 9.48
A41: C.02 Indenização Adicional | C41: =ROUND(0.02*(1/12),5) -> 0.00167 | D41: =ROUND($D$13*C41,2) -> 3.8
A42: C.03 Indenização (rescisão sem justa causa – multa de 40% do FGTS) | C42: =ROUND(40%*8%,5) -> 0.032 | D42: =ROUND($D$13*C42,2) -> 72.77
A43: TOTAL - GRUPO C | C43: =ROUND(SUM(C40:C42),5) -> 0.03784 | D43: =ROUND(SUM(D40:D42),2) -> 86.05
A45: GRUPO D | C45: % | D45: Valor (R$)
...

Sheet Motorista
A1: PLANILHA ORÇAMENTÁRIA DE REFERÊNCIA DE FORMAÇÃO DE CUSTO DE MÃO DE OBRA
A2: Tipo de serviço: | B2: ='Quantidade de Cargo'!A14 -> Motorista
A3: CBO: | B3: ='Salario Base'!B17 -> 7823-05
A4: Unidade de medida: | B4: Posto
A5: Quantidade total a contratar (em função da unidade de medida): | B5: 1
A6: Convenção Coletiva de Trabalho/Acordo/ Dissídio Coletivo de Trabalho: | B6: Convenção Coletiva de Trabalho (CCT) - Nº Registro no MTE: AM000284/2022 - Nº Processo: 13621.111690/2022-80 - Nº Solicitação: MR030850/2022
A8: MÃO DE OBRA VINCULADA À EXECUÇÃO CONTRATUAL
A9: SEÇÃO I - COMPOSIÇÃO DA REMUNERAÇÃO (R$)
A10: Composição da Remuneração | C10: % | D10: Valor (R$)
A11: Salário Base | C11: - | D11: ='Salario Base'!F17 -> 1669.04
A12: Outros | D12: =C12*D11/100 -> 0
A13: TOTAL DA REMUNERAÇÃO (R$) | D13: =ROUND(SUM(D11:D12),2) -> 1669.04
A15: SEÇÃO II - ENCARGOS SOCIAIS INCIDENTES SOBRE A REMUNERAÇÃO (R$)
A16: GRUPO A - ENCARGOS | C16: % | D16: Valor (R$)
A17: A.01 SEGURIDADE SOCIAL | C17: 0.2 | D17: =ROUND($D$13*C17,2) -> 333.81
A18: A.02 FGTS | C18: 0.08 | D18: =ROUND($D$13*C18,2) -> 133.52
A19: A.03 SESI/SESC | C19: 0.015 | D19: =ROUND($D$13*C19,2) -> 25.04
A20: A.04 SENAI/SENAC | C20: 0.01 | D20: =ROUND($D$13*C20,2) -> 16.69
A21: A.05 INCRA | C21: 0.002 | D21: =ROUND($D$13*C21,2) -> 3.34
A22: A.06 SEBRAE | C22: 0.006 | D22: =ROUND($D$13*C22,2) -> 10.01
A23: A.07 Salário Educação | C23: 0.025 | D23: =ROUND($D$13*C23,2) -> 41.73
A24: A.08 Riscos Ambientais do Trabalho – RAT x FAP | C24: 0.06 | D24: =ROUND($D$13*C24,2) -> 100.14
A25: TOTAL - GRUPO A - ENCARGOS | C25: =ROUND(SUM(C17:C24),5) -> 0.398 | D25: =ROUND(SUM(D17:D24),2) -> 664.28
A27: GRUPO B | C27: % | D27: Valor (R$)
A28: B.01 13º Salário | C28: =ROUND(1/12,5) -> 0.08333 | D28: =ROUND($D$13*C28,2) -> 139.08
A29: B.02 Férias (incluindo 1/3 constitucional) | C29: =ROUND((1/3)/12,5) -> 0.02778 | D29: =ROUND($D$13*C29,2) -> 46.37
A30: B.03 Aviso Prévio Trabalhado | C30: =ROUND((((100% / 30) * 7) / 12),5) -> 0.01944 | D30: =ROUND($D$13*C30,2) -> 32.45
A31: B.04 Auxílio Doença | C31: =ROUND((5/30)/12,5) -> 0.01389 | D31: =ROUND($D$13*C31,2) -> 23.18
A32: B.05 Acidente de Trabalho | C32: =ROUND(((15/30/12)*0.08),5) -> 0.00333 | D32: =ROUND($D$13*C32,2) -> 5.56
A33: B.06 Faltas Legais | C33: =ROUND((1/30)/12,5) -> 0.00278 | D33: =ROUND($D$13*C33,2) -> 4.64
A34: B.07 Férias sobre Licença Maternidade | C34: =ROUND(0.1111*0.02*0.333,5) -> 0.00074 | D34: =ROUND($D$13*C34,2) -> 1.24
A35: B.08 Licença Paternidade | C35: =ROUND(((5/30)/12)*0.015,5) -> 0.00021 | D35: =ROUND($D$13*C35,2) -> 0.35
A36: B.09 Férias adquiridas (não usufruídas) | C36: =ROUND(1/12,5) -> 0.08333 | D36: =ROUND($D$13*C36,2) -> 139.08
A37: TOTAL - GRUPO B | C37: =ROUND(SUM(C28:C36),5) -> 0.23483 | D37: =ROUND(SUM(D28:D36),2) -> 391.95
A39: GRUPO C | C39: % | D39: Valor (R$)
A40: C.01 Aviso Prévio Indenizado | C40: =ROUND(1/12*5%,5) -> 0.00417 | D40: =ROUND($D$13*C40,2) -> 6.96
A41: C.02 Indenização Adicional | C41: =ROUND(0.02*(1/12),5) -> 0.00167 | D41: =ROUND($D$13*C41,2) -> 2.79
A42: C.03 Indenização (rescisão sem justa causa – multa de 40% do FGTS) | C42: =ROUND(40%*8%,5) -> 0.032 | D42: =ROUND($D$13*C42,2) -> 53.41
A43: TOTAL - GRUPO C | C43: =ROUND(SUM(C40:C42),5) -> 0.03784 | D43: =ROUND(SUM(D40:D42),2) -> 63.16
A45: GRUPO D | C45: % | D45: Valor (R$)
...

Sheet Oficial de Manutenção
A1: PLANILHA ORÇAMENTÁRIA DE REFERÊNCIA DE FORMAÇÃO DE CUSTO DE MÃO DE OBRA
A2: Tipo de serviço: | B2: ='Quantidade de Cargo'!A15 -> Oficial de Manutenção
A3: CBO: | B3: ='Salario Base'!B15 -> 5134-25
A4: Unidade de medida: | B4: Posto
A5: Quantidade total a contratar (em função da unidade de medida): | B5: 1
A6: Convenção Coletiva de Trabalho/Acordo/ Dissídio Coletivo de Trabalho: | B6: Convenção Coletiva de Trabalho (CCT) - Nº Registro no MTE: AM000038/2022 - Nº Processo: 13621.101002/2022-73 - Nº Solicitação: MR000215/2022
A8: MÃO DE OBRA VINCULADA À EXECUÇÃO CONTRATUAL
A9: SEÇÃO I - COMPOSIÇÃO DA REMUNERAÇÃO (R$)
A10: Composição da Remuneração | C10: % | D10: Valor (R$)
A11: Salário Base | C11: - | D11: ='Salario Base'!E18 -> 2498.52
A12: Outros | D12: =C12*D11/100 -> 0
A13: TOTAL DA REMUNERAÇÃO (R$) | D13: =ROUND(SUM(D11:D12),2) -> 2498.52
A15: SEÇÃO II - ENCARGOS SOCIAIS INCIDENTES SOBRE A REMUNERAÇÃO (R$)
A16: GRUPO A - ENCARGOS | C16: % | D16: Valor (R$)
A17: A.01 SEGURIDADE SOCIAL | C17: 0.2 | D17: =ROUND($D$13*C17,2) -> 499.7
A18: A.02 FGTS | C18: 0.08 | D18: =ROUND($D$13*C18,2) -> 199.88
A19: A.03 SESI/SESC | C19: 0.015 | D19: =ROUND($D$13*C19,2) -> 37.48
A20: A.04 SENAI/SENAC | C20: 0.01 | D20: =ROUND($D$13*C20,2) -> 24.99
A21: A.05 INCRA | C21: 0.002 | D21: =ROUND($D$13*C21,2) -> 5
A22: A.06 SEBRAE | C22: 0.006 | D22: =ROUND($D$13*C22,2) -> 14.99
A23: A.07 Salário Educação | C23: 0.025 | D23: =ROUND($D$13*C23,2) -> 62.46
A24: A.08 Riscos Ambientais do Trabalho – RAT x FAP | C24: 0.06 | D24: =ROUND($D$13*C24,2) -> 149.91
A25: TOTAL - GRUPO A - ENCARGOS | C25: =ROUND(SUM(C17:C24),5) -> 0.398 | D25: =ROUND(SUM(D17:D24),2) -> 994.41
A27: GRUPO B | C27: % | D27: Valor (R$)
A28: B.01 13º Salário | C28: =ROUND(1/12,5) -> 0.08333 | D28: =ROUND($D$13*C28,2) -> 208.2
A29: B.02 Férias (incluindo 1/3 constitucional) | C29: =ROUND((1/3)/12,5) -> 0.02778 | D29: =ROUND($D$13*C29,2) -> 69.41
A30: B.03 Aviso Prévio Trabalhado | C30: =ROUND((((100% / 30) * 7) / 12),5) -> 0.01944 | D30: =ROUND($D$13*C30,2) -> 48.57
A31: B.04 Auxílio Doença | C31: =ROUND((5/30)/12,5) -> 0.01389 | D31: =ROUND($D$13*C31,2) -> 34.7
A32: B.05 Acidente de Trabalho | C32: =ROUND(((15/30/12)*0.08),5) -> 0.00333 | D32: =ROUND($D$13*C32,2) -> 8.32
A33: B.06 Faltas Legais | C33: =ROUND((1/30)/12,5) -> 0.00278 | D33: =ROUND($D$13*C33,2) -> 6.95
A34: B.07 Férias sobre Licença Maternidade | C34: =ROUND(0.1111*0.02*0.333,5) -> 0.00074 | D34: =ROUND($D$13*C34,2) -> 1.85
A35: B.08 Licença Paternidade | C35: =ROUND(((5/30)/12)*0.015,5) -> 0.00021 | D35: =ROUND($D$13*C35,2) -> 0.52
A36: B.09 Férias adquiridas (não usufruídas) | C36: =ROUND(1/12,5) -> 0.08333 | D36: =ROUND($D$13*C36,2) -> 208.2
A37: TOTAL - GRUPO B | C37: =ROUND(SUM(C28:C36),5) -> 0.23483 | D37: =ROUND(SUM(D28:D36),2) -> 586.72
A39: GRUPO C | C39: % | D39: Valor (R$)
A40: C.01 Aviso Prévio Indenizado | C40: =ROUND(1/12*5%,5) -> 0.00417 | D40: =ROUND($D$13*C40,2) -> 10.42
A41: C.02 Indenização Adicional | C41: =ROUND(0.02*(1/12),5) -> 0.00167 | D41: =ROUND($D$13*C41,2) -> 4.17
A42: C.03 Indenização (rescisão sem justa causa – multa de 40% do FGTS) | C42: =ROUND(40%*8%,5) -> 0.032 | D42: =ROUND($D$13*C42,2) -> 79.95
A43: TOTAL - GRUPO C | C43: =ROUND(SUM(C40:C42),5) -> 0.03784 | D43: =ROUND(SUM(D40:D42),2) -> 94.54
A45: GRUPO D | C45: % | D45: Valor (R$)
...

Sheet Técnico de Suporte I
A1: PLANILHA ORÇAMENTÁRIA DE REFERÊNCIA DE FORMAÇÃO DE CUSTO DE MÃO DE OBRA
A2: Tipo de serviço: | B2: ='Quantidade de Cargo'!A16 -> Técnico de Suporte I
A3: CBO: | B3: ='Salario Base'!B16 -> 2624-10
A4: Unidade de medida: | B4: Posto
A5: Quantidade total a contratar (em função da unidade de medida): | B5: 1
