Workbook

Sheet Todos os Itens
A1: Anexo I do Termo de Referencia - PLANILHA ORÇAMENTARIA DE REFERÊNCIA DE SERVIÇOS DE MANUTENÇÃO
A3: PROPOSTA
A4: Nome de Fantasia:
A5: Razão Social:
A6: CNPJ: | F6: Optante pelo Simples:
A7: Endereço:
A8: Bairro: | F8: Cidade:
A9: CEP: | F9: E-mail:
A10: Telefone: | F10: Fax:
A11: Banco: | E11: Nome do Favorecido:
A12: Nº da agência bancária: | E12: Conta Bancária: | H12: Tipo de Conta:
A14: 1. OBJETO
A15: 1.1. Prestação de serviços de manutenção predial por demanda (corretiva) nos imóveis da Conselho Regional de Enfermagem do Amazonas – COREN/AM, localizados na cidade de Manaus/AM.
A17: 2. PLANILHA DE PREÇOS
A18: 2.1. Apresentar planilha descritiva com marca, valores unitários, total, junto com total geral do item, conforme descrito no Termo de Referência (Anexo I deste Edital).
A20: Item | B20: Descrição/Especificação | E20: Unidade de Medida | F20: Custo Total s/ Desconto | G20: Desconto | H20: BDI Calculado | I20: Preço Final
A21: 1 | B21: Prestação de Serviços com fornecimento de mão de obra e material de acordo com serviços previstos na Planilha Orçamentaria de Referência de Serviços de Manutenção (Anexo II do TR). | E21: Serviço | F21: ='Serviços - Anexo II do TR'!K121 -> 30472.72 | G21: ='Serviços - Anexo II do TR'!J122 -> 0 | H21: ='BDI - Anexo I do TR'!B23:B23 -> 0.2575 | I21: ='Serviços - Anexo II do TR'!K125 -> 38319.45
A23: • Validade da Proposta: ___ (_______) dias, observado o prazo mínimo de 60 (sessenta) dias.
A24: • Nos preços apresentados deverão incluir todos os custos com salários, horas extras, encargos sociais, transportes, uniformes, lucros, encargos fiscais e para-fiscais, despesas diretas e indiretas, bem como aquelas indispensáveis para execução do objeto.
A25: • Declaramos que os serviços aqui ofertados estão de acordo com as especificações do Termo de Referência do presente procedimento de seleção de fornecedor.
A26: • Declaramos conhecer e nos submetemos integralmente a todas as cláusulas e condições do presente Edital e seus anexos.
A28: VALOR GLOBAL DA PROPOSTA: | D28: =I21 -> 38319.45 | F28: (Escreva em extenso o valor)
E31: [Local/UF] | G31: =TODAY() -> 44589
A33: ASSINATURA:
C34: (Nome de Responsável Legal)
C35: Responsável Legal

Sheet BDI - Anexo I do TR
A1: Anexo I do Termo de Referencia - PLANILHA ORÇAMENTARIA DE REFERÊNCIA DE SERVIÇOS DE MANUTENÇÃO
A3: CONSELHO REGIONAL DE ENFERMAGEM DO AMAZONAS (COREN-AM) COMPOSIÇÃO DE B.D.I.
A5: SERVIÇO: MANUTENÇÃO PREDIAL EDIFICAÇÕES PERTENCENTES AO COREN-AM
A6: CIDADE: Manaus/AM
A8: 74209/001
A9: CÁLCULO DE BDI | C9: Construção de Edifícios | F9: Rodovias e Ferrovias - Infra Urbana, praças, calçadas, etc. | I9: Abastecimento de Água, Coleta de Esgoto | L9: Fornecimento de materiais e equipamentos | O9: Construção e Manutenção de Estações e Redes de Distribuição de Energia Elétrica | R9: Portuárias, Marítimas e Fluviais
A10: Item componente do BDI | B10: % Informado | C10: 1ºQ | D10: Médio | E10: 3º Q | F10: 1ºQ | G10: Médio | H10: 3º Q | I10: 1ºQ | J10: Médio | K10: 3º Q | L10: 1ºQ | M10: Médio | N10: 3º Q | O10: 1ºQ | P10: Médio | Q10: 3º Q | R10: 1ºQ | S10: Médio | T10: 3º Q
A11: Administração Central ( AC ) | B11: 4 | C11: 3 | D11: 4 | E11: 5.5 | F11: 3.8 | G11: 4.01 | H11: 4.67 | I11: 3.43 | J11: 4.93 | K11: 6.71 | L11: 1.5 | M11: 3.45 | N11: 4.49 | O11: 5.29 | P11: 5.92 | Q11: 7.93 | R11: 4 | S11: 5.52 | T11: 7.85
A12: Seguro (S) e Garantia (G) | B12: 0.8 | C12: 0.8 | D12: 0.8 | E12: 1 | F12: 0.32 | G12: 0.4 | H12: 0.74 | I12: 0.28 | J12: 0.49 | K12: 0.75 | L12: 0.3 | M12: 0.48 | N12: 0.82 | O12: 0.25 | P12: 0.51 | Q12: 0.56 | R12: 0.81 | S12: 1.22 | T12: 1.99
A13: Risco | B13: 0.97 | C13: 0.97 | D13: 1.27 | E13: 1.27 | F13: 0.5 | G13: 0.56 | H13: 0.97 | I13: 1 | J13: 1.39 | K13: 1.74 | L13: 0.56 | M13: 0.85 | N13: 0.89 | O13: 1 | P13: 1.48 | Q13: 1.97 | R13: 1.46 | S13: 2.32 | T13: 3.16
A14: Despesas Financeiras (DF) | B14: 0.59 | C14: 0.59 | D14: 1.23 | E14: 1.39 | F14: 1.02 | G14: 1.11 | H14: 1.21 | I14: 0.94 | J14: 0.99 | K14: 1.17 | L14: 0.85 | M14: 0.85 | N14: 1.11 | O14: 1.01 | P14: 1.07 | Q14: 1.11 | R14: 0.94 | S14: 1.02 | T14: 1.33
A15: Lucro (L) | B15: 6.2 | C15: 6.16 | D15: 7.4 | E15: 8.96 | F15: 6.64 | G15: 7.3 | H15: 8.69 | I15: 6.74 | J15: 8.04 | K15: 9.4 | L15: 3.5 | M15: 5.11 | N15: 6.22 | O15: 8 | P15: 8.31 | Q15: 9.51 | R15: 7.14 | S15: 8.4 | T15: 10.43
A16: Impostos (I) - PIS, COFINS, ISSQN | B16: 5.65 | C16: Conforme Legislação Específica
A17: Contribuição Previdênciária (I) - CPRB | B17: 4.5 | C17: Alíquota definida pela lei 12.844/13 (CPRB – contribuição previdenciária sobre a receita bruta).
A19: Observações | F19: VALORES DE BDI POR TIPO DE OBRA*
A20: 1) Preencher apenas a coluna % Informado (Coluna B) | F20: Tipo de Obra | L20: 1ºQ | M20: Médio | N20: 3º Q
A21: 2) Os Tributos normalmente aplicáveis são: PIS (O,65%), COFINS (3,00%) e ISS (variável até 5,00% conforme o município). | F21: Construção de Edifícios | L21: 20.34 | M21: 22.12 | N21: 25
A22: 3) O cálculo do BDI se baseia na fórmula abaixo utilizada pelo Acórdão 2622/13 do TCU. | F22: Construção de Rodovias e Ferrovias - Infra Urbana, praças, etc. | L22: 19.6 | M22: 20.97 | N22: 24.23
A23: B.D.I = | B23: =ROUND(((1+(B11+B12+B13)/100)*((1+B14/100)*(1+B15/100))/(1-(B16+B17)/100))-1,4) -> 0.2575 | F23: Rede de Abastecimento de Água, Coleta de Esgotos | L23: 20.76 | M23: 24.18 | N23: 26.44
A24: Fórmula Utilizada: | F24: Estações e Redes de Distribuição de Energia Elétrica | L24: 24 | M24: 25.84 | N24: 27.86
F25: Obras Portuárias, Marítimas e Fluviais | L25: 22.8 | M25: 27.48 | N25: 30.95
F26: Fornecimento de Materiais e Equipamentos | L26: 11.1 | M26: 14.02 | N26: 16.8
F27: * Sem incidência da CPRB
A29: Observações sobre os % informados no cálculo do BDI, neste caso:
A31: OS VALORES % INFORMADO ENQUADRAM-SE NOS LIMITES DO ACÓRDÃO 2622/2013-TCU
A32: OS VALORES % INFORMADO DE AC,S,G,R, E DF ESTÃO NOS VALORES MÍNIMOS DOS LIMITES DO ACÓRDÃO 2622/2013-TCU-PLENÁRIO
A33: OS VALORES % INFORMADO DE L FOI CONSIDERADO VALOR MÍNIMO DO LIMITE DO ACÓRDÃO 2622/2013-TCU
A34: OS VALORES % INFORMADO DE I FOI CONSIDERADO OS PERCENTUAIS INDICADOS DO ITEM 2) DO CAMPO OBSERVAÇÕES DO ACÓRDÃO 2622/2013-TCU
A35: OS VALORES % INFORMADO DE (CPRB) FOI CONSIDERADO O PERCENTUAL INDICADO PELA LEI 12.844/13.
P36: RESPONSAVEL TÉCNICO ORÇAMENTO
A39: Acórdão: 64.1. para alguns tipos de obras como construção e reforma de edifícios, ou saneamento e obras hídricas, ou ainda, rodoviárias e ferroviárias, não há aparente vantagem em se desagregar em dois tipos distintos de obras com BDIs específicos, tendo em vista que cada agrupamento desses possui mais características gerais comuns que diferenciadas;

Sheet Serviços - Anexo II do TR
A1: Anexo I do Termo de Referencia - PLANILHA ORÇAMENTARIA DE REFERÊNCIA DE SERVIÇOS DE MANUTENÇÃO
A3: PLANILHA ORÇAMENTÁRIA DESONERADA
A4: OBRA: Serviço de manutenção predial edificação(s) do COREN-AM
A5: TABELA REFERÊNCIA: SINAPI - SISTEMA NACIONAL DE PESQUISA DE CUSTOS E ÍNDICES DA CONSTRUÇÃO CIVIL
A6: ENCARGOS SOCIAIS DESONERADOS SOBRE PREÇOS DA MÃO-DE-OBRA: 84,39% (HORA) 47,07%(MÊS) - LOCALIDADE: MANAUS/AM
A7: DATA DE PREÇO : 01/12/2021 - DATA DE RT : 13/01/2022
A8: Item | B8: Código SINAPI | C8: Descrição | H8: Unidade de Medida | I8: Quantidade Estimada (a) | J8: Custo Unitário Referencial - R$ (b) | K8: Total - R$ (c = a x b)
A10: 1 | B10: MADEIRAMENTO | K10: =ROUND(SUM(K11:K12),2) -> 1912.3
A11: 1.1 | B11: 94207 | C11: TELHAMENTO COM TELHA ONDULADA DE FIBROCIMENTO E = 6 MM, COM RECOBRIMENTO LATERAL DE 1/4 DE ONDA PARA TELHADO COM INCLINAÇÃO MAIOR QUE 10°, COM ATÉ 2 ÁGUAS, INCLUSO IÇAMENTO. AF_07/2019 | H11: M² | I11: 10 | J11: 78.9 | K11: =ROUND(I11*J11,2) -> 789
A12: 1.2 | B12: 100435 | C12: RUFO EM FIBROCIMENTO PARA TELHA ONDULADA E = 6 MM, ABA DE 26 CM, INCLUSO TRANSPORTE VERTICAL, EXCETO CONTRARRUFO. AF_07/2019 | H12: M | I12: 10 | J12: 112.33 | K12: =ROUND(I12*J12,2) -> 1123.3
A13: 2 | B13: CALHA DE PVC, PECAS E ACESSORIOS, CALHA METÁLICA,RUFOS | K13: =ROUND(SUM(K14:K16),2) -> 929.05
A14: 2.1 | B14: 100434 | C14: CALHA DE BEIRAL, SEMICIRCULAR DE PVC, DIAMETRO 125 MM, INCLUINDO CABECEIRAS, EMENDAS, BOCAIS, SUPORTES E VEDAÇÕES, EXCLUINDO CONDUTORES, INCLUSO TRANSPORTE VERTICAL. AF_07/2019 | H14: M | I14: 5 | J14: 69.83 | K14: =ROUND(I14*J14,2) -> 349.15
A15: 2.2 | B15: 94227 | C15: CALHA EM CHAPA DE AÇO GALVANIZADO NÚMERO 24, DESENVOLVIMENTO DE 33 CM INCLUSO TRANSPORTE VERTICAL. AF_07/2019 | H15: M | I15: 5 | J15: 65.03 | K15: =ROUND(I15*J15,2) -> 325.15
A16: 2.3 | B16: 94231 | C16: RUFO EM CHAPA DE AÇO GALVANIZADO NÚMERO 24, CORTE DE 25 CM, INCLUSO TRANSPORTE VERTICAL. AF_07/2019 | H16: M | I16: 5 | J16: 50.95 | K16: =ROUND(I16*J16,2) -> 254.75
A17: 3 | B17: ESQUADRIAS/FERRAGENS/VIDROS | K17: =ROUND(SUM(K18:K20),2) -> 1252.87
A18: 3.1 | B18: 100697 | C18: RECOLOCAÇÃO DE FOLHAS DE PORTA DE MADEIRA LEVE OU MÉDIA DE 80CM DE LARGURA, CONSIDERANDO REAPROVEITAMENTO DO MATERIAL. AF_12/2019 | H18: UND | I18: 1 | J18: 67.94 | K18: =ROUND(I18*J18,2) -> 67.94
A19: 3.2 | B19: 100700 | C19: PORTA DE MADEIRA COMPENSADA LISA PARA PINTURA, 120X210X3,5CM, 2 FOLHAS, INCLUSO ADUELA 2A, ALIZAR 2A E DOBRADICAS | H19: UND | I19: 1 | J19: 510.35 | K19: =ROUND(I19*J19,2) -> 510.35
A20: 3.3 | B20: 100692 | C20: KIT DE PORTA DE MADEIRA TIPO VENEZIANA, 80X210CM (ESPESSURA DE 3CM), PADRÃO POPULAR, ITENS INCLUSOS: DOBRADIÇAS, MONTAGEM E INSTALAÇÃO DE BATENTE, FECHADURA COM EXECUÇÃO DO FURO - FORNECIMENTO E INSTALAÇÃO | H20: UND | I20: 1 | J20: 674.58 | K20: =ROUND(I20*J20,2) -> 674.58
A21: 4 | B21: ALÇAPÃO DE FERRO/GUARDA-CORPO DE FERRO/ESCADAS/CORRIMAOS | K21: =ROUND(SUM(K22:K23),2) -> 1700.15
A22: 4.1 | B22: 99839 | C22: GUARDA-CORPO DE AÇO GALVANIZADO DE 1,10M DE ALTURA, MONTANTES TUBULARES DE 1.1/2 ESPAÇADOS DE 1,20M, TRAVESSA SUPERIOR DE 2, GRADIL FORMADO POR BARRAS CHATAS EM FERRO DE 32X4,8MM, FIXADO COM CHUMBADOR MECÂNICO. AF_04/2019_P | H22: M | I22: 2 | J22: 486.85 | K22: =ROUND(I22*J22,2) -> 973.7
A23: 4.2 | B23: 102188 | C23: MOLA HIDRAULICA DE PISO PARA PORTA DE VIDRO TEMPERADO | H23: M | I23: 1 | J23: 726.45 | K23: =ROUND(I23*J23,2) -> 726.45
A24: 5 | B24: VIDROS/ESPELHOS | K24: =ROUND(SUM(K25:K25),2) -> 649.47
A25: 5.1 | B25: 102151 | C25: INSTALAÇÃO DE VIDRO LISO INCOLOR, E = 3 MM, EM ESQUADRIA DE MADEIRA, FIXADO COM BAGUETE. AF_01/2021 | H25: M² | I25: 3 | J25: 216.49 | K25: =ROUND(I25*J25,2) -> 649.47
A26: 6 | B26: JANELA DE ALUMINIO | K26: =ROUND(SUM(K27:K27),2) -> 1920.8
A27: 6.1 | B27: 94570 | C27: JANELA DE ALUMÍNIO DE CORRER, 2 FOLHAS, FIXAÇÃO COM PARAFUSO SOBRE CONTRAMARCO (EXCLUSIVE ALIZAR E CONTRAMARCO), COM VIDROS PADRONIZADA. AF_07/2016 | H27: M² | I27: 5 | J27: 384.16 | K27: =ROUND(I27*J27,2) -> 1920.8
A28: 7 | B28: IMPERMEABILIZACOES E PROTECOES DIVERSAS | K28: =ROUND(SUM(K29:K31),2) -> 1581.9
A29: 7.1 | B29: 98560 | C29: IMPERMEABILIZAÇÃO DE PISO COM ARGAMASSA DE CIMENTO E AREIA, COM ADITIVO IMPERMEABILIZANTE, E = 2CM. AF_06/2018 | H29: M² | I29: 10 | J29: 45.27 | K29: =ROUND(I29*J29,2) -> 452.7
A30: 7.2 | B30: 98555 | C30: IMPERMEABILIZAÇÃO DE SUPERFÍCIE COM ARGAMASSA POLIMÉRICA / MEMBRANA ACRÍLICA, 3 DEMÃOS. AF_06/2018 | H30: M² | I30: 10 | J30: 21.51 | K30: =ROUND(I30*J30,2) -> 215.1
A31: 7.3 | B31: 98546 | C31: IMPERMEABILIZAÇÃO DE SUPERFÍCIE COM MANTA ASFÁLTICA, UMA CAMADA, INCLUSIVE APLICAÇÃO DE PRIMER ASFÁLTICO, E=3MM. AF_06/2018 | H31: M² | I31: 10 | J31: 91.41 | K31: =ROUND(I31*J31,2) -> 914.1
A32: 8 | B32: INSTALACAO ELETRICA/ELETRIFICACAO E ILUMINACAO EXTERNA | K32: =ROUND(SUM(K33:K60),2) -> 7172.99
A33: 8.1 | B33: 91831 | C33: ELETRODUTO FLEXÍVEL CORRUGADO, PVC, DN 20 MM (1/2"), PARA CIRCUITOS TERMINAIS, INSTALADO EM FORRO - FORNECIMENTO E INSTALAÇÃO. AF_12/2015 | H33: M | I33: 20 | J33: 7.35 | K33: =ROUND(I33*J33,2) -> 147
A34: 8.2 | B34: 91863 | C34: ELETRODUTO RÍGIDO ROSCÁVEL, PVC, DN 25 MM (3/4"), PARA CIRCUITOS TERMINAIS, INSTALADO EM FORRO - FORNECIMENTO E INSTALAÇÃO. AF_12/2015 | H34: M | I34: 20 | J34: 10.68 | K34: =ROUND(I34*J34,2) -> 213.6
A35: 8.3 | B35: 95745 | C35: ELETRODUTO DE AÇO GALVANIZADO, CLASSE LEVE, DN 20 MM (3/4), APARENTE, INSTALADO EM TETO - FORNECIMENTO E INSTALAÇÃO. AF_11/2016_P | H35: M | I35: 20 | J35: 22.72 | K35: =ROUND(I35*J35,2) -> 454.4
A36: FIOS/CABOS
A37: 8.4 | B37: 91924 | C37: CABO DE COBRE FLEXÍVEL ISOLADO, 1,5 MM², ANTI-CHAMA 450/750 V, PARA CIRCUITOS TERMINAIS - FORNECIMENTO E INSTALAÇÃO. AF_12/2015 | H37: M | I37: 50 | J37: 2.64 | K37: =ROUND(I37*J37,2) -> 132
A38: 8.5 | B38: 91926 | C38: CABO DE COBRE FLEXÍVEL ISOLADO, 2,5 MM², ANTI-CHAMA 450/750 V, PARA CIRCUITOS TERMINAIS - FORNECIMENTO E INSTALAÇÃO. AF_12/2015 | H38: M | I38: 50 | J38: 3.82 | K38: =ROUND(I38*J38,2) -> 191
A39: 8.6 | B39: 91928 | C39: CABO DE COBRE FLEXÍVEL ISOLADO, 4 MM², ANTI-CHAMA 450/750 V, PARA CIRCUITOS TERMINAIS - FORNECIMENTO E INSTALAÇÃO. AF_12/2015 | H39: M | I39: 50 | J39: 6.19 | K39: =ROUND(I39*J39,2) -> 309.5
A40: 8.7 | B40: 91941 | C40: CAIXA RETANGULAR 4" X 2" BAIXA (0,30 M DO PISO), PVC, INSTALADA EM PAREDE - FORNECIMENTO E INSTALAÇÃO. AF_12/2015 | H40: UND | I40: 5 | J40: 10.03 | K40: =ROUND(I40*J40,2) -> 50.15
A41: 8.8 | B41: 95780 | C41: CONDULETE DE ALUMÍNIO, TIPO B, PARA ELETRODUTO DE AÇO GALVANIZADO DN 25 MM (1''), APARENTE - FORNECIMENTO E INSTALAÇÃO. AF_11/2016_P | H41: UND | I41: 10 | J41: 29.94 | K41: =ROUND(I41*J41,2) -> 299.4
A42: QUADROS/DISJUNTORES
...
