Workbook

Sheet Quantidade de Cargo
A1: QUANTIDADE DE POSTO POR DEPARTAMENTO/SETOR
A2: CARGO | B2: QUANTIDADE DE EMPREGADOS | R2: Total por Cargo
B3: Controladoria Geral - CONTROL | C3: Corregedoria de Processos Éticos | D3: Departamento de Administração e Gestão de Pessoal - DAGEPE | E3: Departamento Contábil - DECON | F3: Departamento de Fiscalização - DEFIS | G3: Departamento de Registro e Cadastro - DRC | H3: Departamento Financeiro - DEFIN | I3: Procuradoria Geral - PROGER | J3: Secretaria Executiva - SECEX | K3: Setor de Arquivo e Protocolo | L3: Setor de Comunicação - SECOM | M3: Setor de Divida Ativa | N3: Setor de Licitações e Contratos - SELIC | O3: Setor de Negociação | P3: Setor de Ouvidoria | Q3: Setor de Tecnologia de Informação - STI
A4: Analista de Departamento Pessoal | B4: - | C4: - | D4: 1 | E4: - | F4: - | G4: - | H4: - | I4: - | J4: - | K4: - | L4: - | M4: - | N4: - | O4: - | P4: - | Q4: - | R4: =ROUND(SUM(B4:Q4),2) -> 1
A5: Analista Jurídico | B5: - | C5: - | D5: - | E5: - | F5: - | G5: - | H5: - | I5: 2 | J5: - | K5: - | L5: - | M5: - | N5: - | O5: - | P5: - | Q5: - | R5: =ROUND(SUM(B5:Q5),2) -> 2
A6: Arquivista | B6: - | C6: - | D6: - | E6: - | F6: - | G6: - | H6: - | I6: - | J6: - | K6: 1 | L6: - | M6: - | N6: - | O6: - | P6: - | Q6: - | R6: =ROUND(SUM(B6:Q6),2) -> 1
A7: Assistente Administrativo I | B7: - | C7: 1 | D7: - | E7: - | F7: - | G7: 6 | H7: - | I7: - | J7: 2 | K7: 2 | L7: - | M7: 1 | N7: 1 | O7: 2 | P7: 1 | Q7: - | R7: =ROUND(SUM(B7:Q7),2) -> 16
A8: Assistente Administrativo II | B8: 3 | C8: - | D8: 2 | E8: - | F8: 1 | G8: 1 | H8: 1 | I8: - | J8: 1 | K8: - | L8: - | M8: 1 | N8: 1 | O8: - | P8: - | Q8: - | R8: =ROUND(SUM(B8:Q8),2) -> 11
A9: Assistente Contábil II | B9: - | C9: - | D9: - | E9: 1 | F9: - | G9: - | H9: - | I9: - | J9: - | K9: - | L9: - | M9: - | N9: - | O9: - | P9: - | Q9: - | R9: =ROUND(SUM(B9:Q9),2) -> 1
A10: Assistente de Comunicação | B10: - | C10: - | D10: - | E10: - | F10: - | G10: - | H10: - | I10: - | J10: - | K10: - | L10: 1 | M10: - | N10: - | O10: - | P10: - | Q10: - | R10: =ROUND(SUM(B10:Q10),2) -> 1
A11: Assistente Financeiro I | B11: - | C11: - | D11: - | E11: - | F11: - | G11: - | H11: 1 | I11: - | J11: - | K11: - | L11: - | M11: - | N11: - | O11: - | P11: - | Q11: - | R11: =ROUND(SUM(B11:Q11),2) -> 1
A12: Copeiro II | B12: - | C12: - | D12: 1 | E12: - | F12: - | G12: - | H12: - | I12: - | J12: - | K12: - | L12: - | M12: - | N12: - | O12: - | P12: - | Q12: - | R12: =ROUND(SUM(B12:Q12),2) -> 1
A13: Designer Gráfico | B13: - | C13: - | D13: - | E13: - | F13: - | G13: - | H13: - | I13: - | J13: - | K13: - | L13: 1 | M13: - | N13: - | O13: - | P13: - | Q13: - | R13: =ROUND(SUM(B13:Q13),2) -> 1
A14: Motorista | B14: - | C14: - | D14: - | E14: - | F14: - | G14: - | H14: - | I14: - | J14: 2 | K14: - | L14: - | M14: - | N14: - | O14: - | P14: - | Q14: - | R14: =ROUND(SUM(B14:Q14),2) -> 2
A15: Oficial de Manutenção | B15: - | C15: - | D15: 1 | E15: - | F15: - | G15: - | H15: - | I15: - | J15: - | K15: - | L15: - | M15: - | N15: - | O15: - | P15: - | Q15: - | R15: =ROUND(SUM(B15:Q15),2) -> 1
A16: Técnico de Suporte I | B16: - | C16: - | D16: - | E16: - | F16: - | G16: - | H16: - | I16: - | J16: - | K16: - | L16: - | M16: - | N16: - | O16: - | P16: - | Q16: 1 | R16: =ROUND(SUM(B16:Q16),2) -> 1
A17: Técnico de Suporte II | B17: - | C17: - | D17: - | E17: - | F17: - | G17: - | H17: - | I17: - | J17: - | K17: - | L17: - | M17: - | N17: - | O17: - | P17: - | Q17: 1 | R17: =ROUND(SUM(B17:Q17),2) -> 1
A18: Total por Setor/Departamento | B18: =ROUND(SUM(B4:B15),2) -> 3 | C18: =ROUND(SUM(C4:C15),2) -> 1 | D18: =ROUND(SUM(D4:D15),2) -> 5 | E18: =ROUND(SUM(E4:E15),2) -> 1 | F18: =ROUND(SUM(F4:F15),2) -> 1 | G18: =ROUND(SUM(G4:G15),2) -> 7 | H18: =ROUND(SUM(H4:H15),2) -> 2 | I18: =ROUND(SUM(I4:I15),2) -> 2 | ... Q18: =ROUND(SUM(Q4:Q15),2) -> 0 | R18: =ROUND(SUM(R4:R17),2) -> 41
A21: QUANTIDADE DE CARGOS POR ESCOLARIDADE
A22: CARGO | B22: QUANTIDADE DE EMPREGADOS | E22: Total por Cargo
B23: Nível Fundamental | C23: Nível Médio | D23: Nível Superior
A24: Analista de Departamento Pessoal | B24: - | C24: - | D24: 1 | E24: =ROUND(SUM(B24:D24),2) -> 1
A25: Analista Jurídico | B25: - | C25: - | D25: 2 | E25: =ROUND(SUM(B25:D25),2) -> 2
A26: Arquivista | B26: - | C26: - | D26: 1 | E26: =ROUND(SUM(B26:D26),2) -> 1
A27: Assistente Administrativo I | B27: - | C27: 16 | D27: - | E27: =ROUND(SUM(B27:D27),2) -> 16
A28: Assistente Administrativo II | C28: - | D28: 11 | E28: =ROUND(SUM(B28:D28),2) -> 11
A29: Assistente Contábil II | B29: - | C29: - | D29: 1 | E29: =ROUND(SUM(B29:D29),2) -> 1
A30: Assistente de Comunicação | B30: - | C30: - | D30: 1 | E30: =ROUND(SUM(B30:D30),2) -> 1
A31: Assistente Financeiro I | B31: - | C31: 1 | D31: - | E31: =ROUND(SUM(B31:D31),2) -> 1
A32: Copeiro II | B32: 1 | C32: - | E32: =ROUND(SUM(B32:D32),2) -> 1
A33: Designer Gráfico | B33: - | C33: - | D33: 1 | E33: =ROUND(SUM(B33:D33),2) -> 1
A34: Motorista | B34: - | C34: 2 | D34: - | E34: =ROUND(SUM(B34:D34),2) -> 2
A35: Oficial de Manutenção | B35: 1 | C35: - | D35: - | E35: =ROUND(SUM(B35:D35),2) -> 1
A36: Técnico de Suporte I | B36: - | C36: 1 | D36: - | E36: =ROUND(SUM(B36:D36),2) -> 1
A37: Técnico de Suporte II | B37: - | C37: - | D37: 1 | E37: =ROUND(SUM(B37:D37),2) -> 1
A38: Total por Escolaridade | B38: =ROUND(SUM(B24:B35),2) -> 2 | C38: =ROUND(SUM(C24:C35),2) -> 19 | D38: =ROUND(SUM(D24:D35),2) -> 18 | E38: =ROUND(SUM(E24:E37),2) -> 41

Sheet Quantidade de Hora-Extra
A1: HORA-EXTRA ESTIMADA POR ANO
A2: LEGISLAÇÃO | B2: DECRETO-LEI Nº 5.452, DE 1º DE MAIO DE 1943 Art. 59. A duração diária do trabalho poderá ser acrescida de horas extras, em número não excedente de duas, por acordo individual, convenção coletiva ou acordo coletivo de trabalho.
A3: Cargo | B3: Quantidade de Posto | C3: Quantidade de Hora Extra Anual de 50% Por Posto | D3: Quantidade de Hora Extra Anual de 100% Por Posto | E3: Quantidade Total de Hora Extra Anual Por Posto | F3: Quantidade Total de Hora Extra Anual Por Cargo
A4: =#REF! -> #REF! | B4: 1 | C4: 84 | D4: 36 | E4: =ROUND(SUM(C4:D4),2) -> 120 | F4: =ROUND(B4*E4,2) -> 120
A5: =#REF! -> #REF! | B5: 2 | C5: 21 | D5: 9 | E5: =ROUND(SUM(C5:D5),2) -> 30 | F5: =ROUND(B5*E5,2) -> 60
A6: =#REF! -> #REF! | B6: 1 | C6: 21 | D6: 9 | E6: =ROUND(SUM(C6:D6),2) -> 30 | F6: =ROUND(B6*E6,2) -> 30
A7: =#REF! -> #REF! | B7: 1 | C7: 40 | D7: 4 | E7: =ROUND(SUM(C7:D7),2) -> 44 | F7: =ROUND(B7*E7,2) -> 44
A8: =#REF! -> #REF! | B8: 2 | C8: 40 | D8: 4 | E8: =ROUND(SUM(C8:D8),2) -> 44 | F8: =ROUND(B8*E8,2) -> 88
A9: Total | B9: =ROUND(SUM(B3:B8),2) -> 7 | C9: =ROUND(SUM(C3:C8),2) -> 206 | D9: =ROUND(SUM(D3:D8),2) -> 62 | E9: =ROUND(SUM(E3:E8),2) -> 268 | F9: =ROUND(SUM(F3:F8),2) -> 342

Sheet Dados de Passagens e Diarias
A1: PASSAGENS ESTIMADAS | D1: DIARIAS ESTIMADAS
A2: Departamento/Setor | B2: QUANTIDADE ANUAL | D2: Departamento/Setor | E2: QUANTIDADE ANUAL
A3: SECOM | B3: 6 | D3: SECEX | E3: 50
A4: Total | B4: =ROUND(SUM(B3:B3),2) -> 6 | D4: SECOM | E4: 15
D5: Total | E5: =ROUND(SUM(E3:E4),2) -> 65

Sheet Quadro Geral de Custo
A1: QUADRO GERAL DE CUSTO
A2: 1.0 | B2: Mão de Obra
A3: Subitem | B3: Cargo | D3: Nº de Posto (a) | E3: Vlr. Unitário por Empregado R$ (b) | F3: Vlr. Mensal R$ (c = a x b) | G3: Vlr. Anual R$ (d = c x 12 meses) | H3: Vlr. Bienal R$ (e = d x 2 anos)
A4: 1.1. | B4: ='Agente de Limpeza'!B2:D2 -> Agente de Limpeza | D4: 3 | E4: ='Agente de Limpeza'!D96 -> 3945.02 | F4: =ROUND(D4*E4,2) -> 11835.06 | G4: =ROUND(F4*12,2) -> 142020.72 | H4: =ROUND(G4*2,2) -> 284041.44
A5: 1.2. | B5: ='Agente de Limpeza Hab'!B2:D2 -> Agente de Limpeza Habilitado para Operar Roçadeira | D5: 1 | E5: ='Agente de Limpeza Hab'!D96 -> 4604.06 | F5: =ROUND(D5*E5,2) -> 4604.06 | G5: =ROUND(F5*12,2) -> 55248.72 | H5: =ROUND(G5*2,2) -> 110497.44
A6: Subtotal Item 1.0 (∑ dos subitens do item 1) R$ → | D6: =ROUND(SUM(D4:D4),2) -> 3 | E6: =ROUND(SUM(E4:E4),2) -> 3945.02 | F6: =ROUND(SUM(F4:F4),2) -> 11835.06 | G6: =ROUND(SUM(G4:G4),2) -> 142020.72 | H6: =ROUND(SUM(H4:H4),2) -> 284041.44
A8: 2.0 | B8: Custo por Demanda | F8: Vlr. Mensal R$ (g = f ÷ 12) | G8: Vlr. Anual R$ (f) | H8: Vlr. Bienal R$ (h = f x 2 anos)
A9: 2.1. | B9: Material de Limpeza | F9: =ROUND(G9/12,2) -> 11783.32 | G9: ='Material de Limpeza'!D54:D54 -> 141399.78 | H9: =ROUND(G9*2,2) -> 282799.56
A10: Subtotal Item 2.0 R$ → | F10: =ROUND(SUM(F9:F9),2) -> 11783.32 | G10: =ROUND(SUM(G9:G9),2) -> 141399.78 | H10: =ROUND(SUM(H9:H9),2) -> 282799.56
A12: TOTAIS DO CONTRATO - MÃO DE OBRA + CUSTO POR DEMANDA
A13: TOTAL MENSAL (Total Anual ÷ 12 meses) R$ → | F13: =ROUND(F14/12,2) -> 23618.38
A14: TOTAL ANUAL (Total Anual Item 1 + Item 2) R$ → | F14: =ROUND(G6+G10,2) -> 283420.5
A15: TOTAL BIANUAL (Total Anual X 2 anos) R$ → | F15: =ROUND(F14*2,2) -> 566841
F18: =TODAY() -> 45191
A21: Elaborado por:
D22: Abraão dos Matos Azevedo Assessor Técnico Matricula Coren-AM nº 125

Sheet Agente de Limpeza
A1: PLANILHA ORÇAMENTÁRIA DE REFERÊNCIA DE FORMAÇÃO DE CUSTO DE MÃO DE OBRA
A2: Tipo de serviço: | B2: Agente de Limpeza
A3: CBO: | B3: 5143-20
A4: Unidade de medida: | B4: Posto de 44hrs Semanais
A5: Quantidade total a contratar (em função da unidade de medida): | B5: 3
A6: Convenção Coletiva de Trabalho/Acordo/ Dissídio Coletivo de Trabalho: | B6: Convenção Coletiva de Trabalho (CCT) - Nº Registro no MTE: AM000007/2023.
A8: MÃO DE OBRA VINCULADA À EXECUÇÃO CONTRATUAL
A9: SEÇÃO I - COMPOSIÇÃO DA REMUNERAÇÃO (R$) | E9: FUNDAMENTO/METODOLOGIA | F9: INFORMAÇÕES COMPLEMENTARES
A10: Composição da Remuneração | C10: % | D10: Valor (R$)
A11: Salário Base | C11: - | D11: 1348 | E11: Cláusula Terceira
A12: Outros | D12: =C12*D11/100 -> 0 | E12: -
A13: TOTAL DA REMUNERAÇÃO (R$) | D13: =ROUND(SUM(D11:D12),2) -> 1348
A15: SEÇÃO II - ENCARGOS SOCIAIS INCIDENTES SOBRE A REMUNERAÇÃO (R$) | E15: FUNDAMENTO/METODOLOGIA
A16: GRUPO A - ENCARGOS | C16: % | D16: Valor (R$)
A17: A.01 SEGURIDADE SOCIAL | C17: 0.2 | D17: =ROUND($D$13*C17,2) -> 269.6 | E17: Art. 2°, § 3º, da Lei 11.457, de 16 de março de 2007.
A18: A.02 FGTS | C18: 0.08 | D18: =ROUND($D$13*C18,2) -> 107.84 | E18: Art. 15, Lei nº 8.036/90 e Art. 7º, III, CF.
A19: A.03 SESI/SESC | C19: 0.015 | D19: =ROUND($D$13*C19,2) -> 20.22 | E19: Art. 30, Lei 8.036, de 11 de maio de 1990.
A20: A.04 SENAI/SENAC | C20: 0.01 | D20: =ROUND($D$13*C20,2) -> 13.48 | E20: Art. 1º, caput, Decreto-Lei 6.246, de 1944 (SENAI) e art. 4º, caput do Decreto-Lei 8.621, de 1946. (SENAC).
A21: A.05 INCRA | C21: 0.002 | D21: =ROUND($D$13*C21,2) -> 2.7 | E21: Art. 1°, I, 2 c/c art. 3°, ambos do Decreto-Lei 1.146, de 31 de dezembro de 1970.
A22: A.06 SEBRAE | C22: 0.006 | D22: =ROUND($D$13*C22,2) -> 8.09 | E22: Art. 8º, Lei 8.029, de 12 de abril de 1990.
A23: A.07 Salário Educação | C23: 0.025 | D23: =ROUND($D$13*C23,2) -> 33.7 | E23: Art. 3º, Inciso I, Decreto 87.043, de 22 de março de 1982.
A24: A.08 Riscos Ambientais do Trabalho – RAT x FAP | C24: 0.06 | D24: =ROUND($D$13*C24,2) -> 80.88 | E24: RAT: 3% (Serviços combinados para apoio a edifícios, exceto condomínios prediais – código 8111-7/00; Limpeza em prédios e em domicílios - código 8121-4/00; todos do Anexo V do Decreto nº 3.048/1999) X FAP: 2,000 (Padrão).
A25: TOTAL - GRUPO A - ENCARGOS | C25: =ROUND(SUM(C17:C24),5) -> 0.398 | D25: =ROUND(SUM(D17:D24),2) -> 536.51
A27: GRUPO B | C27: % | D27: Valor (R$) | E27: FUNDAMENTO/METODOLOGIA | F27: INFORMAÇÕES COMPLEMENTARES
A28: B.01 13º Salário | C28: =ROUND(1/12,5) -> 0.08333 | D28: =ROUND($D$13*C28,2) -> 112.33 | E28: [(1/12)x100] = 8,333% - Art. 7º, VIII, CF/88 | F28: B.03 - Redução de 7 dias ou de 2h por dia para 100 % dos empregados. Percentual relativo a contrato de 12 (doze) meses. B.04 - De acordo com dados do MTPS, foram concedidos 1.462.463 benefícios de auxílio-doença urbano no ano de 2013 em uma população de contribuintes para o INSS de 54.796.761 pessoas (http://www.mtps.gov.br/dados-abertos/dados-da-previdencia/previdencia-social-e-inss/boletim_x0002_estatistico-da-previdencia-social-beps). B.05 - Estimativa de 1 licença de 15 dias por ano para 1,22% dos empregados. Esta taxa foi obtida pela proporção de acidentes de trabalho registrados, 717.911, conforme dados do Anuário Estatístico da Previdência Social – AEPS/2013, em relação a 58.981.000 de trabalhadores que fazem jus a emissão da CAT (trabalhadores com carteira assinada, outros tipos de trabalhadores e domésticas), conforme dados da PNAD 2013. B.06 - Estimativa de 1,4947 ausências por ano, de acordo com a IN 2/2008-MPOG. B.07 - Estimativa de 1,416% (taxa de natalidade da população brasileira/IBGE) de empregadas usufruindo 4 meses de licença por ano. B.08 - Estimativa de 1,416% (taxa de natalidade da população brasileira/IBGE) dos empregados usufruindo 5 dias da licença por ano.
A29: B.02 Férias (sem o abono de 1/3) | C29: =ROUND(1/12,5) -> 0.08333 | D29: =ROUND($D$13*C29,2) -> 112.33 | E29: [(1/12)x100] = 8,333% - Art. 7º, VIII, CF/88
A30: B.03 Aviso Prévio Trabalhado | C30: =ROUND((((100% / 30) * 7) / 12),5) -> 0.01944 | D30: =ROUND($D$13*C30,2) -> 26.21 | E30: [(100% / 30) x 7] / 12 = 1,944% - Art. 7º, XXI, CF/88, 477, 487 e ss. da CLT
A31: B.04 Auxílio Doença | C31: =ROUND((1462463/54796761)/12,5) -> 0.00222 | D31: =ROUND($D$13*C31,2) -> 2.99 | E31: (Benefícios de auxílio_x0002_doença urbano/População Economicamente Ativa Ocupada) / 12 = 0,222% - Art. 59 e ss. Da Lei nº 8.213/91
A32: B.05 Acidente de Trabalho | C32: =ROUND((((100%/30)*15)/12)*(717911/58981000),5) -> 0.00051 | D32: =ROUND($D$13*C32,2) -> 0.69 | E32: {[(100% /30) x 15] / 12} x (nº CAT/População INSS CAT) = 0,051% - Art. 19 a 23 da Lei nº 8.213/91
A33: B.06 Faltas Legais | C33: =ROUND(((100%/30)*1.4947)/12,5) -> 0.00415 | D33: =ROUND($D$13*C33,2) -> 5.59 | E33: [(100% / 30) x 1,4947] / 12 = 0,415% - Art. 473 da CLT
A34: B.07 Férias sobre Licença Maternidade | C34: =ROUND(8.333%*1.416%*4/12,5) -> 0.00039 | D34: =ROUND($D$13*C34,2) -> 0.53 | E34: [(8,333% x 1,416% x 4/12) x 100] = 0,039% - Impacto do item férias sobre a licença maternidade
A35: B.08 Licença Paternidade | C35: =ROUND((((100%/30)*5)/12)*1.416%,5) -> 0.0002 | D35: =ROUND($D$13*C35,2) -> 0.27 | E35: {[(100% /30) x 5] / 12} x 1,416% = 0,020% - Art. 7º, XIX, CF/88 e 10, §1º, da ADCT
A36: TOTAL - GRUPO B | C36: =ROUND(SUM(C28:C35),5) -> 0.19357 | D36: =ROUND(SUM(D28:D35),2) -> 260.94
A38: GRUPO C | C38: % | D38: Valor (R$) | E38: FUNDAMENTO/METODOLOGIA | F38: INFORMAÇÕES COMPLEMENTARES
A39: C.01 Aviso Prévio Indenizado | C39: =ROUND(1/12*5%,5) -> 0.00417 | D39: =ROUND($D$13*C39,2) -> 5.62 | E39: {[0,05x(1/12)]x100} = 0,417% - Art. 7º, XXI, CF/88, 477, 487 e ss. CLT | F39: C.01 - Estimativa de que 5% (cinco por cento) dos empregados serão substituídos durante um ano. C.02 - Estimativa de que 3,4275% dos empregados receberão indenização de acordo com a média nacional de 12 meses (abril 2015 - março 2016) da Taxa de Rotatividade por Nível Geográfico - M.T.E./CAGED. C.03 - Multa de 40% do FGTS em relação aos trabalhadores contratados.
A40: C.02 Indenização Adicional | C40: =ROUND(1/12*3.4275%,5) -> 0.00286 | D40: =ROUND($D$13*C40,2) -> 3.86 | E40: [1/12 x 3,4275%] = 0,286% - Art. 9º da Lei nº 7.238, de 1984
A41: C.03 Indenização (rescisão sem justa causa – multa de 40% do FGTS) | C41: =ROUND(40%*8%,5) -> 0.032 | D41: =ROUND($D$13*C41,2) -> 43.14 | E41: (1x0,40x0,08x100) = 3,200% - Art. 18, §1º da Lei 8.036/90
A42: C.04 Abono de Férias - 1/3 constitucional | C42: =ROUND(1/3/12,5) -> 0.02778 | D42: =ROUND($D$13*C42,2) -> 37.45 | E42: [(1/3) / 12] = 2,778% - Art. 7º, XVII, CF/88
A43: C.05 Abono de Férias - 1/3 constitucional sobre licença maternidade | C43: =ROUND(1/3*C34,5) -> 0.00013 | D43: =ROUND($D$13*C43,2) -> 0.18 | E43: (1/3) x [(8,333% x 1,416% x 4/12) x 100] = 0,013% - Art. 7º, XVII, CF/88
A44: TOTAL - GRUPO C | C44: =ROUND(SUM(C39:C43),5) -> 0.06694 | D44: =ROUND(SUM(D39:D43),2) -> 90.25
...

Sheet Agente de Limpeza Hab
A1: PLANILHA ORÇAMENTÁRIA DE REFERÊNCIA DE FORMAÇÃO DE CUSTO DE MÃO DE OBRA
A2: Tipo de serviço: | B2: Agente de Limpeza Habilitado para Operar Roçadeira
A3: CBO: | B3: 5143-20
A4: Unidade de medida: | B4: Posto de 44hrs Semanais
A5: Quantidade total a contratar (em função da unidade de medida): | B5: 1
A6: Convenção Coletiva de Trabalho/Acordo/ Dissídio Coletivo de Trabalho: | B6: Convenção Coletiva de Trabalho (CCT) - Nº Registro no MTE: AM000007/2023.
A8: MÃO DE OBRA VINCULADA À EXECUÇÃO CONTRATUAL
A9: SEÇÃO I - COMPOSIÇÃO DA REMUNERAÇÃO (R$) | E9: FUNDAMENTO/METODOLOGIA | F9: INFORMAÇÕES COMPLEMENTARES
A10: Composição da Remuneração | C10: % | D10: Valor (R$)
A11: Salário Base | C11: - | D11: 1633.66 | E11: Cláusula Terceira
A12: Outros | D12: =C12*D11/100 -> 0 | E12: -
A13: TOTAL DA REMUNERAÇÃO (R$) | D13: =ROUND(SUM(D11:D12),2) -> 1633.66
A15: SEÇÃO II - ENCARGOS SOCIAIS INCIDENTES SOBRE A REMUNERAÇÃO (R$) | E15: FUNDAMENTO/METODOLOGIA
A16: GRUPO A - ENCARGOS | C16: % | D16: Valor (R$)
A17: A.01 SEGURIDADE SOCIAL | C17: 0.2 | D17: =ROUND($D$13*C17,2) -> 326.73 | E17: Art. 2°, § 3º, da Lei 11.457, de 16 de março de 2007.
A18: A.02 FGTS | C18: 0.08 | D18: =ROUND($D$13*C18,2) -> 130.69 | E18: Art. 15, Lei nº 8.036/90 e Art. 7º, III, CF.
A19: A.03 SESI/SESC | C19: 0.015 | D19: =ROUND($D$13*C19,2) -> 24.5 | E19: Art. 30, Lei 8.036, de 11 de maio de 1990.
A20: A.04 SENAI/SENAC | C20: 0.01 | D20: =ROUND($D$13*C20,2) -> 16.34 | E20: Art. 1º, caput, Decreto-Lei 6.246, de 1944 (SENAI) e art. 4º, caput do Decreto-Lei 8.621, de 1946. (SENAC).
A21: A.05 INCRA | C21: 0.002 | D21: =ROUND($D$13*C21,2) -> 3.27 | E21: Art. 1°, I, 2 c/c art. 3°, ambos do Decreto-Lei 1.146, de 31 de dezembro de 1970.
A22: A.06 SEBRAE | C22: 0.006 | D22: =ROUND($D$13*C22,2) -> 9.8 | E22: Art. 8º, Lei 8.029, de 12 de abril de 1990.
A23: A.07 Salário Educação | C23: 0.025 | D23: =ROUND($D$13*C23,2) -> 40.84 | E23: Art. 3º, Inciso I, Decreto 87.043, de 22 de março de 1982.
A24: A.08 Riscos Ambientais do Trabalho – RAT x FAP | C24: 0.06 | D24: =ROUND($D$13*C24,2) -> 98.02 | E24: RAT: 3% (Serviços combinados para apoio a edifícios, exceto condomínios prediais – código 8111-7/00; Limpeza em prédios e em domicílios - código 8121-4/00; todos do Anexo V do Decreto nº 3.048/1999) X FAP: 2,000 (Padrão).
A25: TOTAL - GRUPO A - ENCARGOS | C25: =ROUND(SUM(C17:C24),5) -> 0.398 | D25: =ROUND(SUM(D17:D24),2) -> 650.19
A27: GRUPO B | C27: % | D27: Valor (R$) | E27: FUNDAMENTO/METODOLOGIA | F27: INFORMAÇÕES COMPLEMENTARES
A28: B.01 13º Salário | C28: =ROUND(1/12,5) -> 0.08333 | D28: =ROUND($D$13*C28,2) -> 136.13 | E28: [(1/12)x100] = 8,333% - Art. 7º, VIII, CF/88 | F28: B.03 - Redução de 7 dias ou de 2h por dia para 100 % dos empregados. Percentual relativo a contrato de 12 (doze) meses. B.04 - De acordo com dados do MTPS, foram concedidos 1.462.463 benefícios de auxílio-doença urbano no ano de 2013 em uma população de contribuintes para o INSS de 54.796.761 pessoas (http://www.mtps.gov.br/dados-abertos/dados-da-previdencia/previdencia-social-e-inss/boletim_x0002_estatistico-da-previdencia-social-beps). B.05 - Estimativa de 1 licença de 15 dias por ano para 1,22% dos empregados. Esta taxa foi obtida pela proporção de acidentes de trabalho registrados, 717.911, conforme dados do Anuário Estatístico da Previdência Social – AEPS/2013, em relação a 58.981.000 de trabalhadores que fazem jus a emissão da CAT (trabalhadores com carteira assinada, outros tipos de trabalhadores e domésticas), conforme dados da PNAD 2013. B.06 - Estimativa de 1,4947 ausências por ano, de acordo com a IN 2/2008-MPOG. B.07 - Estimativa de 1,416% (taxa de natalidade da população brasileira/IBGE) de empregadas usufruindo 4 meses de licença por ano. B.08 - Estimativa de 1,416% (taxa de natalidade da população brasileira/IBGE) dos empregados usufruindo 5 dias da licença por ano.
A29: B.02 Férias (sem o abono de 1/3) | C29: =ROUND(1/12,5) -> 0.08333 | D29: =ROUND($D$13*C29,2) -> 136.13 | E29: [(1/12)x100] = 8,333% - Art. 7º, VIII, CF/88
A30: B.03 Aviso Prévio Trabalhado | C30: =ROUND((((100% / 30) * 7) / 12),5) -> 0.01944 | D30: =ROUND($D$13*C30,2) -> 31.76 | E30: [(100% / 30) x 7] / 12 = 1,944% - Art. 7º, XXI, CF/88, 477, 487 e ss. da CLT
A31: B.04 Auxílio Doença | C31: =ROUND((1462463/54796761)/12,5) -> 0.00222 | D31: =ROUND($D$13*C31,2) -> 3.63 | E31: (Benefícios de auxílio_x0002_doença urbano/População Economicamente Ativa Ocupada) / 12 = 0,222% - Art. 59 e ss. Da Lei nº 8.213/91
A32: B.05 Acidente de Trabalho | C32: =ROUND((((100%/30)*15)/12)*(717911/58981000),5) -> 0.00051 | D32: =ROUND($D$13*C32,2) -> 0.83 | E32: {[(100% /30) x 15] / 12} x (nº CAT/População INSS CAT) = 0,051% - Art. 19 a 23 da Lei nº 8.213/91
A33: B.06 Faltas Legais | C33: =ROUND(((100%/30)*1.4947)/12,5) -> 0.00415 | D33: =ROUND($D$13*C33,2) -> 6.78 | E33: [(100% / 30) x 1,4947] / 12 = 0,415% - Art. 473 da CLT
A34: B.07 Férias sobre Licença Maternidade | C34: =ROUND(8.333%*1.416%*4/12,5) -> 0.00039 | D34: =ROUND($D$13*C34,2) -> 0.64 | E34: [(8,333% x 1,416% x 4/12) x 100] = 0,039% - Impacto do item férias sobre a licença maternidade
A35: B.08 Licença Paternidade | C35: =ROUND((((100%/30)*5)/12)*1.416%,5) -> 0.0002 | D35: =ROUND($D$13*C35,2) -> 0.33 | E35: {[(100% /30) x 5] / 12} x 1,416% = 0,020% - Art. 7º, XIX, CF/88 e 10, §1º, da ADCT
A36: TOTAL - GRUPO B | C36: =ROUND(SUM(C28:C35),5) -> 0.19357 | D36: =ROUND(SUM(D28:D35),2) -> 316.23
A38: GRUPO C | C38: % | D38: Valor (R$) | E38: FUNDAMENTO/METODOLOGIA | F38: INFORMAÇÕES COMPLEMENTARES
A39: C.01 Aviso Prévio Indenizado | C39: =ROUND(1/12*5%,5) -> 0.00417 | D39: =ROUND($D$13*C39,2) -> 6.81 | E39: {[0,05x(1/12)]x100} = 0,417% - Art. 7º, XXI, CF/88, 477, 487 e ss. CLT | F39: C.01 - Estimativa de que 5% (cinco por cento) dos empregados serão substituídos durante um ano. C.02 - Estimativa de que 3,4275% dos empregados receberão indenização de acordo com a média nacional de 12 meses (abril 2015 - março 2016) da Taxa de Rotatividade por Nível Geográfico - M.T.E./CAGED. C.03 - Multa de 40% do FGTS em relação aos trabalhadores contratados.
A40: C.02 Indenização Adicional | C40: =ROUND(1/12*3.4275%,5) -> 0.00286 | D40: =ROUND($D$13*C40,2) -> 4.67 | E40: [1/12 x 3,4275%] = 0,286% - Art. 9º da Lei nº 7.238, de 1984
A41: C.03 Indenização (rescisão sem justa causa – multa de 40% do FGTS) | C41: =ROUND(40%*8%,5) -> 0.032 | D41: =ROUND($D$13*C41,2) -> 52.28 | E41: (1x0,40x0,08x100) = 3,200% - Art. 18, §1º da Lei 8.036/90
A42: C.04 Abono de Férias - 1/3 constitucional | C42: =ROUND(1/3/12,5) -> 0.02778 | D42: =ROUND($D$13*C42,2) -> 45.38 | E42: [(1/3) / 12] = 2,778% - Art. 7º, XVII, CF/88
A43: C.05 Abono de Férias - 1/3 constitucional sobre licença maternidade | C43: =ROUND(1/3*C34,5) -> 0.00013 | D43: =ROUND($D$13*C43,2) -> 0.21 | E43: (1/3) x [(8,333% x 1,416% x 4/12) x 100] = 0,013% - Art. 7º, XVII, CF/88
A44: TOTAL - GRUPO C | C44: =ROUND(SUM(C39:C43),5) -> 0.06694 | D44: =ROUND(SUM(D39:D43),2) -> 109.35
...

Sheet Uniforme
A1: UNIFORME
A2: Item | B2: Descrição | C2: Unidade de Medida | D2: Qtde. Anual (a) | E2: Valor Médio Unitário (R$) (b) | F2: Custo Total (R$) (c = a x b)
A3: =1 -> 1 | B3: Conjunto de calça e blusa, em tecido Oxford, de boa qualidade, nas cores azul e branco, que não mancha ao entrar em contato com produtos de limpeza. | C3: Und. | D3: 6 | E3: 143.17 | F3: =ROUND(E3*D3,2) -> 859.02
A4: =A3+1 -> 2 | B4: Meias de algodão | C4: Par. | D4: 5 | E4: 9.79 | F4: =ROUND(E4*D4,2) -> 48.95
A5: =A4+1 -> 3 | B5: Botina couro solado com elástico | C5: Par. | D5: 4 | E5: 97.43 | F5: =ROUND(E5*D5,2) -> 389.72
A6: =A5+1 -> 4 | B6: Crachá com dados variáveis, incluindo foto do empregado, identificação do agente e da empresa. | C6: Unid. | D6: 4 | E6: 8.63 | F6: =ROUND(E6*D6,2) -> 34.52
A7: Custo Global do Uniforme (R$) (∑ do Custo Total) → | F7: =ROUND(SUM(F3:F6),2) -> 1332.21
A8: Custo Mensal do Uniforme (R$) (Custo Global ÷ 12 meses) → | F8: =ROUND(F7/12,2) -> 111.02
A10: FONTE DOS VALORES
A11: Fonte de Preços

Sheet EPIs
A1: Equipamento de Proteção Individuais (EPIs)
A2: Item | B2: Descrição | C2: Unidade de Medida | D2: Qtde. Anual (a) | E2: Valor Médio Unitário (R$) (b) | F2: Custo Total (R$) (c = a x b)
A3: =1 -> 1 | B3: Máscara tripla descartável com elástico com 50 unidades | C3: Caixa | D3: 4 | E3: 24.9 | F3: =ROUND(E3*D3,2) -> 99.6
A4: =A3+1 -> 2 | B4: Protetor facil incolor | C4: Unid. | D4: 2 | E4: 27.25 | F4: =ROUND(E4*D4,2) -> 54.5
A5: Custo Global do EPI (R$) (∑ do Custo Total) → | F5: =ROUND(SUM(F3:F4),2) -> 154.1
A6: Custo Mensal do EPIs (R$) (Custo Global ÷ 12 meses) → | F6: =ROUND(F5/12,2) -> 12.84
A8: FONTE DOS VALORES
A9: Fonte de Preços

Sheet Manutenção Equip. 2
A1: MANUTENÇÃO DE EQUIPAMENTO TIPO 2
A2: Item | B2: Descrição | C2: Unidade de Medida | D2: Quant. Total (a) | E2: Valor Médio Unitário (R$) (b) | F2: Custo Total (R$) (c = a x b)
A3: =1 -> 1 | B3: Roçadeira | C3: Uni. | D3: 1 | E3: 3190.22 | F3: =ROUND(D3*E3,2) -> 3190.22
A4: =A3+1 -> 2 | B4: Kit de laminas nylon 3 e 2 pontas | C4: Uni. | D4: 1 | E4: 118.77 | F4: =ROUND(D4*E4,2) -> 118.77
A5: =A4+1 -> 3 | B5: Carro de limpeza profissional funcional américa que respeita às indicações das NR's 32 e 17 | C5: Uni. | D5: 1 | E5: 1065.5 | F5: =ROUND(D5*E5,2) -> 1065.5
A6: =A5+1 -> 4 | B6: Balde doblô 30lts com espremedor com pressão superior e rodízios para facilitar o deslocamento | C6: Uni. | D6: 1 | E6: 930.8 | F6: =ROUND(D6*E6,2) -> 930.8
A7: Custo Global (R$) (∑ do Custo Total) → | F7: =ROUND(SUM(F3:F6),2) -> 5305.29
A8: Custo Mensal com a Manutenção dos Equipamentos: (k x 83 x V0/VU) → | F8: =ROUND(0.6*83*F7/10000,2) -> 26.42
A9: Custo Mensal com a Depreciação dos Equipamentos: [Valor total dos equipamentos x (1,00-0,20)]/(12x8) → | F9: =ROUND(F7*(1-0.2)/(12*8),2) -> 44.21
A10: Custo Mensal Manut. Depre. dos Equipamentos (R$) (Custo Mensal Manutenção + Depreciação) → | F10: =ROUND(F8+F9,2) -> 70.63
A12: FONTE DOS VALORES
A13: Fonte de Preços
A16: NOTA MANUTENÇÃO DOS EQUIPAMENTOS
A17: Valor do insumo Manutenção de Equipamentos foi obtido adotando-se a metodologia das Tabelas de Composições de Preços para Orçamentação, publicação da Editora Pini, para equipamentos de pequeno porte (aproximadamente 1,5HP), com utilização, em média, de 83h/mês, em conjunto com o Manual de Custos Rodoviários do DNIT, Volume 1, de 2003: K = 0,6 (conforme adotado pelo Sicro2 /DNIT – Manual de Custos Rodoviários – Volume 1, página 83); VU = Vida Útil = 10.000 horas V0 = Valor de aquisição do equipamento
A19: NOTA DEPRECIAÇÃO DOS EQUIPAMENTOS
A20: Para o cálculo do insumo Depreciação de Equipamentos, adotou-se vida útil de 8 anos e valor residual de 20%, com base no Manual de Custos Rodoviários do DNIT, volume 1, de 2003.

Sheet Manutenção Equip. 1
A1: MANUTENÇÃO DE EQUIPAMENTO TIPO 1
A2: Item | B2: Descrição | C2: Unidade de Medida | D2: Quant. Total (a) | E2: Valor Médio Unitário (R$) (b) | F2: Custo Total (R$) (c = a x b)
A3: 1 | B3: Carro de limpeza profissional funcional américa que respeita às indicações das NR's 32 e 17 | C3: Uni. | D3: 1 | E3: 1065.5 | F3: =ROUND(D3*E3,2) -> 1065.5
A4: =A3+1 -> 2 | B4: Balde doblô 30lts com espremedor com pressão superior e rodízios para facilitar o deslocamento | C4: Uni. | D4: 1 | E4: 930.8 | F4: =ROUND(D4*E4,2) -> 930.8
A5: Custo Global (R$) (∑ do Custo Total) → | F5: =ROUND(SUM(F3:F4),2) -> 1996.3
A6: Custo Mensal com a Manutenção dos Equipamentos: (k x 83 x V0/VU) → | F6: =ROUND(0.6*83*F5/10000,2) -> 9.94
A7: Custo Mensal com a Depreciação dos Equipamentos: [Valor total dos equipamentos x (1,00-0,20)]/(12x8) → | F7: =ROUND(F5*(1-0.2)/(12*8),2) -> 16.64
A8: Custo Mensal Manut. Depre. dos Equipamentos (R$) (Custo Mensal Manutenção + Depreciação) → | F8: =ROUND(F6+F7,2) -> 26.58
A10: FONTE DOS VALORES
A11: Fonte de Preços
A14: NOTA MANUTENÇÃO DOS EQUIPAMENTOS
A15: Valor do insumo Manutenção de Equipamentos foi obtido adotando-se a metodologia das Tabelas de Composições de Preços para Orçamentação, publicação da Editora Pini, para equipamentos de pequeno porte (aproximadamente 1,5HP), com utilização, em média, de 83h/mês, em conjunto com o Manual de Custos Rodoviários do DNIT, Volume 1, de 2003: K = 0,6 (conforme adotado pelo Sicro2 /DNIT – Manual de Custos Rodoviários – Volume 1, página 83); VU = Vida Útil = 10.000 horas V0 = Valor de aquisição do equipamento
A17: NOTA DEPRECIAÇÃO DOS EQUIPAMENTOS
A18: Para o cálculo do insumo Depreciação de Equipamentos, adotou-se vida útil de 8 anos e valor residual de 20%, com base no Manual de Custos Rodoviários do DNIT, volume 1, de 2003.

Sheet Material de Limpeza
A1: MATERIAL DE LIMPEZA
A2: Item | B2: Especificação | C2: Unidade de Medida | D2: Qtde Anual | E2: Valor Unitário (R$) | F2: Valor Total (R$)
A3: 1 | B3: Água sanitária de 1ª qualidade. | C3: Litros | D3: 144 | E3: 4.97 | F3: =ROUND(D3*E3,2) -> 715.68
A4: =A3+1 -> 2 | B4: Álcool etílico hidratado 70º gel de 1ª qualidade utilizado para superfícies fixas, composto por desnaturante e água. | C4: Litros | D4: 120 | E4: 13.42 | F4: =ROUND(D4*E4,2) -> 1610.4
A5: =A4+1 -> 3 | B5: Álcool etílico hidratado 70º liquido de 1ª qualidade utilizado para superfícies fixas, composto por desnaturante e água. | C5: Litros | D5: 120 | E5: 9.7 | F5: =ROUND(D5*E5,2) -> 1164
A6: =A5+1 -> 4 | B6: Cabo em alumínio retrátil telescópico 1,40 metros com 2 estágios 22mm com rosca | C6: Unid. | D6: 6 | E6: 115.53 | F6: =ROUND(D6*E6,2) -> 693.18
A7: =A6+1 -> 5 | B7: Haste garra plástica para MOP úmido | C7: Unid. | D7: 6 | E7: 35.95 | F7: =ROUND(D7*E7,2) -> 215.7
A8: =A7+1 -> 6 | B8: Refil loop com cinta 320g | C8: Unid. | D8: 24 | E8: 56.27 | F8: =ROUND(D8*E8,2) -> 1350.48
A9: =A8+1 -> 7 | B9: Esfregona Completo 40cm | C9: Unid. | D9: 8 | E9: 127.12 | F9: =ROUND(D9*E9,2) -> 1016.96
A10: =A9+1 -> 8 | B10: Refil Esfregona para uso seco 40cm | C10: Unid. | D10: 24 | E10: 45.17 | F10: =ROUND(D10*E10,2) -> 1084.08
A11: =A10+1 -> 9 | B11: Pá coletora pop cabo de aluminio | C11: Unid. | D11: 6 | E11: 45.55 | F11: =ROUND(D11*E11,2) -> 273.3
A12: =A11+1 -> 10 | B12: Placa Sinalizadora Piso Molhado | C12: Unid. | D12: 6 | E12: 51.97 | F12: =ROUND(D12*E12,2) -> 311.82
A13: =A12+1 -> 11 | B13: Rodo com 2 borrachas 40 cm de largura com cabo | C13: Unid. | D13: 12 | E13: 41.56 | F13: =ROUND(D13*E13,2) -> 498.72
A14: =A13+1 -> 12 | B14: Vassoura de pelo sintético com 40cm de largura, com cabo | C14: Unid. | D14: 8 | E14: 43.88 | F14: =ROUND(D14*E14,2) -> 351.04
A15: =A14+1 -> 13 | B15: Desodorizado de ambiente Spray, fragrância lavanda, 360 ml | C15: Unid. | D15: 84 | E15: 33.44 | F15: =ROUND(D15*E15,2) -> 2808.96
... A37: =A36+1 -> 35 | B37: Saponáceo liquido, embalagem com 300ml | C37: Unid. | D37: 60 | E37: 12.3 | F37: =ROUND(D37*E37,2) -> 738
A38: Valor Global (R$) | F38: =ROUND(SUM(F3:F37),2) -> 112320.61
B40: CUSTO COM MATERIAL DE LIMPEZA
B41: MATERIAL
B42: Serviços | D42: Valor Anual (R$) | F42: Valor Mensal (R$)
B43: Limpeza | D43: =F38 -> 112320.61 | F43: =ROUND(D43/12,2) -> 9360.05
B44: Total | D44: =D43 -> 112320.61 | F44: =F43 -> 9360.05
B45: Lucro e Despesas Indiretas
B46: Lucro | C46: 0.1 | D46: =ROUND($D$44*C46,2) -> 11232.06 | F46: =ROUND(D46/12,2) -> 936.01
B47: Despesas Indiretas | C47: 0.05 | D47: =ROUND($D$44*C47,2) -> 5616.03 | F47: =ROUND(D47/12,2) -> 468
B48: Total LDI | C48: =ROUND(SUM(C46:C47),5) -> 0.15 | D48: =ROUND(SUM(D46:E47),2) -> 16848.09 | F48: =ROUND(SUM(F46:F47),2) -> 1404.01
B49: Tributação sobre Faturamento
B50: ISS | C50: 0.05 | D50: =ROUND(($D$44+$D$48)/(1-$C$53)*C50,2) -> 7069.99 | F50: =ROUND(D50/12,2) -> 589.17
B51: COFINS | C51: 0.03 | D51: =ROUND(($D$44+$D$48)/(1-$C$53)*C51,2) -> 4241.99 | F51: =ROUND(D51/12,2) -> 353.5
B52: PIS | C52: 0.0065 | D52: =ROUND(($D$44+$D$48)/(1-$C$53)*C52,2) -> 919.1 | F52: =ROUND(D52/12,2) -> 76.59
B53: Total Tributação | C53: =ROUND(SUM(C50:C52),5) -> 0.0865 | D53: =ROUND(SUM(D50:E52),2) -> 12231.08 | F53: =ROUND(SUM(F50:F52),2) -> 1019.26
B54: Custo Total do Material | D54: =ROUND(D44+D48+D53,2) -> 141399.78 | F54: =ROUND(F44+F48+F53,2) -> 11783.32
