Workbook

Sheet Quadro Geral
A1: QUADRO GERAL
A2: 1.0 | B2: Mão de Obra
A3: Subitem | B3: EMPREGADO | G3: Quantidade de Posto (a) | H3: Vlr. Unitário por Empregado R$ (b) | I3: Quantidade de Empregado por Posto (c) | J3: Vlr. Mensal R$ (d= a x b x c) | K3: Vlr. Anual R$ (e= d x 12 meses)
A4: 1.1 | B4: Agente de Limpeza 44hrs Semanais | G4: 1 | H4: ='Agente de Limpeza'!D95 -> 2876.6492 | I4: 4 | J4: =G4*H4*I4 -> 11506.597 | K4: =J4*12 -> 138079.16
A5: 1.2 | B5: Agente de Limpeza com Habilitação em Operar Roçadeira 44hrs Semanais | G5: 1 | H5: ='Agente Limp. Habilitado'!D96 -> 3356.7846 | I5: 1 | J5: =G5*H5*I5 -> 3356.7846 | K5: =J5*12 -> 40281.415
A6: Total Item 1.0 R$ → | G6: =SUM(G4:G5) -> 2 | H6: =SUM(H4:H5) -> 6233.4338 | I6: =SUM(I4:I5) -> 5 | J6: =SUM(J4:J5) -> 14863.381 | K6: =SUM(K4:K5) -> 178360.57
A8: 2.0 | B8: Materiais e Equipamentos | J8: Vlr. Mensal R$ (a) | K8: Vlr. Anual R$ (b= a x 12 meses)
A9: 2.1 | B9: Custo com Material de Limpeza | J9: ='Custo com Material de Limpeza'!C15 -> 6377.16 | K9: =ROUND(J9*12,2) -> 76525.92
A10: Total Item 2.0 R$ → | J10: =SUM(J9) -> 6377.16 | K10: =SUM(K9) -> 76525.92
A12: TOTAL MENSAL (Item 1 + 2) R$ → | J12: =J6+J9 -> 21240.541
A13: TOTAL ANUAL (TOTAL MENSAL X 12 MESES) R$ → | J13: =J12*12 -> 254886.49

Sheet Agente de Limpeza
A1: PLANILHA ORÇAMENTÁRIA DE REFERÊNCIA DE FORMAÇÃO DE CUSTO DE MÃO DE OBRA
A2: Tipo de serviço: | B2: Agente de Limpeza 44hrs Semanais
A3: CBO: | B3: 5143-20
A4: Unidade de medida: | B4: Posto
A5: Quantidade total a contratar (em função da unidade de medida): | B5: 1
A6: Convenção Coletiva de Trabalho/Acordo/ Dissídio Coletivo de Trabalho: | B6: CCT 2020/2020 - N.º Registro no MTE: AM000049/2020 - Data de Registro no MTE: 27/01/2020.
A8: MÃO DE OBRA VINCULADA À EXECUÇÃO CONTRATUAL
A9: I - COMPOSIÇÃO DA REMUNERAÇÃO (R$)
A10: Composição da Remuneração | C10: % | D10: Valor (R$)
A11: Salário Base | C11: - | D11: 1060
A12: Outros | D12: =C12*D11/100 -> 0
A13: TOTAL DA REMUNERAÇÃO (R$) | D13: =SUM(D11:D12) -> 1060
A15: II - ENCARGOS SOCIAIS INCIDENTES SOBRE A REMUNERAÇÃO (R$)
A16: GRUPO A - ENCARGOS | C16: % | D16: Valor (R$)
A17: A.01 SEGURIDADE SOCIAL | C17: 20 | D17: =TRUNC($D$13*C17/100,2) -> 212
A18: A.02 FGTS | C18: 8 | D18: =TRUNC($D$13*C18/100,2) -> 84.8
A19: A.03 SESI/SESC | C19: 1.5 | D19: =TRUNC($D$13*C19/100,2) -> 15.9
A20: A.04 SENAI/SENAC | C20: 1 | D20: =TRUNC($D$13*C20/100,2) -> 10.6
A21: A.05 INCRA | C21: 0.2 | D21: =TRUNC($D$13*C21/100,2) -> 2.12
A22: A.06 SEBRAE | C22: 0.6 | D22: =TRUNC($D$13*C22/100,2) -> 6.36
A23: A.07 Salário Educação | C23: 2.5 | D23: =TRUNC($D$13*C23/100,2) -> 26.5
A24: A.08 Riscos Ambientais do Trabalho – RAT x FAP | C24: 6 | D24: =TRUNC($D$13*C24/100,2) -> 63.6
A25: TOTAL - GRUPO A - ENCARGOS | C25: =SUM(C17:C24) -> 39.8 | D25: =SUM(D17:D22) -> 331.78
A27: GRUPO B | C27: % | D27: Valor (R$)
A28: B.01 13º Salário | C28: 8.333 | D28: =TRUNC($D$13*C28/100,2) -> 88.32
A29: B.02 Férias (sem o abono de 1/3) | C29: 8.333 | D29: =TRUNC($D$13*C29/100,2) -> 88.32
A30: B.03 Aviso Prévio Trabalhado | C30: 1.944 | D30: =TRUNC($D$13*C30/100,2) -> 20.6
A31: B.04 Auxílio Doença | C31: 0.222 | D31: =TRUNC($D$13*C31/100,2) -> 2.35
A32: B.05 Acidente de Trabalho | C32: 0.051 | D32: =TRUNC($D$13*C32/100,2) -> 0.54
A33: B.06 Faltas Legais | C33: 0.415 | D33: =TRUNC($D$13*C33/100,2) -> 4.39
A34: B.07 Férias sobre Licença Maternidade | C34: 0.039 | D34: =TRUNC($D$13*C34/100,2) -> 0.41
A35: B.08 Licença Paternidade | C35: 0.02 | D35: =TRUNC($D$13*C35/100,2) -> 0.21
A36: TOTAL - GRUPO B | C36: =SUM(C28:C35) -> 19.357 | D36: =SUM(D28:D35) -> 205.14
A38: GRUPO C | C38: % | D38: Valor (R$)
A39: C.01 Aviso Prévio Indenizado | C39: 0.417 | D39: =TRUNC($D$13*C39/100,2) -> 4.42
A40: C.02 Indenização Adicional | C40: 0.286 | D40: =TRUNC($D$13*C40/100,2) -> 3.03
A41: C.03 Indenização (rescisão sem justa causa – multa de 40% do FGTS) | C41: 3.2 | D41: =TRUNC($D$13*C41/100,2) -> 33.92
A42: C.04 Abono de Férias - 1/3 constitucional | C42: 2.778 | D42: =TRUNC($D$13*C42/100,2) -> 29.44
A43: C.05 Abono de Férias - 1/3 constitucional sobre licença maternidade | C43: 0.013 | D43: =TRUNC($D$13*C43/100,2) -> 0.13
A44: TOTAL - GRUPO C | C44: =SUM(C39:C43) -> 6.694 | D44: =SUM(D39:D43) -> 70.94
...

Sheet Agente Limp. Habilitado
A1: PLANILHA ORÇAMENTÁRIA DE REFERÊNCIA DE FORMAÇÃO DE CUSTO DE MÃO DE OBRA
A2: Tipo de serviço: | B2: Agente de Limpeza c/ Hab. Roçadeira 44hrs Semanais
A3: CBO: | B3: 5143-20
A4: Unidade de medida: | B4: Posto
A5: Quantidade total a contratar (em função da unidade de medida): | B5: 1
A6: Convenção Coletiva de Trabalho/Acordo/ Dissídio Coletivo de Trabalho: | B6: CCT 2020/2020 - N.º Registro no MTE: AM000049/2020 - Data de Registro no MTE: 27/01/2020.
A8: MÃO DE OBRA VINCULADA À EXECUÇÃO CONTRATUAL
A9: I - COMPOSIÇÃO DA REMUNERAÇÃO (R$)
A10: Composição da Remuneração | C10: % | D10: Valor (R$)
A11: Salário Base | C11: - | D11: 1274.94
A12: Outros | D12: =C12*D11/100 -> 0
A13: TOTAL DA REMUNERAÇÃO (R$) | D13: =SUM(D11:D12) -> 1274.94
A15: II - ENCARGOS SOCIAIS INCIDENTES SOBRE A REMUNERAÇÃO (R$)
A16: GRUPO A - ENCARGOS | C16: % | D16: Valor (R$)
A17: A.01 SEGURIDADE SOCIAL | C17: 20 | D17: =TRUNC($D$13*C17/100,2) -> 254.98
A18: A.02 FGTS | C18: 8 | D18: =TRUNC($D$13*C18/100,2) -> 101.99
A19: A.03 SESI/SESC | C19: 1.5 | D19: =TRUNC($D$13*C19/100,2) -> 19.12
A20: A.04 SENAI/SENAC | C20: 1 | D20: =TRUNC($D$13*C20/100,2) -> 12.74
A21: A.05 INCRA | C21: 0.2 | D21: =TRUNC($D$13*C21/100,2) -> 2.54
A22: A.06 SEBRAE | C22: 0.6 | D22: =TRUNC($D$13*C22/100,2) -> 7.64
A23: A.07 Salário Educação | C23: 2.5 | D23: =TRUNC($D$13*C23/100,2) -> 31.87
A24: A.08 Riscos Ambientais do Trabalho – RAT x FAP | C24: 6 | D24: =TRUNC($D$13*C24/100,2) -> 76.49
A25: TOTAL - GRUPO A - ENCARGOS | C25: =SUM(C17:C24) -> 39.8 | D25: =SUM(D17:D22) -> 399.01
A27: GRUPO B | C27: % | D27: Valor (R$)
A28: B.01 13º Salário | C28: 8.333 | D28: =TRUNC($D$13*C28/100,2) -> 106.24
A29: B.02 Férias (sem o abono de 1/3) | C29: 8.333 | D29: =TRUNC($D$13*C29/100,2) -> 106.24
A30: B.03 Aviso Prévio Trabalhado | C30: 1.944 | D30: =TRUNC($D$13*C30/100,2) -> 24.78
A31: B.04 Auxílio Doença | C31: 0.222 | D31: =TRUNC($D$13*C31/100,2) -> 2.83
A32: B.05 Acidente de Trabalho | C32: 0.051 | D32: =TRUNC($D$13*C32/100,2) -> 0.65
A33: B.06 Faltas Legais | C33: 0.415 | D33: =TRUNC($D$13*C33/100,2) -> 5.29
A34: B.07 Férias sobre Licença Maternidade | C34: 0.039 | D34: =TRUNC($D$13*C34/100,2) -> 0.49
A35: B.08 Licença Paternidade | C35: 0.02 | D35: =TRUNC($D$13*C35/100,2) -> 0.25
A36: TOTAL - GRUPO B | C36: =SUM(C28:C35) -> 19.357 | D36: =SUM(D28:D35) -> 246.77
A38: GRUPO C | C38: % | D38: Valor (R$)
A39: C.01 Aviso Prévio Indenizado | C39: 0.417 | D39: =TRUNC($D$13*C39/100,2) -> 5.31
A40: C.02 Indenização Adicional | C40: 0.286 | D40: =TRUNC($D$13*C40/100,2) -> 3.64
A41: C.03 Indenização (rescisão sem justa causa – multa de 40% do FGTS) | C41: 3.2 | D41: =TRUNC($D$13*C41/100,2) -> 40.79
A42: C.04 Abono de Férias - 1/3 constitucional | C42: 2.778 | D42: =TRUNC($D$13*C42/100,2) -> 35.41
A43: C.05 Abono de Férias - 1/3 constitucional sobre licença maternidade | C43: 0.013 | D43: =TRUNC($D$13*C43/100,2) -> 0.16
A44: TOTAL - GRUPO C | C44: =SUM(C39:C43) -> 6.694 | D44: =SUM(D39:D43) -> 85.31
...

Sheet Uniforme Agente de Limpeza
A1: Agente de Limpeza 44hrs Semanais - UNIFORME
A2: FEMININO
A3: Item | B3: Descrição | D3: Unidade de Medida | E3: Qtde. Anual (a) | F3: Valor Médio Unitário (R$) (b) | H3: Custo Total (R$) (c = a x b)
A4: 1 | B4: Camisa | D4: Und. | E4: 4 | F4: 22.07 | H4: =F4*E4 -> 88.28
A5: =A4+1 -> 2 | B5: Emblema da empresa e do COREN-AM | D5: Und. | E5: 4 | F5: 6.72 | H5: =F5*E5 -> 26.88
A6: =A5+1 -> 3 | B6: Calça | D6: Und. | E6: 2 | F6: 48.38 | H6: =F6*E6 -> 96.76
A7: =A6+1 -> 4 | B7: Meias | D7: Par | E7: 5 | F7: 3.92 | H7: =F7*E7 -> 19.6
A8: =A7+1 -> 5 | B8: Sapato | D8: Par | E8: 2 | F8: 109.4 | H8: =F8*E8 -> 218.8
A9: =A8+1 -> 6 | B9: Crachá | D9: Und. | E9: 1 | F9: 5.34 | H9: =F9*E9 -> 5.34
A10: Custo Global Feminino (R$) (∑ do Custo Total) → | H10: =SUM(H4:I9) -> 455.66
A11: Custo Mensal Feminino (R$) (Custo Global ÷ 12 meses) → | H11: =H10/12 -> 37.971667
A12: MASCULINO
A13: Item | B13: Descrição | D13: Unidade de Medida | E13: Qtde. Anual (a) | F13: Valor Médio Unitário (R$) (b) | H13: Custo Total (R$) (c = a x b)
A14: 1 | B14: Camisa | D14: Und. | E14: 4 | F14: 22.07 | H14: =F14*E14 -> 88.28
A15: =A14+1 -> 2 | B15: Emblema da empresa e do COREN-AM | D15: Und. | E15: 4 | F15: 6.72 | H15: =F15*E15 -> 26.88
A16: =A15+1 -> 3 | B16: Calça | D16: Und. | E16: 2 | F16: 48.38 | H16: =F16*E16 -> 96.76
A17: =A16+1 -> 4 | B17: Meias | D17: Par | E17: 5 | F17: 3.92 | H17: =F17*E17 -> 19.6
A18: =A17+1 -> 5 | B18: Sapato | D18: Par | E18: 2 | F18: 109.4 | H18: =F18*E18 -> 218.8
A19: =A18+1 -> 6 | B19: Crachá | D19: Und. | E19: 1 | F19: 5.34 | H19: =F19*E19 -> 5.34
A20: Custo Global Masculino (R$) (∑ do Custo Total) → | H20: =SUM(H14:I19) -> 455.66
A21: Custo Mensal Masculino (R$) (Custo Global ÷ 12 meses) → | H21: =H20/12 -> 37.971667
A22: Custo Médio Masculino/Feminino (R$) [(Custo Mensal Fem. + Masc.) ÷ 2] → | H22: =(H11+H21)/2 -> 37.971667

Sheet EPI's Agente de Limpeza
A1: Equipamento(s) de Proteção Individual - EPIs
A2: Item | B2: Descrição | F2: Unidade de Medida | G2: Quant. Anual (a) | H2: Valor Médio Unitário (R$) (b) | J2: Custo Total (R$) (c = a x b)
A3: 1 | B3: Márcar respiratória descartável p/vapores orgânicos | F3: Uni. | G3: 12 | H3: 10 | J3: =H3*G3 -> 120
A4: 2 | B4: Luva de vaqueta mista | F4: Uni. | G4: 2 | H4: 15.9 | J4: =H4*G4 -> 31.8
A5: 3 | B5: Protetor facial incolor | F5: Uni. | G5: 2 | H5: 20.33 | J5: =H5*G5 -> 40.66
A6: Custo Global do Grupo (R$) (∑ do Custo Total) → | J6: =SUM(J3:K5) -> 192.46
A7: Custo Mensal de EPI's (R$) (Custo Global ÷ 12 meses) → | J7: =J6/12 -> 16.038333

Sheet Manut. Depre. Agt. Limp. Habil.
A1: Agente de Limpeza com Habilitação em Roçadeira 44 hrs Semanais - EQUIPAMENTO
A2: EQUIPAMENTO
A3: Item | B3: Descrição | F3: Unidade de Medida | G3: Quant. Total (a) | H3: Valor Médio Unitário (R$) (b) | J3: Custo Total (R$) (c = a x b)
A4: 1 | B4: Roçadeira | F4: Uni. | G4: 1 | H4: 2601.46 | J4: =G4*H4 -> 2601.46
A5: =A4+1 -> 2 | B5: Kit de Laminas nylon, 3 e 2 pontas | F5: Uni. | G5: 1 | H5: 284.44 | J5: =G5*H5 -> 284.44
A6: Custo Global (R$) (∑ do Custo Total) → | J6: =SUM(J4:K5) -> 2885.9
A7: Custo Mensal com a Manutenção dos Equipamentos: (k x 83 x V0/VU) → | J7: =0.6*83*J6/10000 -> 14.371782
A8: Custo Mensal com a Depreciação dos Equipamentos: [Valor total dos equipamentos x (1,00-0,20)]/(12x8) → | J8: =J6*(1-0.2)/(12*8) -> 24.049167
A9: Custo Mensal Manut. Depre. dos Equipamentos (R$) (Custo Mensal Manutenção + Depreciação) → | J9: =J7+J8 -> 38.420949

Sheet Custo com Material de Limpeza
A1: Custo com Material de Limpeza
A2: MATERIAL
A3: Serviços | C3: Valor Mensal (R$) | D3: Valor Anual (R$)
A4: Limpeza | C4: ='Materiais de Limpeza'!G35 -> 5065.69 | D4: =C4*12 -> 60788.28
A5: Total | C5: =ROUND(SUM(C4),2) -> 5065.69 | D5: =ROUND(SUM(D4),2) -> 60788.28
A6: Lucro e Despesas Indiretas
A7: Lucro | B7: 0.1 | C7: =ROUND($C$5*B7,2) -> 506.57 | D7: =C7*12 -> 6078.84
A8: Despesas Indiretas | B8: 0.05 | C8: =ROUND($C$5*B8,2) -> 253.28 | D8: =C8*12 -> 3039.36
A9: Total LDI | B9: =SUM(B7:B8) -> 0.15 | C9: =ROUND(SUM(C7:C8),2) -> 759.85 | D9: =ROUND(SUM(D7:D8),2) -> 9118.2
A10: Tributação sobre Faturamento
A11: ISS | B11: 0.05 | C11: =ROUND(($C$5+$C$9)/(1-$B$14)*B11,2) -> 318.86 | D11: =C11*12 -> 3826.32
A12: COFINS | B12: 0.03 | C12: =ROUND(($C$5+$C$9)/(1-$B$14)*B12,2) -> 191.31 | D12: =C12*12 -> 2295.72
A13: PIS | B13: 0.0065 | C13: =ROUND(($C$5+$C$9)/(1-$B$14)*B13,2) -> 41.45 | D13: =C13*12 -> 497.4
A14: Total Tributação | B14: =SUM(B11:B13) -> 0.0865 | C14: =ROUND(SUM(C11:C13),2) -> 551.62 | D14: =ROUND(SUM(D11:D13),2) -> 6619.44
A15: Custo Total do Material (R$) | C15: =ROUND(C5+C9+C14,2) -> 6377.16 | D15: =ROUND(C15*12,2) -> 76525.92

Sheet Materiais de Limpeza
A1: Materiais de Limpeza
A2: Item | B2: Especificação | C2: Unidade de Medida | D2: Marca/Similar | E2: Qtde Mensal | F2: Valor Unitário (R$) | G2: Total Mensal (R$)
A3: 1 | B3: Água sanitária de 1ª qualidade. | C3: Litros | D3: Ypê | E3: 10 | F3: 7.72 | G3: =E3*F3 -> 77.2
A4: =A3+1 -> 2 | B4: Álcool etílico hidratado 70º gel de 1ª qualidade utilizado para superfícies fixas, composto por desnaturante e água. | C4: Litros | D4: YDTECH | E4: 10 | F4: 20.36 | G4: =E4*F4 -> 203.6
A5: =A4+1 -> 3 | B5: Álcool etílico hidratado 70º liquido de 1ª qualidade utilizado para superfícies fixas, composto por desnaturante e água. | C5: Litros | D5: Meyor's | E5: 10 | F5: 9.92 | G5: =E5*F5 -> 99.2
A6: =A5+1 -> 4 | B6: Balde | C6: Und. | D6: Erca Plast | E6: 4 | F6: 17.3 | G6: =E6*F6 -> 69.2
A7: =A6+1 -> 5 | B7: Desinfetante bactericida concentrado, altamente efetivo contra bactérias. Possui alto poder de ação, limpeza e desinfecção. Diluição de 1:25 até 1:100 partes de água. | C7: Litros | D7: Renko | E7: 10 | F7: 20.01 | G7: =E7*F7 -> 200.1
A8: =A7+1 -> 6 | B8: Desodorizador de ambiente Spray, fragância lavanda, 360 ml | C8: Und. | D8: Bom Ar | E8: 7 | F8: 16.92 | G8: =E8*F8 -> 118.44
A9: =A8+1 -> 7 | B9: Detergente para lavar louça - 500ml | C9: Und. | D9: Ypê | E9: 7 | F9: 10.34 | G9: =E9*F9 -> 72.38
A10: =A9+1 -> 8 | B10: Escova de limpar vaso sanitário | C10: Und. | D10: Homeflex | E10: 4 | F10: 22.97 | G10: =E10*F10 -> 91.88
A11: =A10+1 -> 9 | B11: Esfregona 40cm | C11: Und. | D11: Bralimpia | E11: 4 | F11: 85.85 | G11: =E11*F11 -> 343.4
A12: =A11+1 -> 10 | B12: Esponja com dupla face multiuso | C12: Und. | D12: Bombril | E12: 15 | F12: 17.9 | G12: =E12*F12 -> 268.5
A13: =A12+1 -> 11 | B13: Flanela branca tamanho 40x60 cm | C13: Und. | D13: Flabom Têxtil | E13: 12 | F13: 17.39 | G13: =E13*F13 -> 208.68
A14: =A13+1 -> 12 | B14: Inseticida Spray 360 ml | C14: Und. | D14: Baygon | E14: 4 | F14: 23.11 | G14: =E14*F14 -> 92.44
A15: =A14+1 -> 13 | B15: Limpador concentrado multiuso, biodegradável, indicado para limpeza de superfícies, com diluição de até 1:20 partes de água. | C15: Litros | D15: Start | E15: 5 | F15: 7.14 | G15: =E15*F15 -> 35.7
... A34: =A33+1 -> 32 | B34: Vassoura de pelo sintético com 40cm de largura, com cabo | C34: Und. | D34: Condor | E34: 4 | F34: 49.83 | G34: =E34*F34 -> 199.32
A35: Total Geral Mensal (R$) | G35: =SUM(G3:G34) -> 5065.69
