Workbook

Sheet Todos os Itens
A1: ANEXO II DO EDITAL MODELO DE PROPOSTA
A3: Licitação: | C3: Pregão Eletrônico - COREN/AM nº XXX/20XX - SRP
A4: Nome de Fantasia:
A5: Razão Social:
A6: CNPJ: | F6: Optante pelo Simples:
A7: Endereço:
A8: Bairro: | F8: Cidade:
A9: CEP: | F9: E-mail:
A10: Telefone: | F10: Fax:
A11: Banco: | E11: Nome do Favorecido:
A12: Nº da agência bancária: | E12: Conta Bancária: | H12: Tipo de Conta:
A14: 1. OBJETO
A15: 1.1. Registro de preço para contratação de empresa especializada no fornecimento de serviços e produtos sob demanda, abrangendo planejamento operacional, organização, execução, acompanhamento, fornecimento de alimentação e bebidas, infraestrutura, transportes, apoio logístico, ornamentação, outros em geral, para realização de eventos e correlatos pelo Conselho Regional de Enfermagem do Amazonas, pelo período de 12 (doze) meses, conforme condições, quantidades e exigências estabelecidas no Pregão Eletrônico – SRP nº __/20__.
A17: 2. PLANILHA DE PREÇOS
A18: 2.1. Apresentar planilha descritiva com marca, valores unitários, total, junto com total geral do grupo, conforme descrito no Termo de Referência - Anexo I do Edital.
A20: Item Único
A21: ITEM 1 - SERVIÇO DE PROMOÇÃO DE EVENTO
A22: Serviços e Produtos Sob Demanda | H22: Valor Total - R$
A23: Seção I: Serviços Especializados | H23: ='Serviços e Produtos Sob Demanda'!H38 -> 481697.49
A24: Seção II: Equipamento e Material de Apoio | H24: ='Serviços e Produtos Sob Demanda'!H75 -> 316830.51
A25: Seção III: Instalações e Mobiliário | H25: ='Serviços e Produtos Sob Demanda'!H94 -> 80744.62
A26: Seção IV: Transportes | H26: ='Serviços e Produtos Sob Demanda'!H101 -> 22566.66
A27: Seção V: Alimentação e Bebidas | H27: =ROUND(SUM(H28:I30),2) -> 339511.6
A28: Grupo I: Alimentação e Bebidas em Geral | H28: ='Serviços e Produtos Sob Demanda'!H119 -> 325394.1
A29: Grupo II: Frutas In Natura | H29: ='Serviços e Produtos Sob Demanda'!H125 -> 9880
A30: Grupo III: Alimentos Prontos | H30: ='Serviços e Produtos Sob Demanda'!H131 -> 4237.5
A31: Seção VI: Ornamentação | H31: ='Serviços e Produtos Sob Demanda'!H139 -> 25459.3
A32: Seção VII: Gráficos | H32: ='Serviços e Produtos Sob Demanda'!H182 -> 869752.25
A33: Seção VIII: Locação de Espaço, itens 50 e 51 | H33: ='Serviços e Produtos Sob Demanda'!H189 -> 116933.33
A34: Vlr. Global (R$) | H34: =ROUND(H23+H24+H25+H26+H27+H31+H32+H33,2) -> 2253495.8
A36: • Validade da Proposta: ___ (_______) dias, observado o prazo mínimo de 60 (sessenta) dias.
A37: • Nos preços apresentados deverão incluir todos os custos com salários, horas extras, encargos sociais, transportes, uniformes, lucros, encargos fiscais e para-fiscais, despesas diretas e indiretas, bem como aquelas indispensáveis para execução do objeto.
A38: • Declaramos que os serviços aqui ofertados estão de acordo com as especificações do Termo de Referência da presente licitação.
A39: • Declaramos conhecer e nos submetemos integralmente a todas as cláusulas e condições do presente Edital e seus anexos.
A41: VALOR GLOBAL DA PROPOSTA: | D41: =H34 -> 2253495.8 | F41: (___________________________________________)
E44: (Local)/(UF) | G44: =TODAY() -> 45030
A46: ASSINATURA:
C47: (Nome de Responsavel Legal)
C48: Responsavel Legal

Sheet Serviços e Produtos Sob Demanda
A1: PLANILHA ORÇAMENTÁRIA - SERVIÇOS E PRODUTOS SOB DEMANDA
A3: Seção I: Serviços Especializados
A5: Item | B5: Tipo de Serviço ou Produto | C5: ESPECIFICAÇÃO DETALHADAS | D5: Unidade de Medida | E5: Quantidade Mínima | F5: Quantidade Total | G5: Valor Unitário | H5: Valor Total
A6: 1 | B6: Mestre de Cerimônias ou Apresentador | C6: O serviço deverá ser executado por profissional capacitado e com experiência na atividade de mestre de cerimônias, inclusive em cerimônia técnico-científica, no trato com autoridades e habilidade em lidar com pessoas, boa postura, desenvoltura, adequada presença de palco, boa dicção, voz adequada à apresentação de cerimonial, articulação e interpretação de possíveis improvisos no cerimonial. | D6: Diária de 8hrs | E6: 1 | F6: 10 | G6: 540.87 | H6: =ROUND(F6*G6,2) -> 5408.7
A7: =A6+1 -> 2 | B7: Recepcionista | C7: O serviço deverá ser executado por profissional dinâmico, com boa postura, capacitado e com experiência na atividade de recepção a eventos, com habilidade em lidar com pessoas e no trato com autoridades. | D7: Diária de 8hrs | E7: 2 | F7: 80 | G7: 132.21 | H7: =ROUND(F7*G7,2) -> 10576.8
A8: =A7+1 -> 3 | B8: Intérprete consecutivo em Libras (Janela de Libras) | C8: O serviço deverá ser realizado por profissional com experiência comprovada. | D8: Hora | E8: 2 | F8: 134 | G8: 144.23 | H8: =ROUND(F8*G8,2) -> 19326.82
A9: =A8+1 -> 4 | B9: Garçom (garçonete) | C9: O serviço deverá ser executado por profissional capacitado e com experiência na atividade de garçom (garçonete), devidamente uniformizado(a) e qualificado(a) para realizar todo correspondente à função de garçom, inclusive no atendimento à mesa diretora e à sala VIP, com experiência em evento e no trato com autoridades. | D9: Diária de 8hrs | E9: 1 | F9: 20 | G9: 96.16 | H9: =ROUND(F9*G9,2) -> 1923.2
A10: =A9+1 -> 5 | B10: Apresentação Regional Musical Tipo 1 | C10: O serviço deverá ser executado por profissionais capacitados, com experiência e com amplo reconhecimento em apresentação musical no município de Manaus/AM incluído o fornecimento dos equipamentos como instrumento, microfone e demais insumos necessários para apresentação. Referencias: Banda Joy, Orion, Zouk, Realizare ou Moovee do Município de Manaus/AM. | D10: Diária de 4hrs | E10: 1 | F10: 2 | G10: 6000 | H10: =ROUND(F10*G10,2) -> 12000
A11: =A10+1 -> 6 | B11: Apresentação Regional Musical Tipo 2 | C11: O serviço deverá ser executado por profissionais capacitados, com experiência e com amplo reconhecimento em apresentação musical no estado do Amazonas incluído o fornecimento dos equipamentos como instrumento, microfone, equipamento de som, e demais insumos necessários para apresentação. Referencias: Marcia Siqueira, Raízes Cablocas, Nicolas Júnior, Celdo Braga, Cileno, Marcio Cigano e etc. | D11: Hora | E11: 1 | F11: 6 | G11: 466.67 | H11: =ROUND(F11*G11,2) -> 2800.02
A12: =A11+1 -> 7 | B12: DJ | C12: O Serviço deverá ser executado por profissional capacitado e com experiência em apresentação de música ambiente, através de músicas selecionadas para reprodução das mais diferentes composições, previamente gravadas permitindo um ambiente musical harmonioso ao evento, incluído o fornecimento dos equipamentos como instrumento, microfone e demais insumos necessários para apresentação. | D12: Hora | E12: 2 | F12: 16 | G12: 233.33 | H12: =ROUND(F12*G12,2) -> 3733.28
A13: =A12+1 -> 8 | B13: Técnico em iluminação | C13: O serviço deverá ser executado por profissional capacitado e com experiência na atividade de iluminação que será responsável pela instalação, testes, ajustes e manuseio do sistema de iluminação do evento. | D13: Diária de 8hrs | E13: 1 | F13: 13 | G13: 120.19 | H13: =ROUND(F13*G13,2) -> 1562.47
A14: =A13+1 -> 9 | B14: Diretor de TV | C14: Conhecimento e domínio de software como streamyard, Zoom, Vmix, Atem, Livestream, ou ferramentas de lives correlatas. Domínio e operação de mesas de áudio e switches de vídeo (mesa de corte), preparação e testes de equipamentos de áudio e vídeo, como câmeras e microfones, enquadramento (vídeo) de participantes da live, envio de chaves e testes de sinal com as redes sociais junto ao cliente e ao operador técnico. | D14: Diária de 8hrs | E14: 1 | F14: 31 | G14: 750 | H14: =ROUND(F14*G14,2) -> 23250
A15: =A14+1 -> 10 | B15: Operador Técnico de Live | C15: Profissional com domínio em software como streamyard, Zoom, Vmix, Atem, Livestream, ou ferramentas de lives correlatas. Domínio na configuração das máquinas e equipamentos necessários para realização da live. Preparação técnica de todos equipamentos necessários para live. Separação e organização dos equipamentos e cabos para as transmissões, acompanhamento técnico das transmissões preparando, testando e ajustando os sinais de internet e link para realização de sucesso das lives. | D15: Diária de 8hrs | E15: 1 | F15: 31 | G15: 2266.67 | H15: =ROUND(F15*G15,2) -> 70266.77
A16: =A15+1 -> 11 | B16: Operador Técnico de Som | C16: O serviço deverá ser executado por profissional dinâmico e com experiência na atividade de instalação e reparo em equipamentos de som de acordo com a direção do evento, fornecendo manutenção aos equipamentos, auxiliando tecnicamente o DJ, quando necessário e instala, configura, opera e monitora sistemas de gravação. Além de cuidar de todo o sistema de ligação, alinhar o sistema de som antes do evento. | D16: Diária de 8hrs | E16: 1 | F16: 16 | G16: 463.33 | H16: =ROUND(F16*G16,2) -> 7413.28
A17: =A16+1 -> 12 | B17: Locutor/Apresentador de evento | C17: Locutor / apresentador com experiência em eventos com grande público, o profissional deverá Chegar com até 1h30 de Antecedência ao Início do evento até a Conclusão Total dos Trabalhos. | D17: Diária de 6hrs | E17: 1 | F17: 2 | G17: 540.87 | H17: =ROUND(F17*G17,2) -> 1081.74
A18: =A17+1 -> 13 | B18: Coordenador de Evento Esportivo | C18: profissional responsável por coordenar e organizar a estrutura e staffs do evento. | D18: Unid. | E18: 1 | F18: 2 | G18: 400 | H18: =ROUND(F18*G18,2) -> 800
... A37: =A36+1 -> 32 | B37: Serviços de credenciamento eletrônico: | C37: Sistema com software para credenciamento e coleta de dados pessoais, documentos, foto digital e impressão de etiqueta para crachá. Inclui utilização de estação de credenciamento composta por notebooks, impressoras de alta tecnologia (inclusive leitura e impressão de código de barras), servidor próprio, etc. O sistema deve garantir ao contratante exclusividade de acesso às informações gerenciais, estatísticas e gerais dos participantes (ex.: formação acadêmica, faixa etária, ocupação, estado de origem, cursos e atividades que pretende participar durante o evento, etc). | D37: Unid. | E37: 1 | F37: 10 | G37: 6600 | H37: =ROUND(F37*G37,2) -> 66000
A38: SUBTOTAL | H38: =ROUND(SUM(H6:H37),2) -> 481697.49
A40: Seção II: Equipamentos e Material de Apoio
A42: Item | B42: Tipo de Serviço ou Produto | C42: ESPECIFICAÇÃO DETALHADAS | D42: Unidade de Medida | E42: Quantidade Mínima | F42: Quantidade Total | G42: Valor Unitário | H42: Valor Total
A43: =A37+1 -> 33 | B43: Mesa de corte | C43: Locação de mesa de corte para transmissão simultânea da filmagem, com 8 entradas em vídeo composto, monitores de LCD, com saída de monitoração independente por canal, com diretor de corte e equipamento para gravação e armazenamento do vídeo. | D43: Diária de 8hrs | E43: 1 | F43: 50 | G43: 250 | H43: =ROUND(F43*G43,2) -> 12500
A44: =A43+1 -> 34 | B44: Plano de Fundo (Janela de Libras) | C44: Locação de plano de fundo o qual deve ser nas cores azul ou verde em tonalidade compatível para a aplicação da técnica de edição Chroma Keyer, que permite a substituição do cenário do vídeo por uma imagem. | D44: Diária de 8hrs | E44: 1 | F44: 18 | G44: 2333.33 | H44: =ROUND(F44*G44,2) -> 41999.94
A45: =A44+1 -> 35 | B45: Transmissão ao vivo (SDE) | C45: Transmissão ao vivo para web Ao vivo, em tempo real, em canal do Youtube ou outro a ser definido pelo Coren/AM, numa taxa mínima de 512kbps. Deve ser fornecido computador com placa de captura de vídeo e configuração mínimo de Processador Intel Core I5; 8 Gb de Memória RAM; Placa de vídeo 128MB; Teclado ABNT-2; Mouse de 600 dpi; HD de 500 GB; Placa de som; Placa de Rede Gigabit; Placa de Rede WIFI 802.11b/g/n, Unidade DVD-RW; 2 USB 2.0 e 2 USB 3.0; Windows 7 Profissional com Pacote Office 2013 Standard atualizados, monitor LED 22. | D45: Diária de 8hrs | E45: 1 | F45: 50 | G45: 1805.3 | H45: =ROUND(F45*G45,2) -> 90265
A46: =A45+1 -> 36 | B46: Câmera/Filmagem | C46: 04 (quatro) Câmeras (sendo uma para janela de libras) de filmagem e 01 (uma) câmera para fotografia, todos em sistema digital, com capacidade de captura em full HD, com saída em padrão HDMI ou SDI, apoiada em tripé pantográfico, com cabeça móvel, com operadores profissionais e com entrega do produto final em CD/DVD/PEN DRIVE, identificado com o nome do evento, data e hora, com prestação de serviços de técnico treinado e capacitado. | D46: Diária de 8hrs | E46: 1 | F46: 50 | G46: 427.89 | H46: =ROUND(F46*G46,2) -> 21394.5
A47: =A46+1 -> 37 | B47: Ponto de acesso cenário 1 | C47: Até 150 pessoas; Área aprox. de 400 m2; No mínimo 4 Aps (Access Points wireless) switch com no mínimo 12 portas; Link com mínimo de 10 M de download e 2 de upload. | D47: Diária de 10hrs | E47: 1 | F47: 8 | G47: 2445.91 | H47: =ROUND(F47*G47,2) -> 19567.28
A48: =A47+1 -> 38 | B48: Ponto de acesso cenário 2 | C48: Até 150 pessoas; Área aprox. de 400 m2; No mínimo 4 Aps (Access Points wireless) switch com no mínimo 12 portas; Link com mínimo de 10 M de download e 2 de upload. | D48: Diária de 04hrs | E48: 1 | F48: 10 | G48: 3270.44 | H48: =ROUND(F48*G48,2) -> 32704.4
A49: =A48+1 -> 39 | B49: Projetor Multimídia 3000 ansi-lumens | C49: Projetor multimídia, tipo Datashow, de 3000 ansi-lumens, incluso: cabos adaptadores, controle remoto e ponteira laser. | D49: Diária de 8hrs | E49: 1 | F49: 20 | G49: 186.3 | H49: =ROUND(F49*G49,2) -> 3726
A50: =A49+1 -> 40 | B50: Tela de projeção 180’’ | C50: (3,66m x 2,74m) com tripé ou pendurada. | D50: Diária de 8hrs | E50: 1 | F50: 20 | G50: 98.56 | H50: =ROUND(F50*G50,2) -> 1971.2
A51: =A50+1 -> 41 | B51: Locação Equipamento de som – (eventos de grande porte – Corridas) | C51: Equipamento de som – Locação de: 04 Cxs de som alta mod. referência RCF 15pl; 04 Cxs de som p/ tripé mod. referência RCF 15pl; 02 Cxs de sub SB850 2x18; 04 Tripés de alumínio p/ Cx; 01 Mesa digital mod. referência Yamaha 01v; 02 CDJ mod. referência Pioneer 400; 01 Mixer mod. referência Pioneer 400; 01 Malão com cabeamento; 01 Rack de potências mod. referência Pawertec; 01 Rack distribuidor de energia. | D51: Diária de 8hrs | E51: 1 | F51: 3 | G51: 6833.33 | H51: =ROUND(F51*G51,2) -> 20499.99
A52: =A51+1 -> 42 | B52: Microfone Tipo 1 | C52: Microfone dee mão sem fio, UHF profissional, com fornecimento contínuo de bateria e com pedestal de mesa ou de chão, quando necessários. | D52: Diária de 8hrs | E52: 1 | F52: 60 | G52: 48.18 | H52: =ROUND(F52*G52,2) -> 2890.8
A53: =A52+1 -> 43 | B53: Microfone Tipo 2 | C53: Microfone de lapela sem fio, UHF Profissional, com fornecimento contínuo de bateria. | D53: Diária de 8hrs | E53: 1 | F53: 30 | G53: 56 | H53: =ROUND(F53*G53,2) -> 1680
A54: =A53+1 -> 44 | B54: Microfone – TIPO 3 Imagem Ilustrativa: | C54: Microfone estilo “gooseneck”: com dispositivo "uso da palavra" e fornecimento contínuo de bateria. | D54: Diária de 8hrs | E54: 1 | F54: 10 | G54: 51.08 | H54: =ROUND(F54*G54,2) -> 510.8
A55: =A54+1 -> 45 | B55: Rádio de comuicação Imagem Ilustrativa: | C55: Locação de rádio comunicação de 18 canais e alcance de 8 Km. | D55: Unid. | E55: 2 | F55: 40 | G55: 65 | H55: =ROUND(F55*G55,2) -> 2600
... A74: =A73+1 -> 64 | B74: Porta Banner Imagem Ilustrativa: | C74: Porta Banner Retrátil, pantográfico. | D74: Unid. | E74: 1 | F74: 3 | G74: 296.67 | H74: =ROUND(F74*G74,2) -> 890.01
A75: SUBTOTAL | H75: =ROUND(SUM(H43:H74),2) -> 316830.51
A77: Seção III: Instalação e Mobiliário
A79: Item | B79: Tipo de Serviço ou Produto | C79: ESPECIFICAÇÃO DETALHADAS | D79: Unidade de Medida | E79: Quantidade Mínima | F79: Quantidade Total | G79: Valor Unitário | H79: Valor Total
A80: =A74+1 -> 65 | B80: Cadeiras Tipo 1 (Plásticas) Imagem Ilustrativa: | C80: Locação de cadeiras de plástico com braço. | D80: Unid. | E80: 5 | F80: 300 | G80: 5.75 | H80: =ROUND(F80*G80,2) -> 1725
A81: =A80+1 -> 66 | B81: Cadeiras Tipo 2 (Tiffany) Imagem Ilustrativa: | C81: Locação de cadeiras tipo Tiffany, na cor tabaco, branco ou transparente. | D81: Unid. | E81: 10 | F81: 600 | G81: 8 | H81: =ROUND(F81*G81,2) -> 4800
A82: =A81+1 -> 67 | B82: Mesas Tipo 1 (Plásticas) Imagem Ilustrativa: | C82: Locação de mesas de plástico, Mod. Ref: Goyana | D82: Unid. | E82: 3 | F82: 100 | G82: 5 | H82: =ROUND(F82*G82,2) -> 500
...
