Workbook

Sheet Grupo 1
A1: Grupo 1
A2: Item | B2: Descrição | C2: Unidade | D2: Qtd. = (A) | E2: Vlr. Unitário - R$ = (B) | F2: Vlr. Total - R$ = (C = A x B)
A3: 1 | B3: Informativo COREN/AM, 8 páginas, confeccionado em papel couchê 120g, medindo 21,00 29,7 x cm, impressão 4X4 cores, sem verniz, acabamento de 1 dobra e 2 grampos, sendo o pedido mínimo de 2.000 und. Arte a ser definida pelo COREN-AM posteriormente. | C3: UND | D3: 40000 | E3: 1.73 | F3: =D3*E3 -> 69200
A4: =A3+1 -> 2 | B4: Informativo Coren/AM (opção 2), 4 páginas, confeccioado em papel couchê fosco 150g, medindo tamanho A4, com verniz localizado, acabamento de 1 vinco e 2 grampos. Sendo o pedido mínimo de 1.000 und. | C4: UND | D4: 5000 | E4: 4.76 | F4: =D4*E4 -> 23800
A5: =A4+1 -> 3 | B5: Informativo Coren-AM (opção 3), Com dobras tipo enrolada com vinco totalizando 4 vincos. Papel couchê 150g fosco. Tamanho 59,4 x 42,0cm. Sendo o pedido mínimo de 300 und. | C5: UND | D5: 20000 | E5: 2.38 | F5: =D5*E5 -> 47600
A6: =A5+1 -> 4 | B6: Pasta para Certificado, impresso em policromia, formato 23 cm x 32 cm de medida, no papel gramatura 180gr, com abas internas coladas. Arte a ser definida pelo COREN-AM posteriormente. Sendo o pedido mínimo de 1.000 und. | C6: UND | D6: 20000 | E6: 1.62 | F6: =D6*E6 -> 32400
A7: =A6+1 -> 5 | B7: Envelope tipo carta, com impressão 4x0, formato ofício, em papel Sulfite 90g, medindo 11,3x23cm (Aba Superior) com a logomarca do COREN/AM impressa. Com acabamento de corte/vinco e cola. Arte a ser definida pelo COREN-AM posteriormente. Sendo o pedido mínimo de 200 und. | C7: UND | D7: 5200 | E7: 1.38 | F7: =D7*E7 -> 7176
A8: =A7+1 -> 6 | B8: Envelope tipo saco Grande, com impressão 4x0 em papel Sulfite 90g, formato medindo 24x34cm com logomarca do COREN/AM impressa. Com acabamento de corte/vinco e cola. Arte a ser definida pelo COREN-AM posteriormente. Sendo o pedido mínimo de 200 und. | C8: UND | D8: 6000 | E8: 2.05 | F8: =D8*E8 -> 12300
A9: =A8+1 -> 7 | B9: Envelope tipo saco Extra, com impressão 4x0, em papel Sulfite 90g, medindo 31x41cm com logomarca do COREN/AM impressa. Com acabamento de corte/vinco e cola. Arte a ser definida pelo COREN-AM posteriormente. Sendo o pedido mínimo de 200 und. | C9: UND | D9: 2000 | E9: 2.98 | F9: =D9*E9 -> 5960
A10: =A9+1 -> 8 | B10: Capa de Prontuário Quadro I com título superior “CONSELHO REGIONAL DE ENFERMAGEM” em TRIPLEX 250g, laminação frente e verso, na cor Verde Claro, Tamanho 31,5x48cm, Corte Vinco, com abas internas coladas. Arte a ser definida pelo COREN-AM posteriormente. | C10: UND | D10: 50000 | E10: 2.1 | F10: =D10*E10 -> 105000
A11: =A10+1 -> 9 | B11: Capa de Prontuário Quadro II com título superior “CONSELHO REGIONAL DE ENFERMAGEM” em TRIPLEX 250g, laminação frente e verso, na cor Azul Claro, Tamanho 31,5x48cm, Corte Vinco, com abas internas coladas. Arte a ser definida pelo COREN-AM posteriormente. | C11: UND | D11: 60000 | E11: 2.09 | F11: =D11*E11 -> 125400
A12: =A11+1 -> 10 | B12: Capa de Prontuário Quadro III com título superior “CONSELHO REGIONAL DE ENFERMAGEM” em TRIPLEX 250g, laminação frente e verso, na cor Vermelho, Tamanho 31,5x48cm, Corte Vinco, com abas internas coladas. Arte a ser definida pelo COREN-AM posteriormente. | C12: UND | D12: 10000 | E12: 2.3 | F12: =D12*E12 -> 23000
A13: =A12+1 -> 11 | B13: Capa de Processo Administrativo – PAD em, com título superior “CONSELHO REGIONAL DE ENFERMAGEM” em TRIPLEX 250g, laminação frente e verso, na cor Amarelo, Tamanho 31,5x48cm, Corte Vinco. Arte a ser definida pelo COREN-AM posteriormente. | C13: UND | D13: 6000 | E13: 2.5 | F13: =D13*E13 -> 15000
A14: =A13+1 -> 12 | B14: Capa de Processo Econômico Financeiro – PEF em, com título superior “CONSELHO REGIONAL DE ENFERMAGEM” em TRIPLEX 250g, laminação frente e verso, na cor Verde, Tamanho 31,5x48cm, Corte Vinco. Arte a ser definida pelo COREN-AM posteriormente. | C14: UND | D14: 4000 | E14: 2.35 | F14: =D14*E14 -> 9400
A15: =A14+1 -> 13 | B15: Capa de Processo de Jurídico com título superior “CONSELHO REGIONAL DE ENFERMAGEM” em TRIPLEX 250g, laminação frente e verso, na cor Preta, Tamanho 31,5x48cm, Corte Vinco, com abas internas coladas. Arte a ser definida pelo COREN-AM posteriormente. | C15: UND | D15: 100 | E15: 2.23 | F15: =D15*E15 -> 223
... A29: =A28+1 -> 27 | B29: Bloco de Formulário de Termo de Fiscalização de Retorno. Com duas vias uma e papel autocopiativo impressão carbonado. Medindo 22x32cm. Com 250 folhas. (Arte Definida pelo Coren-AM). | C29: UND | D29: 300 | E29: 12.55 | F29: =D29*E29 -> 3765
A30: Total Geral do Grupo 1 - R$ = (∑ da Coluna) → | F30: =SUM(F3:F29) -> 646314

Sheet Grupo 2
A1: Grupo 2
A2: Item | B2: Descrição | C2: Unidade | D2: Qtd. = (A) | E2: Vlr. Unitário - R$ = (B) | F2: Vlr. Total - R$ = (C = A x B)
A3: ='Grupo 1'!A29+1 -> 28 | B3: Crachá Identificação Personalizado Empregados. Vertical identificado. Material PVC 0,5mm Cristal. Impressão 4x0. Verniz Cristal Frente e Verso, medindo 8,5x5,4cm. | C3: Uni. | D3: 50 | E3: 10.1 | F3: =D3*E3 -> 505
A4: =A3+1 -> 29 | B4: Acabamento incluso: Furo para presilha. Arte a ser definida pelo COREN-AM posteriormente. Sendo o pedido mínimo de 01 und. | C4: Uni. | D4: 100 | E4: 9.85 | F4: =D4*E4 -> 985
A5: =A4+1 -> 30 | B5: Crachá identificação personalizado com Dados Variáveis. Vertical identificado. Material PVC 0,5mm Cristal. Impressão 4x0. Verniz Cristal Frente e Verso, medindo 8,5x5,4cm. Acabamento incluso: Furo para presilha. Arte a ser definida pelo COREN-AM posteriormente. p/ visitante, presilha para crachá com alça plástica jacaré. Sendo o pedido mínimo de 01 und. | C5: Uni. | D5: 50 | E5: 10.5 | F5: =D5*E5 -> 525
A6: =A5+1 -> 31 | B6: Cordão prendedor de crachá, material 100% poliéster, cor azul marinho SUBLIMADO, com dizeres COREN-AM, com letras impressas na cor branca em toda extensão do cordão e em ambos os lados, com medidas de comprimento: 85cm, largura: 12mm. Com presilha tipo jacaré cromado. Sendo o pedido mínimo de 01 und. | C6: Uni. | D6: 20000 | E6: 5.35 | F6: =D6*E6 -> 107000
A7: =A6+1 -> 32 | B7: Crachá de evento personalizado: em PVC flexível transparente com abertura superior vertical acompanhando cordão de silicone com ponteira metálica, já instalada no crachá (dimensão: 10cm x 13cm, impressão 4 cores diretamente com PVC). Arte a ser definida pelo COREN-AM posteriormente. Sendo o pedido mínimo de 50 und. | C7: Uni. | D7: 5000 | E7: 11 | F7: =D7*E7 -> 55000
A8: =A7+1 -> 33 | B8: Medalha em acrílico transparente com adesivo medindo 5x7cm. Arte a ser definida pelo COREN-AM posteriormente. Sendo o pedido mínimo de 200 und. | C8: Uni. | D8: 50 | E8: 110 | F8: =D8*E8 -> 5500
A9: =A8+1 -> 34 | B9: Placas de homenagem em acrílico transparente 5mm com altura de 20 x 25cm de largura, com base de 30 x 10cm incolor, acabamento cortado e polido, adesivada com a logamarca, arte aplicada em jateamento e adesivagem.Com gravação de nome personalizado na base da placa. Arte a ser definida pelo COREN-AM posteriormente. Sendo o pedido mínimo de 01 und. | C9: Uni. | D9: 2 | E9: 582.5 | F9: =D9*E9 -> 1165
A10: =A9+1 -> 35 | B10: Quadro para Informativo com 8 bolsas. As bolsas são feitas em acrílico cristal na posição vertical divididas em 2 linhas e 4 colunas, em um fundo de acrílico cristal medindo 73,8x107cm. o quadro pode ser confeccionado em diversos tamanhos e cores. o painel pode conter as bolsas em diferentes tamanhos e posição horizontal a fixação do quadro é feita com parafusos. Os tamanhos das bolsas em (a4). Instalação de responsabilidade da gráfica. | C10: Uni. | D10: 2 | E10: 1382.5 | F10: =D10*E10 -> 2765
A11: =A10+1 -> 36 | B11: Mural Painel com 12 bolsas para avaliação de 12 meses de Gestão. As bolsas são feitas em acrílico cristal na posição vertical divididas em 3 linhas e 4 colunas, em um fundo de acrílico cristal. O quadro medindo 90x160cm. O painel deve conter 10 bolsas (na vertical de tamanho A4) e 2 bolsas (na horizontal de tamanho A3) fixação do quadro é feita com parafusos. Instalação de responsabilidade da gráfica. | C11: Uni. | D11: 2 | E11: 900 | F11: =D11*E11 -> 1800
A12: =A11+1 -> 37 | B12: Quadro com 12 bolsas para fotos. As bolsas são feitas em acrílico cristal na posição vertical divididas em 3 linhas e 4 colunas, em um fundo de acrílico cristal. Medindo 90x160cm. Tamanhos das bolsas em (A4). A fixação do quadro será parafusada. Instalação de responsabilidade da gráfica. | C12: Uni. | D12: 1 | E12: 1365 | F12: =D12*E12 -> 1365
A13: =A12+1 -> 38 | B13: Painel em acrílico (placa confeccionada individualmente) Cada Placa acrílica no tamanho A2. Por trás de cada placa deve conter foto impressa com nome de cada presidente da Autarquia (20 placas no total). No tamanho de 40x30cm. Papel fotográfico. Instalação de responsabilidade da gráfica. | C13: Uni. | D13: 1 | E13: 2830 | F13: =D13*E13 -> 2830
A14: =A13+1 -> 39 | B14: Lâmpada da Enfermagem Vazada. Na cor verde em 3D. Medindo 1,70cm largura x 90cm altura, com espessura de 5cm. Material em acrílico envelopado na cor verde (fosco ou com brilho), com estrutura para ser anexado na parede. Instalação de responsabilidade da gráfica. | C14: Uni. | D14: 1 | E14: 1895 | F14: =D14*E14 -> 1895
A15: =A14+1 -> 40 | B15: Letras Personalizadas. Letras individuais com a seguinte frase: “GALERIA DE PRESIDENTE” letras no modelo bastão, também no material em aço inox ou escovado no formato 3D (fosco ou com brilho) com estrutura para ser anexada na parede. Letra em caixa na chapa galvanizada com espessura de 3cm colada com dupla face de alta performance. Na altura de 20cm de cada letra. Com instalação de responsabilidade da gráfica. | C15: Uni. | D15: 3 | E15: 650 | F15: =D15*E15 -> 1950
... A25: =A24+1 -> 50 | B25: Backdrop. Com painel montável em estrutura de alumínio sem envelopamento. Impressão em lona vinilica em impressão digital com tinta solvente ou UV 4x4, tensionada na estrutura com furos laterais para fixação da lona na estrutura de alumínio. Medindo 2,00m x 2,00m. Arte a ser definida pelo Coren-AM. Instalação de responsabilidade da gráfica. | C25: Uni. | D25: 4 | E25: 1320 | F25: =D25*E25 -> 5280
A26: Total Geral do Grupo 2 - R$ = (∑ da Coluna) → | F26: =SUM(F3:F25) -> 209230.3

Sheet Grupo 3
A1: Grupo 3
A2: Item | B2: Descrição | C2: Unidade | D2: Qtd. = (A) | E2: Vlr. Unitário - R$ = (B) | F2: Vlr. Total - R$ = (C = A x B)
A3: ='Grupo 2'!A25+1 -> 51 | B3: Caneta personalizada, esferográfica de plástico para brinde, com corpo branco, apoio e clip colorido, ponteira e acionador prata brilhante, gravação em silk screen, tampografia, ou impressão uv digital sem limite de cores, com logo do COREN-AM. Arte a ser definida pelo COREN-AM posteriormente. Sendo o pedido mínimo de 100 und. | C3: Uni. | D3: 15000 | E3: 3.7 | F3: =D3*E3 -> 55500
A4: =A3+1 -> 52 | B4: Garrafa Squeeze personalizada para eventos. Material de plástico de 500ml. Serigrafada de acordo com o evento. (Arte a ser definida pelo Coren-AM). Sendo o pedido mínimo de 100 und. | C4: Uni. | D4: 1000 | E4: 9.2 | F4: =D4*E4 -> 9200
A5: =A4+1 -> 53 | B5: Boton Personalizado. 25mm. Redondo. Com alfinete no verso. Papel fotográfico (arte a ser definida pelo Coren-AM). Sendo o pedido mínimo de 100 und. | C5: Uni. | D5: 30000 | E5: 4.95 | F5: =D5*E5 -> 148500
A6: =A5+1 -> 54 | B6: Agenda Personalizada. Capa-dura tipo espiral. Elástico para fechamento. Páginas em papel off-set. No tamanho de 15x13cm. Com calendário do ano divido em meses 12 meses. Contendo 200 folhas no miolo, na cor preto e branco. (Arte da capa definida pelo Coren-AM). Sendo o pedido mínimo de 10 und. | C6: Uni. | D6: 200 | E6: 31.75 | F6: =D6*E6 -> 6350
A7: =A6+1 -> 55 | B7: Broche Personalizado com Brasão: Broche com logomarca e Brasão oficial da república em cunhagem artística em metal alto ou baixo relevo 20mm. Fechamento Borboleta Silicone. | C7: Uni. | D7: 100 | E7: 34.75 | F7: =D7*E7 -> 3475
A8: =A7+1 -> 56 | B8: Broche Personalizado com Brasão: Broche com logomarca e Brasão oficial do Coren-AM em cunhagem artística em metal alto ou baixo relevo 20mm. Fechamento Borboleta Silicone. | C8: Uni. | D8: 50 | E8: 28.15 | F8: =D8*E8 -> 1407.5
A9: Total Geral do Grupo 3 - R$ = (∑ da Coluna) → | F9: =SUM(F3:F8) -> 224432.5

Sheet Grupo 4
A1: Grupo 4
A2: Item | B2: Descrição | C2: Unidade | D2: Qtd. = (A) | E2: Vlr. Unitário - R$ = (B) | F2: Vlr. Total - R$ = (C = A x B)
A3: ='Grupo 3'!A8+1 -> 57 | B3: Confecção de camisas de malha de algodão em cores diversas com logo do COREN-AM padrão: tamanho P; tamanho M; tamanho G; e tamanho GG. Na etiqueta deve constar as especificações da camisa, bem como o CNPJ da empresa. Arte a ser definida pelo COREN-AM posteriormente. Sendo o pedido mínimo de 100 und. | C3: Uni. | D3: 5000 | E3: 28 | F3: =D3*E3 -> 140000
A4: =A3+1 -> 58 | B4: Camisa tipo gola polo, em cores diversas mangas curtas, tecido 60% poliéster e 40% algodão com abotoadura. O nome do COREN-AM será bordado no peito no lado esquerdo com logomarca padrão do COREN-AM nas cores cinza, azul e branco e silk com a logomarca nas costas. Tamanhos de quantidades: P; M; G; GG e Extra G. Com costura super reforçada, etiquetas com CNPJ do fabricante com designação do material utilizado, numeração e instruções de manutenção de lavagem. Tecido de alta qualidade que deverá manter a forma ajustada, sem deformação, independente do movimento da pessoa que está usando ou da lavagem da peça. Arte a ser definida pelo COREN-AM posteriormente. Sendo o pedido mínimo de 100 und. | C4: Uni. | D4: 1000 | E4: 40 | F4: =D4*E4 -> 40000
A5: =A4+1 -> 59 | B5: Camisas tipo Dry Fit de manga curta e numeração avulsa em tecido acetinado ou outro tecido de menor valor. A camisa será de cor a ser definida pelo COREN-AM e deve ter o slogam: Corrida da Enfermagem COREN-AM e na arte colorida (definida pelo COREN-AM): tamanhos P; M; tamanho G, GG e tamanho Extra G. A impressão deve ser frente e verso e na etiqueta deve constar as especificações da camisa, bem como CNPJ da empresa na etiqueta. Arte a ser definida pelo COREN-AM posteriormente. Sendo o pedido mínimo de 100 und. | C5: Uni. | D5: 5000 | E5: 26.97 | F5: =D5*E5 -> 134850
A6: =A5+1 -> 60 | B6: Camisas com sublimação total do tipo Dry Fit nos tamanhos P, M, G e GG. Podendo ser com gola “V” ou gola “normal”. Com ou sem manga. Arte a ser definida pelo Coren-AM. Sendo o pedido mínimo de 10 und. | C6: Uni. | D6: 300 | E6: 36 | F6: =D6*E6 -> 10800
A7: Total Geral do Grupo 4 - R$ = (∑ da Coluna) → | F7: =SUM(F3:F6) -> 325650

Sheet Grupo 5
A1: Grupo 5
A2: Item | B2: Descrição | C2: Unidade | D2: Qtd. = (A) | E2: Vlr. Unitário - R$ = (B) | F2: Vlr. Total - R$ = (C = A x B)
A3: ='Grupo 4'!A6+1 -> 61 | B3: Adesivo para carro, com logo do Coren-AM, medindo 10x10 cm, em material de VINIL, para painel do carro. Arte a ser definida pelo COREN-AM posteriormente. Sendo o pedido mínimo de 1.000 und. | C3: Uni. | D3: 10000 | E3: 12 | F3: =D3*E3 -> 120000
A4: =A3+1 -> 62 | B4: Adesivo vinilico, 400g, com acabamento fosco com impressão digital em cores e aplicado sobre chapa de aço de 80cmx80cm. | C4: Uni. | D4: 1 | E4: 39.7 | F4: =D4*E4 -> 39.7
A5: =A4+1 -> 63 | B5: Plotagem de Automóvel Oficial do COREN-AM. Lateral medindo 2,15x40cm. Traseira escrito “Fiscalização” medindo 70x12cm. | C5: Uni. | D5: 2 | E5: 256.4 | F5: =D5*E5 -> 512.8
A6: =A5+1 -> 64 | B6: Adesivos Constitucionais. Personalizado com arte definida pelo Coren-AM. Podendo variar de tamanhos de 5cm até 10cm. Em diversos tamanhos para brindes e com corte feito pela gráfica. Sendo o pedido mínimo de 100 und. | C6: Uni. | D6: 1000 | E6: 8.05 | F6: =D6*E6 -> 8050
A7: Total Geral do Grupo 5 - R$ = (∑ da Coluna) → | F7: =SUM(F3:F6) -> 128602.5

Sheet Grupo 6
A1: Grupo 6
A2: Item | B2: Descrição | C2: Unidade | D2: Qtd. = (A) | E2: Vlr. Unitário - R$ = (B) | F2: Vlr. Total - R$ = (C = A x B)
A3: ='Grupo 5'!A6+1 -> 65 | B3: Livro de Código de Ética e Legislações, impresso da capa em policromia no formato 11,5x15cm, papel couchê 200gr, laminação frente e verso, com miolo no papel sufit 24 kg em uma cor e 22 lâminas, com 82 páginas frente e verso, folhas internas em papel branco tipo A4 75g/m2 impresso em off- set, uma só cor. Diagramação, formatação, e ortografia por conta da gráfica. Arte da capa a ser definida pelo COREN-AM posteriormente. | C3: Uni. | D3: 30000 | E3: 32.9 | F3: =D3*E3 -> 987000
A4: =A3+1 -> 66 | B4: Encadernação de Livro Razão, em Capa Dura na cor: Verde, com até 200 folhas, com Gravação Dourada na Frente e Lombada. Arte a ser definida pelo COREN-AM posteriormente. | C4: Uni. | D4: 26 | E4: 52.8 | F4: =D4*E4 -> 1372.8
A5: =A4+1 -> 67 | B5: Livro de Registros de RT, em capa dura, medindo 22x32cm, com páginas numeradas, numeração em frente e verso, impressão em offset, papel branco 85g. Capa revestida em percalux. Com 500 folhas | C5: Uni. | D5: 1 | E5: 41.75 | F5: =D5*E5 -> 41.75
A6: Total Geral do Grupo 6 - R$ = (∑ da Coluna) → | F6: =SUM(F3:F5) -> 988414.55
