Workbook

Sheet Quantidade de Cargo
A1: QUANTIDADE DE POSTO POR DEPARTAMENTO/SETOR
A2: CARGO | B2: QUANTIDADE DE EMPREGADOS | R2: Total por Cargo
B3: Controladoria Geral - CONTROL | C3: Corregedoria de Processos Éticos | D3: Departamento de Administração e Gestão de Pessoal - DAGEPE | E3: Departamento Contábil - DECON | F3: Departamento de Fiscalização - DEFIS | G3: Departamento de Registro e Cadastro - DRC | H3: Departamento Financeiro - DEFIN | I3: Procuradoria Geral - PROGER | J3: Secretaria Executiva - SECEX | K3: Setor de Arquivo e Protocolo | L3: Setor de Comunicação - SECOM | M3: Setor de Divida Ativa | N3: Setor de Licitações e Contratos - SELIC | O3: Setor de Negociação | P3: Setor de Ouvidoria | Q3: Setor de Tecnologia de Informação - STI
A4: Analista de Departamento Pessoal | B4: - | C4: - | D4: 1 | E4: - | F4: - | G4: - | H4: - | I4: - | J4: - | K4: - | L4: - | M4: - | N4: - | O4: - | P4: - | Q4: - | R4: =ROUND(SUM(B4:Q4),2) -> 1
A5: Analista Jurídico | B5: - | C5: - | D5: - | E5: - | F5: - | G5: - | H5: - | I5: 2 | J5: - | K5: - | L5: - | M5: - | N5: - | O5: - | P5: - | Q5: - | R5: =ROUND(SUM(B5:Q5),2) -> 2
A6: Arquivista | B6: - | C6: - | D6: - | E6: - | F6: - | G6: - | H6: - | I6: - | J6: - | K6: 1 | L6: - | M6: - | N6: - | O6: - | P6: - | Q6: - | R6: =ROUND(SUM(B6:Q6),2) -> 1
A7: Assistente Administrativo I | B7: - | C7: 1 | D7: - | E7: - | F7: - | G7: 6 | H7: - | I7: - | J7: 2 | K7: 2 | L7: - | M7: 1 | N7: 1 | O7: 2 | P7: 1 | Q7: - | R7: =ROUND(SUM(B7:Q7),2) -> 16
A8: Assistente Administrativo II | B8: 3 | C8: - | D8: 2 | E8: - | F8: 1 | G8: 1 | H8: 1 | I8: - | J8: 1 | K8: - | L8: - | M8: 1 | N8: 1 | O8: - | P8: - | Q8: - | R8: =ROUND(SUM(B8:Q8),2) -> 11
A9: Assistente Contábil II | B9: - | C9: - | D9: - | E9: 1 | F9: - | G9: - | H9: - | I9: - | J9: - | K9: - | L9: - | M9: - | N9: - | O9: - | P9: - | Q9: - | R9: =ROUND(SUM(B9:Q9),2) -> 1
A10: Assistente de Comunicação | B10: - | C10: - | D10: - | E10: - | F10: - | G10: - | H10: - | I10: - | J10: - | K10: - | L10: 1 | M10: - | N10: - | O10: - | P10: - | Q10: - | R10: =ROUND(SUM(B10:Q10),2) -> 1
A11: Assistente Financeiro I | B11: - | C11: - | D11: - | E11: - | F11: - | G11: - | H11: 1 | I11: - | J11: - | K11: - | L11: - | M11: - | N11: - | O11: - | P11: - | Q11: - | R11: =ROUND(SUM(B11:Q11),2) -> 1
A12: Copeiro II | B12: - | C12: - | D12: 1 | E12: - | F12: - | G12: - | H12: - | I12: - | J12: - | K12: - | L12: - | M12: - | N12: - | O12: - | P12: - | Q12: - | R12: =ROUND(SUM(B12:Q12),2) -> 1
A13: Designer Gráfico | B13: - | C13: - | D13: - | E13: - | F13: - | G13: - | H13: - | I13: - | J13: - | K13: - | L13: 1 | M13: - | N13: - | O13: - | P13: - | Q13: - | R13: =ROUND(SUM(B13:Q13),2) -> 1
A14: Motorista | B14: - | C14: - | D14: - | E14: - | F14: - | G14: - | H14: - | I14: - | J14: 2 | K14: - | L14: - | M14: - | N14: - | O14: - | P14: - | Q14: - | R14: =ROUND(SUM(B14:Q14),2) -> 2
A15: Oficial de Manutenção | B15: - | C15: - | D15: 1 | E15: - | F15: - | G15: - | H15: - | I15: - | J15: - | K15: - | L15: - | M15: - | N15: - | O15: - | P15: - | Q15: - | R15: =ROUND(SUM(B15:Q15),2) -> 1
A16: Técnico de Suporte I | B16: - | C16: - | D16: - | E16: - | F16: - | G16: - | H16: - | I16: - | J16: - | K16: - | L16: - | M16: - | N16: - | O16: - | P16: - | Q16: 1 | R16: =ROUND(SUM(B16:Q16),2) -> 1
A17: Técnico de Suporte II | B17: - | C17: - | D17: - | E17: - | F17: - | G17: - | H17: - | I17: - | J17: - | K17: - | L17: - | M17: - | N17: - | O17: - | P17: - | Q17: 1 | R17: =ROUND(SUM(B17:Q17),2) -> 1
A18: Total por Setor/Departamento | B18: =ROUND(SUM(B4:B15),2) -> 3 | C18: =ROUND(SUM(C4:C15),2) -> 1 | D18: =ROUND(SUM(D4:D15),2) -> 5 | E18: =ROUND(SUM(E4:E15),2) -> 1 | F18: =ROUND(SUM(F4:F15),2) -> 1 | G18: =ROUND(SUM(G4:G15),2) -> 7 | H18: =ROUND(SUM(H4:H15),2) -> 2 | I18: =ROUND(SUM(I4:I15),2) -> 2 | ... Q18: =ROUND(SUM(Q4:Q15),2) -> 0 | R18: =ROUND(SUM(R4:R17),2) -> 41
A21: QUANTIDADE DE CARGOS POR ESCOLARIDADE
A22: CARGO | B22: QUANTIDADE DE EMPREGADOS | E22: Total por Cargo
B23: Nível Fundamental | C23: Nível Médio | D23: Nível Superior
A24: Analista de Departamento Pessoal | B24: - | C24: - | D24: 1 | E24: =ROUND(SUM(B24:D24),2) -> 1
A25: Analista Jurídico | B25: - | C25: - | D25: 2 | E25: =ROUND(SUM(B25:D25),2) -> 2
A26: Arquivista | B26: - | C26: - | D26: 1 | E26: =ROUND(SUM(B26:D26),2) -> 1
A27: Assistente Administrativo I | B27: - | C27: 16 | D27: - | E27: =ROUND(SUM(B27:D27),2) -> 16
A28: Assistente Administrativo II | C28: - | D28: 11 | E28: =ROUND(SUM(B28:D28),2) -> 11
A29: Assistente Contábil II | B29: - | C29: - | D29: 1 | E29: =ROUND(SUM(B29:D29),2) -> 1
A30: Assistente de Comunicação | B30: - | C30: - | D30: 1 | E30: =ROUND(SUM(B30:D30),2) -> 1
A31: Assistente Financeiro I | B31: - | C31: 1 | D31: - | E31: =ROUND(SUM(B31:D31),2) -> 1
A32: Copeiro II | B32: 1 | C32: - | E32: =ROUND(SUM(B32:D32),2) -> 1
A33: Designer Gráfico | B33: - | C33: - | D33: 1 | E33: =ROUND(SUM(B33:D33),2) -> 1
A34: Motorista | B34: - | C34: 2 | D34: - | E34: =ROUND(SUM(B34:D34),2) -> 2
A35: Oficial de Manutenção | B35: 1 | C35: - | D35: - | E35: =ROUND(SUM(B35:D35),2) -> 1
A36: Técnico de Suporte I | B36: - | C36: 1 | D36: - | E36: =ROUND(SUM(B36:D36),2) -> 1
A37: Técnico de Suporte II | B37: - | C37: - | D37: 1 | E37: =ROUND(SUM(B37:D37),2) -> 1
A38: Total por Escolaridade | B38: =ROUND(SUM(B24:B35),2) -> 2 | C38: =ROUND(SUM(C24:C35),2) -> 19 | D38: =ROUND(SUM(D24:D35),2) -> 18 | E38: =ROUND(SUM(E24:E37),2) -> 41

Sheet Quantidade de Hora-Extra
A1: HORA-EXTRA ESTIMADA POR ANO
A2: LEGISLAÇÃO | B2: DECRETO-LEI Nº 5.452, DE 1º DE MAIO DE 1943 Art. 59. A duração diária do trabalho poderá ser acrescida de horas extras, em número não excedente de duas, por acordo individual, convenção coletiva ou acordo coletivo de trabalho.
A3: Cargo | B3: Quantidade de Posto | C3: Quantidade de Hora Extra Anual de 50% Por Posto | D3: Quantidade de Hora Extra Anual de 100% Por Posto | E3: Quantidade Total de Hora Extra Anual Por Posto | F3: Quantidade Total de Hora Extra Anual Por Cargo
A4: =#REF! -> #REF! | B4: 1 | C4: 84 | D4: 36 | E4: =ROUND(SUM(C4:D4),2) -> 120 | F4: =ROUND(B4*E4,2) -> 120
A5: =#REF! -> #REF! | B5: 2 | C5: 21 | D5: 9 | E5: =ROUND(SUM(C5:D5),2) -> 30 | F5: =ROUND(B5*E5,2) -> 60
A6: =#REF! -> #REF! | B6: 1 | C6: 21 | D6: 9 | E6: =ROUND(SUM(C6:D6),2) -> 30 | F6: =ROUND(B6*E6,2) -> 30
A7: =#REF! -> #REF! | B7: 1 | C7: 40 | D7: 4 | E7: =ROUND(SUM(C7:D7),2) -> 44 | F7: =ROUND(B7*E7,2) -> 44
A8: =#REF! -> #REF! | B8: 2 | C8: 40 | D8: 4 | E8: =ROUND(SUM(C8:D8),2) -> 44 | F8: =ROUND(B8*E8,2) -> 88
A9: Total | B9: =ROUND(SUM(B3:B8),2) -> 7 | C9: =ROUND(SUM(C3:C8),2) -> 206 | D9: =ROUND(SUM(D3:D8),2) -> 62 | E9: =ROUND(SUM(E3:E8),2) -> 268 | F9: =ROUND(SUM(F3:F8),2) -> 342

Sheet Dados de Passagens e Diarias
A1: PASSAGENS ESTIMADAS | D1: DIARIAS ESTIMADAS
A2: Departamento/Setor | B2: QUANTIDADE ANUAL | D2: Departamento/Setor | E2: QUANTIDADE ANUAL
A3: SECOM | B3: 6 | D3: SECEX | E3: 50
A4: Total | B4: =ROUND(SUM(B3:B3),2) -> 6 | D4: SECOM | E4: 15
D5: Total | E5: =ROUND(SUM(E3:E4),2) -> 65

Sheet Modelo de Proposta
A1: Licitação: | C1: Pregão Eletrônico - COREN/AM nº XXX/20XX
A2: Nome de Fantasia:
A3: Razão Social:
A4: CNPJ: | F4: Optante pelo Simples:
A5: Endereço:
A6: Bairro: | F6: Cidade:
A7: CEP: | F7: E-mail:
A8: Telefone: | F8: Fax:
A9: Banco: | E9: Nome do Favorecido:
A10: Nº da agência bancária: | E10: Conta Bancária: | H10: Tipo de Conta:
A12: 1. OBJETO
A13: 1.1. Contratação de pessoa jurídica especializada para prestação, de forma contínua, de serviços terceirizados de portaria, com dedicação exclusiva de mão de obra, na sede do Conselho Regional de Enfermagem do Amazonas, localizados na cidade de Manaus, estado do Amazonas, conforme condições, quantidades e exigências estabelecidas no Pregão Eletrônico nº __/20__.
A15: 2. PLANILHA DE PREÇOS
A16: 2.1. Apresentar planilha descritiva com marca, valores unitários, total, junto com total geral do grupo, conforme descrito no Termo de Referência - Anexo I do Edital.
A18: Item Único
A19: Item | B19: Descrição | F19: Valor Mensal (R$) | H19: Valor Anual (R$)
A20: 1 | B20: Mão de obra | F20: ='Quadro Geral de Custo'!F12:F12 -> 8036.12 | H20: ='Quadro Geral de Custo'!F13:F13 -> 96433.44
A21: Vlr. Global (R$) | H21: =ROUND(SUM(H20:I20),2) -> 96433.44
A23: • Validade da Proposta: ___ (_______) dias, observado o prazo mínimo de 60 (sessenta) dias.
A24: • Nos preços apresentados deverão incluir todos os custos com salários, horas extras, encargos sociais, transportes, uniformes, lucros, encargos fiscais e para-fiscais, despesas diretas e indiretas, bem como aquelas indispensáveis para execução do objeto.
A25: • Declaramos que os serviços aqui ofertados estão de acordo com as especificações do Termo de Referência da presente licitação.
A26: • Declaramos conhecer e nos submetemos integralmente a todas as cláusulas e condições do presente Edital e seus anexos.
A28: VALOR GLOBAL DA PROPOSTA: | D28: =H21 -> 96433.44 | F28: (___________________________________________)
E31: (Local)/(UF) | G31: =TODAY() -> 44995
A33: ASSINATURA:
C34: (Nome de Responsavel Legal)
C35: Responsavel Legal

Sheet Quadro Geral de Custo
A1: QUADRO GERAL DE CUSTO
A2: 1.0 | B2: Mão de Obra
A3: Subitem | B3: Cargo | D3: Nº de Posto (a) | E3: Vlr. Unitário por Empregado R$ (b) | F3: Vlr. Mensal R$ (c = a x b) | G3: Vlr. Anual R$ (d = c x 12 meses) | H3: Vlr. Bienal R$ (e = d x 2 anos)
A4: 1.1. | B4: ='Agente de Portaria'!B2:D2 -> Agente de Portaria | D4: 2 | E4: ='Agente de Portaria'!D90 -> 3969.31 | F4: =ROUND(D4*E4,2) -> 7938.62 | G4: =ROUND(F4*12,2) -> 95263.44 | H4: =ROUND(G4*2,2) -> 190526.88
A5: Subtotal Item 1.0 (∑ dos subitens do item 1) R$ → | D5: =ROUND(SUM(D4:D4),2) -> 2 | E5: =ROUND(SUM(E4:E4),2) -> 3969.31 | F5: =ROUND(SUM(F4:F4),2) -> 7938.62 | G5: =ROUND(SUM(G4:G4),2) -> 95263.44 | H5: =ROUND(SUM(H4:H4),2) -> 190526.88
A7: 2.0 | B7: Custo por Demanda | F7: Vlr. Mensal R$ (f) | G7: Vlr. Anual R$ (g = f x 12 meses) | H7: Vlr. Bienal R$ (h = g x 2 anos)
A8: 2.1. | B8: Horas Extras | F8: ='Previsão de Hora-Extra'!F13 -> 97.5 | G8: =ROUND(F8*12,2) -> 1170 | H8: =ROUND(G8*2,2) -> 2340
A9: Subtotal Item 2.0 R$ → | F9: =ROUND(SUM(F8:F8),2) -> 97.5 | G9: =ROUND(SUM(G8:G8),2) -> 1170 | H9: =ROUND(SUM(H8:H8),2) -> 2340
A11: TOTAIS DO CONTRATO - MÃO DE OBRA + CUSTO POR DEMANDA
A12: TOTAL MENSAL (Item 1 + Item 2) R$ → | F12: =ROUND(F5+F9,2) -> 8036.12
A13: TOTAL ANUAL (Total Mensal X 12 Meses) R$ → | F13: =ROUND(F12*12,2) -> 96433.44
A14: TOTAL BIANUAL (Total Mensal X 24 Meses) R$ → | F14: =ROUND(F12*24,2) -> 192866.88
F17: =TODAY() -> 44995

Sheet Agente de Portaria
A1: PLANILHA ORÇAMENTÁRIA DE REFERÊNCIA DE FORMAÇÃO DE CUSTO DE MÃO DE OBRA
A2: Tipo de serviço: | B2: Agente de Portaria
A3: CBO: | B3: 5174-10
A4: Unidade de medida: | B4: Posto de 44hrs Semanais
A5: Quantidade total a contratar (em função da unidade de medida): | B5: 2
A6: Convenção Coletiva de Trabalho/Acordo/ Dissídio Coletivo de Trabalho: | B6: Convenção Coletiva de Trabalho (CCT) - Nº Registro no MTE: AM000042/2021; Termo Aditivo a Convenção Coletiva de Trabalho (TACCT) - Nº Registro no MTE: AM000067/2022 e AM000399/2022.
A8: MÃO DE OBRA VINCULADA À EXECUÇÃO CONTRATUAL
A9: SEÇÃO I - COMPOSIÇÃO DA REMUNERAÇÃO (R$)
A10: Composição da Remuneração | C10: % | D10: Valor (R$)
A11: Salário Base | C11: - | D11: 1300.08
A12: Outros | D12: =C12*D11/100 -> 0
A13: TOTAL DA REMUNERAÇÃO (R$) | D13: =ROUND(SUM(D11:D12),2) -> 1300.08
A15: SEÇÃO II - ENCARGOS SOCIAIS INCIDENTES SOBRE A REMUNERAÇÃO (R$)
A16: GRUPO A - ENCARGOS | C16: % | D16: Valor (R$)
A17: A.01 SEGURIDADE SOCIAL | C17: 0.2 | D17: =ROUND($D$13*C17,2) -> 260.02
A18: A.02 FGTS | C18: 0.08 | D18: =ROUND($D$13*C18,2) -> 104.01
A19: A.03 SESI/SESC | C19: 0.015 | D19: =ROUND($D$13*C19,2) -> 19.5
A20: A.04 SENAI/SENAC | C20: 0.01 | D20: =ROUND($D$13*C20,2) -> 13
A21: A.05 INCRA | C21: 0.002 | D21: =ROUND($D$13*C21,2) -> 2.6
A22: A.06 SEBRAE | C22: 0.006 | D22: =ROUND($D$13*C22,2) -> 7.8
A23: A.07 Salário Educação | C23: 0.025 | D23: =ROUND($D$13*C23,2) -> 32.5
A24: A.08 Riscos Ambientais do Trabalho – RAT x FAP | C24: 0.06 | D24: =ROUND($D$13*C24,2) -> 78
A25: TOTAL - GRUPO A - ENCARGOS | C25: =ROUND(SUM(C17:C24),5) -> 0.398 | D25: =ROUND(SUM(D17:D24),2) -> 517.43
A27: GRUPO B | C27: % | D27: Valor (R$)
A28: B.01 13º Salário | C28: =ROUND(1/12,5) -> 0.08333 | D28: =ROUND($D$13*C28,2) -> 108.34
A29: B.02 Férias (incluindo 1/3 constitucional) | C29: =ROUND((1/3)/12,5) -> 0.02778 | D29: =ROUND($D$13*C29,2) -> 36.12
A30: B.03 Aviso Prévio Trabalhado | C30: =ROUND((((100% / 30) * 7) / 12),5) -> 0.01944 | D30: =ROUND($D$13*C30,2) -> 25.27
A31: B.04 Auxílio Doença | C31: =ROUND((5/30)/12,5) -> 0.01389 | D31: =ROUND($D$13*C31,2) -> 18.06
A32: B.05 Acidente de Trabalho | C32: =ROUND(((15/30/12)*0.08),5) -> 0.00333 | D32: =ROUND($D$13*C32,2) -> 4.33
A33: B.06 Faltas Legais | C33: =ROUND((1/30)/12,5) -> 0.00278 | D33: =ROUND($D$13*C33,2) -> 3.61
A34: B.07 Férias sobre Licença Maternidade | C34: =ROUND(0.1111*0.02*0.333,5) -> 0.00074 | D34: =ROUND($D$13*C34,2) -> 0.96
A35: B.08 Licença Paternidade | C35: =ROUND(((5/30)/12)*0.015,5) -> 0.00021 | D35: =ROUND($D$13*C35,2) -> 0.27
A36: B.09 Férias adquiridas (não usufruídas) | C36: =ROUND(1/12,5) -> 0.08333 | D36: =ROUND($D$13*C36,2) -> 108.34
A37: TOTAL - GRUPO B | C37: =ROUND(SUM(C28:C36),5) -> 0.23483 | D37: =ROUND(SUM(D28:D36),2) -> 305.3
A39: GRUPO C | C39: % | D39: Valor (R$)
A40: C.01 Aviso Prévio Indenizado | C40: =ROUND(1/12*5%,5) -> 0.00417 | D40: =ROUND($D$13*C40,2) -> 5.42
A41: C.02 Indenização Adicional | C41: =ROUND(0.02*(1/12),5) -> 0.00167 | D41: =ROUND($D$13*C41,2) -> 2.17
A42: C.03 Indenização (rescisão sem justa causa – multa de 40% do FGTS) | C42: =ROUND(40%*8%,5) -> 0.032 | D42: =ROUND($D$13*C42,2) -> 41.6
A43: TOTAL - GRUPO C | C43: =ROUND(SUM(C40:C42),5) -> 0.03784 | D43: =ROUND(SUM(D40:D42),2) -> 49.19
A45: GRUPO D | C45: % | D45: Valor (R$)
...

Sheet Uniforme
A1: UNIFORME
A2: Masculino
A3: Item | B3: Descrição | C3: Unidade de Medida | D3: Qtde. Anual (a) | E3: Valor Médio Unitário (R$) (b) | F3: Custo Total (R$) (c = a x b)
A4: =1 -> 1 | B4: Camisa Gola Polo | C4: Und. | D4: 8 | E4: 55.46 | F4: =ROUND(E4*D4,2) -> 443.68
A5: =A4+1 -> 2 | B5: Calça Jeans Masculina | C5: Und. | D5: 6 | E5: 90.7 | F5: =ROUND(E5*D5,2) -> 544.2
A6: Custo Global Uniforme Masculino (R$) (∑ do Custo Total) → | F6: =ROUND(SUM(F4:F5),2) -> 987.88
A7: Feminino
A8: Item | B8: Descrição | C8: Unidade de Medida | D8: Qtde. Anual (a) | E8: Valor Médio Unitário (R$) (b) | F8: Custo Total (R$) (c = a x b)
A9: =1 -> 1 | B9: Camisa Gola Polo | C9: Und. | D9: 8 | E9: 55.46 | F9: =ROUND(E9*D9,2) -> 443.68
A10: =A9+1 -> 2 | B10: Calça Jeans Feminina | C10: Und. | D10: 6 | E10: 90.7 | F10: =ROUND(E10*D10,2) -> 544.2
A11: Custo Global Uniforme Feminino (R$) (∑ do Custo Total) → | F11: =ROUND(SUM(F9:F10),2) -> 987.88
A12: Custo Global Médio do Uniforme (R$) [(Uniforme Masc. + Uniforme Fem.) ÷ 2] | F12: =ROUND((F6+F11)/2,2) -> 987.88
A13: Custo Mensal Uniforme (R$) (Custo Global ÷ 12 meses) → | F13: =ROUND(F12/12,2) -> 82.32

Sheet Manutenção Equip.
A1: MANUTENÇÃO DE EQUIPAMENTO
A2: Item | B2: Descrição | C2: Unidade de Medida | D2: Quant. Total (a) | E2: Valor Médio Unitário (R$) (b) | F2: Custo Total (R$) (c = a x b)
A3: =1 -> 1 | B3: Livro de ocorrêcias | C3: Uni. | D3: 1 | E3: 99.78 | F3: =ROUND(D3*E3,2) -> 99.78
A4: =A3+1 -> 2 | B4: Lanterna recarregável | C4: Uni. | D4: 1 | E4: 67 | F4: =ROUND(D4*E4,2) -> 67
A5: =A4+1 -> 3 | B5: Radio Intercomunicador Completo (com bateria e carregador) | C5: Uni. | D5: 1 | E5: 1924 | F5: =ROUND(D5*E5,2) -> 1924
A6: =A5+1 -> 4 | B6: Apito | C6: Uni. | D6: 1 | E6: 24.79 | F6: =ROUND(D6*E6,2) -> 24.79
A7: Custo Global (R$) (∑ do Custo Total) → | F7: =ROUND(SUM(F3:F6),2) -> 2115.57
A8: Custo Mensal com a Manutenção dos Equipamentos: (k x 83 x V0/VU) → | F8: =ROUND(0.6*83*F7/10000,2) -> 10.54
A9: Custo Mensal com a Depreciação dos Equipamentos: [Valor total dos equipamentos x (1,00-0,20)]/(12x8) → | F9: =ROUND(F7*(1-0.2)/(12*8),2) -> 17.63
A10: Custo Mensal Manut. Depre. dos Equipamentos (R$) (Custo Mensal Manutenção + Depreciação) → | F10: =ROUND(F8+F9,2) -> 28.17

Sheet Previsão de Hora-Extra
A1: PREVISÃO DE CUSTO HORAS-EXTRAS
A2: GRUPO A - ESTIMATIVA DE HORAS EXTRAORDINARIAS ANUAL - SABADO E DIAS ÚTEIS
A3: Item | B3: Cargo | C3: Qtde. de Profissionais - a | D3: Qtde. de Horas-Extras - b | E3: Valor da Hora Extra (R$) - c | F3: Custo (R$) - d = a x b x c
A4: 1 | B4: ='Hr-Extra Agente de Portaria'!B2:D2 -> Agente de Portaria | C4: ='Quantidade de Hora-Extra'!B4 -> 1 | D4: 40 | E4: ='Hr-Extra Agente de Portaria'!D89 -> 17.55 | F4: =ROUND(C4*D4*E4,2) -> 702
A5: SUBTOTAL - GRUPO A (R$) | C5: =ROUND(SUM(C4:C4),2) -> 1 | D5: =ROUND(SUM(D4:D4),2) -> 40 | E5: =ROUND(SUM(E4:E4),2) -> 17.55 | F5: =ROUND(SUM(F4:F4),2) -> 702
A7: GRUPO B - ESTIMATIVA DE HORAS EXTRAORDINARIAS ANUAL - DOMINGOS E FERIADOS
A8: Item | B8: Cargo | C8: Qtde. de Profissionais - e | D8: Qtde. de Horas-Extras - f | E8: Valor da Hora Extra (R$) - g | F8: Custo (R$) - h = e x f x g
A9: 1 | B9: =B4 -> Agente de Portaria | C9: =C4 -> 1 | D9: 20 | E9: ='Hr-Extra Agente de Portaria'!D90 -> 23.4 | F9: =ROUND(C9*D9*E9,2) -> 468
A10: SUBTOTAL - GRUPO B (R$) | C10: =ROUND(SUM(C9:C9),2) -> 1 | D10: =ROUND(SUM(D9:D9),2) -> 20 | E10: =ROUND(SUM(E9:E9),2) -> 23.4 | F10: =ROUND(SUM(F9:F9),2) -> 468
A12: TOTAL GERAL ANUAL DE HORAS EXTRAS (Subtotal Grupo A+B) R$ → | F12: =ROUND(F5+F10,2) -> 1170
A13: TOTAL GERAL MENSAL DE HORAS EXTRAS (Total Geral Anual ÷ 12 meses) R$ → | F13: =ROUND(F12/12,2) -> 97.5

Sheet Hr-Extra Agente de Portaria
A1: PLANILHA ORÇAMENTÁRIA DE REFERÊNCIA DE FORMAÇÃO DE CUSTO DE SERVIÇO EXTRAODINÁRIO
A2: Tipo de serviço: | B2: ='Agente de Portaria'!B2:D2 -> Agente de Portaria
A3: CBO: | B3: ='Agente de Portaria'!B3:D3 -> 5174-10
A4: Unidade de medida: | B4: Posto
A5: Quantidade total a contratar (em função da unidade de medida): | B5: 1
A6: Convenção Coletiva de Trabalho/Acordo/ Dissídio Coletivo de Trabalho: | B6: ='Agente de Portaria'!B6:D6 -> Convenção Coletiva de Trabalho (CCT) - Nº Registro no MTE: AM000042/2021; Termo Aditivo a Convenção Coletiva de Trabalho (TACCT) - Nº Registro no MTE: AM000067/2022 e AM000399/2022.
A8: MÃO DE OBRA VINCULADA À EXECUÇÃO CONTRATUAL
A9: SEÇÃO I - COMPOSIÇÃO DA REMUNERAÇÃO (R$)
A10: Composição da Remuneração | C10: % | D10: Valor (R$)
A11: Salário Base | C11: - | D11: ='Agente de Portaria'!D11 -> 1300.08
A12: Outros | D12: =C12*D11/100 -> 0
A13: TOTAL DA REMUNERAÇÃO (R$) | D13: =ROUND(SUM(D11:D12),2) -> 1300.08
A15: SEÇÃO II - ENCARGOS SOCIAIS INCIDENTES SOBRE A REMUNERAÇÃO (R$)
A16: GRUPO A - ENCARGOS | C16: % | D16: Valor (R$)
A17: A.01 SEGURIDADE SOCIAL | C17: 0.2 | D17: =ROUND($D$13*C17,2) -> 260.02
A18: A.02 FGTS | C18: 0.08 | D18: =ROUND($D$13*C18,2) -> 104.01
A19: A.03 SESI/SESC | C19: 0.015 | D19: =ROUND($D$13*C19,2) -> 19.5
A20: A.04 SENAI/SENAC | C20: 0.01 | D20: =ROUND($D$13*C20,2) -> 13
A21: A.05 INCRA | C21: 0.002 | D21: =ROUND($D$13*C21,2) -> 2.6
A22: A.06 SEBRAE | C22: 0.006 | D22: =ROUND($D$13*C22,2) -> 7.8
A23: A.07 Salário Educação | C23: 0.025 | D23: =ROUND($D$13*C23,2) -> 32.5
A24: A.08 Riscos Ambientais do Trabalho – RAT x FAP | C24: ='Agente de Portaria'!C24 -> 0.06 | D24: =ROUND($D$13*C24,2) -> 78
A25: TOTAL - GRUPO A - ENCARGOS | C25: =ROUND(SUM(C17:C24),5) -> 0.398 | D25: =ROUND(SUM(D17:D24),2) -> 517.43
A27: GRUPO B | C27: % | D27: Valor (R$)
A28: B.01 13º Salário | C28: =ROUND(1/12,5) -> 0.08333 | D28: =ROUND($D$13*C28,2) -> 108.34
A29: B.02 Férias (incluindo 1/3 constitucional) | C29: =ROUND((1/3)/12,5) -> 0.02778 | D29: =ROUND($D$13*C29,2) -> 36.12
A30: B.03 Aviso Prévio Trabalhado | C30: =ROUND((((100% / 30) * 7) / 12),5) -> 0.01944 | D30: =ROUND($D$13*C30,2) -> 25.27
A31: B.04 Auxílio Doença | C31: =ROUND((5/30)/12,5) -> 0.01389 | D31: =ROUND($D$13*C31,2) -> 18.06
A32: B.05 Acidente de Trabalho | C32: =ROUND(((15/30/12)*0.08),5) -> 0.00333 | D32: =ROUND($D$13*C32,2) -> 4.33
A33: B.06 Faltas Legais | C33: =ROUND((1/30)/12,5) -> 0.00278 | D33: =ROUND($D$13*C33,2) -> 3.61
A34: B.07 Férias sobre Licença Maternidade | C34: =ROUND(0.1111*0.02*0.333,5) -> 0.00074 | D34: =ROUND($D$13*C34,2) -> 0.96
A35: B.08 Licença Paternidade | C35: =ROUND(((5/30)/12)*0.015,5) -> 0.00021 | D35: =ROUND($D$13*C35,2) -> 0.27
A36: B.09 Férias adquiridas (não usufruídas) | C36: =ROUND(1/12,5) -> 0.08333 | D36: =ROUND($D$13*C36,2) -> 108.34
A37: TOTAL - GRUPO B | C37: =ROUND(SUM(C28:C36),5) -> 0.23483 | D37: =ROUND(SUM(D28:D36),2) -> 305.3
A39: GRUPO C | C39: % | D39: Valor (R$)
A40: C.01 Aviso Prévio Indenizado | C40: =ROUND(1/12*5%,5) -> 0.00417 | D40: =ROUND($D$13*C40,2) -> 5.42
A41: C.02 Indenização Adicional | C41: =ROUND(0.02*(1/12),5) -> 0.00167 | D41: =ROUND($D$13*C41,2) -> 2.17
A42: C.03 Indenização (rescisão sem justa causa – multa de 40% do FGTS) | C42: =ROUND(40%*8%,5) -> 0.032 | D42: =ROUND($D$13*C42,2) -> 41.6
A43: TOTAL - GRUPO C | C43: =ROUND(SUM(C40:C42),5) -> 0.03784 | D43: =ROUND(SUM(D40:D42),2) -> 49.19
A45: GRUPO D | C45: % | D45: Valor (R$)
...
